{"text_format":"1","workbook":"xlsx","n_sheets":17,"sheets":["入力シート","交付申請書","事業計画書（実技ワークショップ）","事業計画書（枯損樹木の復旧)","事業計画書（維持管理設備等の修理・修繕）","概算払理由書","誓約書（新）","誓約書","実績報告","事業報告書（実技ワークショップ）","事業報告書（枯損樹木の復旧）","事業報告書（維持管理設備等の修理・修繕）","活動状況等の写真","補助金支払請求書","変更承認申請書","中止承認申請書","市町等"],"not_rendered":{"charts":0,"images":2,"macros":1,"external_links":1,"defined_names":17,"comments":0,"pivot_tables":0},"unopened":[],"bounds":{"document_bytes":16777216,"sheet_cells":100000,"rows_first":2000,"rows_last":500,"rows_between":2000,"halvings":0,"cell_chars":16384,"cell_head_chars":4096},"cells_cut":0,"cells_raw":0,"read":"whole","date_system":"1900"}

{"sheet":"入力シート","index":0,"n_rows":68,"n_cols":30,"rows_kept":68,"cut":false,"hidden":false,"merged":[[9,1,9,12],[9,15,9,19],[66,5,66,6],[66,8,66,9],[38,2,38,3],[34,0,34,1],[34,4,34,12],[34,15,34,19],[67,0,67,2],[67,4,67,9],[35,0,38,0],[35,4,35,12],[36,4,36,12],[66,2,66,3],[61,2,61,3],[62,4,62,9],[62,0,62,3],[65,0,65,10],[24,0,30,0],[29,10,29,12],[26,4,26,12],[27,10,27,12],[29,7,29,8],[48,4,48,9],[43,14,46,28],[44,1,44,3],[44,4,44,8],[43,4,43,8],[42,4,42,8],[42,0,52,0],[42,9,42,12],[52,4,52,12],[45,9,45,12],[51,4,51,12],[15,4,15,12],[21,4,21,12],[18,4,18,12],[26,1,26,3],[27,1,27,3],[17,4,17,12],[20,4,20,12],[18,2,18,3],[19,2,19,3],[22,4,22,5],[16,1,16,3],[17,2,17,3],[12,4,12,5],[22,10,22,12],[17,1,20,1],[12,0,23,0],[30,4,30,12],[20,2,20,3],[21,1,21,3],[28,1,28,3],[29,1,29,3],[12,7,12,12],[14,4,14,12],[16,4,16,12],[13,4,13,12],[24,7,24,12],[25,4,25,12],[28,7,28,8],[27,7,27,8],[22,7,22,8],[19,4,19,12],[28,10,28,12],[12,1,12,3],[13,1,13,3],[14,1,14,3],[15,1,15,3],[61,5,61,6],[61,8,61,9],[57,4,57,12],[56,1,56,3],[60,0,60,10],[33,0,33,1],[56,10,56,12],[52,1,52,3],[53,1,53,3],[48,1,48,3],[54,1,54,3],[50,4,50,12],[47,1,47,3],[49,1,49,5],[50,1,50,3],[43,1,43,3],[37,1,38,1],[54,7,54,8],[56,7,56,8],[46,4,46,8],[47,4,47,8],[54,4,54,5],[53,4,53,12],[55,4,55,12],[56,4,56,5],[53,0,57,0],[45,4,45,8],[54,10,54,12],[22,1,22,3],[23,1,23,3],[24,1,24,3],[25,1,25,3],[57,1,57,3],[55,1,55,3],[42,1,42,3],[45,1,45,3],[23,4,23,5],[24,4,24,5],[27,4,27,5],[28,4,28,5],[51,1,51,3],[46,1,46,3],[30,1,30,3],[29,4,29,5]]}
["★使用方法"]
["1.着色部分のセルに必要事項を入力してください（水色：交付申請時、オレンジ色：実績報告時）。"]
["2.各様式に入力内容が反映されますので、確認してください。"]
["※事業計画書、事業報告書は各事業区分のシートを利用してください。"]
["3.誤りなどがなければ、必要な様式を印刷し、提出してください。"]
["注1）入力シートを使わず、直接入力することも可能です。"]
["注2）一部、直接入力が必要な箇所があります。"]
[null,null,null,null,null,null,null,null,null,null,null,null,null,null,null,null,null,null,null,null,null,null,null,null,null,null,null,null,null,"リスト"]
["■申請区分",null,null,null,null,null,null,null,null,null,null,null,null,null,null,"↓入力不要",null,null,null,null,null,null,null,null,null,null,null,null,null,"実技ワークショップ"]
["申請区分",null,null,null,null,null,null,null,null,null,null,null,null,"←選択してください",null,{"$f":"B10","v":0},null,null,null,null,null,null,null,null,null,null,null,null,null,"枯損樹木の復旧"]
[null,null,null,null,null,null,null,null,null,null,null,null,null,null,null,null,null,null,null,null,null,null,null,null,null,null,null,null,null,"維持管理設備等の修理・修繕"]
["■申請者 ・ 団体情報入力"]
["申請者\n\n団体","郵便番号",null,null,null,null,"-"]
[null,"（フリガナ）"]
[null,"住所"]
[null,"（フリガナ）"]
[null,"団体等名称"]
[null,"代表者","（フリガナ）"]
[null,null,"職名"]
[null,null,"（フリガナ）"]
[null,null,"氏名"]
[null,"メールアドレス"]
[null,"電話番号",null,null,null,null,"－",null,null,"－"]
[null,"構成員数",null,null,null,null,"名"]
["申請者\n(担当者）の\n連絡先","郵便番号",null,null,null,null,"－"]
[null,"住所"]
[null,"氏名"]
[null,"電話番号",null,null,null,null,"－",null,null,"－"]
[null,"携帯電話",null,null,null,null,"－",null,null,"－"]
[null,"ファックス番号",null,null,null,null,"－",null,null,"－"]
[null,"メールアドレス"]
[]
["■県民まちなみ緑化事業の実施状況"]
["県民まちなみ緑化事業　実施年度",null,null,null,null,"令和",null,"年度",null,null,null,null,null,null,null,"↓入力不要"]
["種別",null,null,null,null,null,null,null,null,null,null,null,null,"←選択してください",null,{"$f":"E35","v":0},null,null,null,null,null,null,null,null,null,null,null,null,null,"リスト"]
["実施箇所","所在地",null,null,null,null,null,null,null,null,null,null,null,null,null,null,null,null,null,null,null,null,null,null,null,null,null,null,null,"一般緑化"]
[null,"名称",null,null,null,null,null,null,null,null,null,null,null,null,null,null,null,null,null,null,null,null,null,null,null,null,null,null,null,"校園庭の芝生化"]
[null,"緑化内容","高木",null,"本","中木",null,"本","低木",null,"本","芝生",null,"㎡",null,null,null,null,null,null,null,null,null,null,null,null,null,null,null,"ひろばの芝生化"]
[null,null,"緑化面積",null,null,"㎡",null,null,null,null,null,null,null,null,null,null,null,null,null,null,null,null,null,null,null,null,null,null,null,"駐車場の芝生化"]
[null,null,null,null,null,null,null,null,null,null,null,null,null,null,null,null,null,null,null,null,null,null,null,null,null,null,null,null,null,"屋上緑化"]
[null,null,null,null,null,null,null,null,null,null,null,null,null,null,null,null,null,null,null,null,null,null,null,null,null,null,null,null,null,"壁面緑化"]
["■補助金支払先金融機関情報入力"]
["金融機関","（フリガナ）",null,null,null,null,null,null,null,"↓選択してください。",null,null,null,null,"・正確に入力してください。"]
[null,"金融機関名",null,null,null,null,null,null,null,"銀行",null,null,null,null,"・ゆうちょ銀行の場合、「支店名」欄、「支店番号」欄、「口座番号」欄には、通帳の冒頭部の「銀行使用欄」に記載されている「店名」、「店番」、「口座番号」を記載してください。"]
[null,"金融機関コード"]
[null,"（フリガナ）",null,null,null,null,null,null,null,"↓選択してください。"]
[null,"支店名",null,null,null,null,null,null,null,"支店"]
[null,"支店番号",null,null,null,null,null,null,null,"↓選択してください。"]
[null,"預金種別"]
[null,"上記で「その他」を選択の場合、\nその他内容を記載してください。",null,null,null,null,null,null,null,null,null,null,null,{"$f":"IF(+E49=\"その他\",\"エラー：入力が必要です。\",\"←入力不要\")","v":"←入力不要"}]
[null,"（フリガナ）"]
[null,"口座名義人",null,null,null,null,null,null,null,null,null,null,null,null,"・通帳等の名義人欄を転記してください。"]
[null,"口座番号"]
["経理担当者","経理担当者氏名"]
[null,"連絡先電話番号",null,null,null,null,"－",null,null,"－"]
[null,"記入者氏名"]
[null,"記入者電話番号",null,null,null,null,"－",null,null,"－"]
[null,"記入者メールアドレス"]
[]
["■申請情報入力"]
["交　　　　付　　　　申　　　　請"]
["申請日","令和",null,null,"年",null,null,"月",null,null,"日"]
["補助申請額",null,null,null,null,null,null,null,null,null,"円"]
[]
["■実績報告時入力"]
["実　　　　績　　　　報　　　　告"]
["報告日","令和",null,null,"年",null,null,"月",null,null,"日"]
["実績報告額",null,null,null,null,null,null,null,null,null,"円"]

{"sheet":"交付申請書","index":1,"n_rows":38,"n_cols":34,"rows_kept":38,"cut":false,"hidden":false,"merged":[[22,10,22,33],[5,1,5,15],[7,20,7,33],[8,20,8,33],[11,20,11,33],[6,13,6,17],[13,0,13,33],[12,0,12,33],[24,3,24,7],[19,0,19,33],[2,31,2,32],[7,13,7,17],[2,28,2,29],[2,22,2,26],[24,10,24,25],[10,13,10,17],[10,20,10,33],[21,10,21,33],[21,3,21,7],[8,13,8,17],[16,0,18,33],[11,13,11,17],[9,13,9,17],[9,20,9,33]]}
["様式第１号（第２条関係）"]
[]
[null,null,null,null,null,null,null,null,null,null,null,null,null,null,null,null,null,null,null,null,null,null,{"$f":"入力シート!C62","v":0},null,null,null,null,"年",{"$f":"入力シート!F62","v":0},null,"月",{"$f":"入力シート!I62","v":0},null,"日"]
[]
[null,"兵庫県知事　様"]
[]
[null,null,null,null,null,null,null,null,null,null,null,null,null,"（申請者）"]
[null,null,null,null,null,null,null,null,null,null,null,null,null,"住所",null,null,null,null,null,null,{"$f":"入力シート!E15","v":0}]
[null,null,null,null,null,null,null,null,null,null,null,null,null,"団体等名称",null,null,null,null,null,null,{"$f":"入力シート!E17","v":0}]
[null,null,null,null,null,null,null,null,null,null,null,null,null,"代表者職氏名",null,null,null,null,null,null,{"$f":"IF(入力シート!E19=\"\",\"\",入力シート!E19&\"    \"&入力シート!E21)","v":""}]
[null,null,null,null,null,null,null,null,null,null,null,null,null,"電話",null,null,null,null,null,null,{"$f":"IF(入力シート!E23=\"\",\"\",入力シート!E23&\" － \"&入力シート!H23&\" － \"&入力シート!K23)","v":""}]
[null,null,null,null,null,null,null,null,null,null,null,null,null,"電子メール",null,null,null,null,null,null,{"$f":"+入力シート!E22","v":0}]
[]
["県民まちなみ緑化事業（維持管理支援）補助金交付申請書"]
[]
[]
["　県民まちなみ緑化事業（維持管理支援）による補助を受けたいので、県民まちなみ緑化事業（維持管理支援）実施要領第２条の規定に基づき、次のとおり関係書類を添えて申請します。"]
[]
[]
["記"]
[]
[null,"１",null,"補助の種別",null,null,null,null,null,null,{"$f":"IF(入力シート!B10=\"\",\"ア　実技ワークショップ　　　イ　枯損樹木の復旧　\",入力シート!P10)","v":"ア　実技ワークショップ　　　イ　枯損樹木の復旧　"}]
[null,null,null,null,null,null,null,null,null,null,{"$f":"IF(入力シート!B10=\"\",\"ウ　維持管理設備等の修理・修繕\",\"\")","v":"ウ　維持管理設備等の修理・修繕"}]
[]
[null,"２",null,"交付申請額",null,null,null,null,null,null,{"$f":"IF(入力シート!E63=\"\",\"金                　　　   円\",\"金\"&DBCS(TEXT(入力シート!E63,\"＃，＃＃０\")&\"円\"))","v":"金                　　　   円"}]
[]
[]
[null,"３",null,"事業の概要",null,null,null,null,null,null,"別紙「事業計画書」のとおり"]
[]
[]
[null,"（添付書類）"]
["　　\n　　\n　　\n　　\n　　","①　事業計画書 （様式第１号の２）"]
[null,"②　実施箇所の位置図、現況写真"]
[null,"③　計画図等（補助の種別に応じて緑化整備図、数量計算書）"]
[null,"④　業者等からの見積書の写し"]
[null,null,null,"経費の内訳が分かる書類を添付してください。"]
[null,"⑤　暴力団等に該当しない旨等を記載した誓約書（指定様式）"]
[null,"⑥　債権者登録書"]

{"sheet":"事業計画書（実技ワークショップ）","index":2,"n_rows":60,"n_cols":22,"rows_kept":60,"cut":false,"hidden":false,"merged":[[59,2,59,4],[59,5,59,10],[59,11,59,21],[57,2,57,4],[57,5,57,10],[57,11,57,21],[58,2,58,4],[58,5,58,10],[51,11,51,21],[47,3,47,4],[47,8,47,9],[40,3,40,4],[43,5,43,6],[40,5,40,6],[43,7,43,21],[42,7,42,21],[58,11,58,21],[43,3,43,4],[56,2,56,4],[56,5,56,10],[56,11,56,21],[54,2,54,4],[54,5,54,10],[54,11,54,21],[55,2,55,4],[55,5,55,10],[55,11,55,21],[52,2,52,4],[52,5,52,10],[52,11,52,21],[53,2,53,4],[53,5,53,10],[53,11,53,21],[45,13,45,14],[47,13,47,14],[48,3,48,4],[48,8,48,9],[48,13,48,14],[48,17,48,18],[51,2,51,4],[51,5,51,10],[32,3,32,21],[21,1,21,2],[45,3,45,4],[45,8,45,9],[44,5,44,6],[45,1,48,1],[45,17,45,18],[42,3,42,4],[32,1,33,1],[47,17,47,18],[46,17,46,18],[21,4,21,21],[44,7,44,9],[44,10,44,20],[46,3,46,4],[46,8,46,9],[46,13,46,14],[34,1,44,2],[36,3,36,4],[38,5,38,6],[38,7,38,21],[44,3,44,4],[38,3,38,4],[42,5,42,6],[31,1,31,2],[12,9,12,21],[17,15,17,21],[29,3,29,21],[30,1,30,2],[20,1,20,2],[31,3,31,21],[20,4,20,9],[22,1,25,1],[24,13,24,14],[25,3,25,5],[33,3,33,21],[39,3,39,4],[37,3,37,4],[41,3,41,4],[34,3,34,4],[34,5,34,6],[34,7,34,21],[15,3,15,21],[13,3,13,21],[16,15,16,21],[16,10,16,14],[30,3,30,21],[36,5,36,6],[35,5,35,6],[39,5,39,6],[39,7,39,21],[36,7,36,21],[40,7,40,21],[37,5,37,6],[41,5,41,6],[41,7,41,21],[35,7,35,21],[35,3,35,4],[37,7,37,21],[2,1,2,21],[7,1,11,1],[7,3,7,21],[16,3,16,9],[12,3,12,6],[14,3,14,21],[17,10,17,14],[17,3,17,9],[29,1,29,2],[24,2,25,2],[24,17,24,18],[13,1,17,1],[9,3,9,21],[10,3,10,21],[11,3,11,21],[8,3,8,21],[24,3,24,4],[24,8,24,9]]}
[]
[null,"様式第１号の２（第２条関係）"]
[null,"事業計画書（実技ワークショップ）"]
[]
[null,"　１　　　申請者 ・ 団体について"]
[]
[]
[null,"申請者","郵便番号",{"$f":"IF(入力シート!E13=\"\",\"\",入力シート!E13&\" － \"&入力シート!H13)","v":""}]
[null,null,"住所",{"$f":"IF(入力シート!E15=\"\",\"\",入力シート!E15)","v":""}]
[null,null,"団体等名称",{"$f":"IF(入力シート!E17=\"\",\"\",入力シート!E17)","v":""}]
[null,null,"代表者職氏名",{"$f":"IF(入力シート!E19=\"\",\"\",入力シート!E19&\"    \"&入力シート!E21)","v":""}]
[null,null,"電話番号",{"$f":"IF(入力シート!E23=\"\",\"\",入力シート!E23&\" － \"&入力シート!H23&\" － \"&入力シート!K23)","v":""}]
[null,"団体","構成員数",{"$f":"IF(入力シート!E24=\"\",\"\",入力シート!E24)","v":""},null,null,null,"名"]
[null,"申請者の\n連絡先","郵便番号",{"$f":"IF(入力シート!E25=\"\",\"\",入力シート!E25&\" - \"&入力シート!H25)","v":""}]
[null,null,"住所",{"$f":"IF(入力シート!E26=\"\",\"\",入力シート!E26)","v":""}]
[null,null,"担当者名",{"$f":"IF(入力シート!E27=\"\",\"\",入力シート!E27)","v":""}]
[null,null,"電話番号",{"$f":"IF(入力シート!E28=\"\",\"\",入力シート!E28&\" － \"&入力シート!H28&\" － \"&入力シート!K28)","v":""},null,null,null,null,null,null,"携帯電話",null,null,null,null,{"$f":"IF(入力シート!E29=\"\",\"\",入力シート!E29&\" － \"&入力シート!H29&\" － \"&入力シート!K29)","v":""}]
[null,null,"F A X番号",{"$f":"IF(入力シート!E30=\"\",\"\",入力シート!E30&\" － \"&入力シート!H30&\" － \"&入力シート!K30)","v":""},null,null,null,null,null,null,"メールアドレス",null,null,null,null,{"$f":"IF(入力シート!E31=\"\",\"\",入力シート!E31)","v":""}]
[]
[null,"　２　県民まちなみ緑化事業の実施状況"]
[null,"県民まちなみ緑化事業実施年度",null,null,{"$f":"IF(入力シート!G34=\"\",\"\",入力シート!F34&入力シート!G34&\" 年度\")","v":""}]
[null,"種別",null,null,{"$f":"IF(入力シート!E35=\"\",\"□一般緑化　　□校園庭の芝生化　　□ひろばの芝生化　　     　　         □駐車場の芝生化　　□屋上緑化　　□壁面緑化\",入力シート!P35)","v":"□一般緑化　　□校園庭の芝生化　　□ひろばの芝生化　　     　　         □駐車場の芝生化　　□屋上緑化　　□壁面緑化"}]
[null,"実施箇所","所在地",null,{"$f":"IF(入力シート!E36=\"\",\"\",入力シート!E36)","v":""}]
[null,null,"名称",null,{"$f":"IF(入力シート!E37=\"\",\"\",入力シート!E37)","v":""}]
[null,null,"緑化内容","高木",null,{"$f":"IF(入力シート!D38=\"\",\"\",入力シート!D38)","v":""},"本",null,"中木",null,{"$f":"IF(入力シート!G38=\"\",\"\",入力シート!G38)","v":""},"本",null,"低木",null,{"$f":"IF(入力シート!J38=\"\",\"\",入力シート!J38)","v":""},"本","芝生",null,{"$f":"IF(入力シート!M38=\"\",\"\",入力シート!M38)","v":""},"㎡"]
[null,null,null,"緑化面積",null,null,{"$f":"IF(入力シート!E39=\"\",\"\",入力シート!E39)","v":""},null,"㎡"]
[]
[null,"　３　　実技ワークショップ実施計画"]
[]
[null,null,null,"実施内容"]
[null,"実施予定日"]
[null,"受講予定者数"]
[null,"講師","造園会社名"]
[null,null,"講師氏名"]
[null,"講習内容\n（座学・実技指導）",null,"座学",null,"実技指導"]
[null,null,null,null,null,null,null,"日常の維持管理の注意事項"]
[null,null,null,null,null,null,null,"樹種に応じた施肥の方法（掘削位置、深さ、肥料の量）"]
[null,null,null,null,null,null,null,"植栽した樹木に多い病害虫の特性"]
[null,null,null,null,null,null,null,"樹種に応じた薬剤の選定"]
[null,null,null,null,null,null,null,"薬剤取扱時の注意事項"]
[null,null,null,null,null,null,null,"薬剤散布時の安全対策"]
[null,null,null,null,null,null,null,"樹種に応じた剪定方法（剪定時期、枝の剪定長さ等）"]
[null,null,null,null,null,null,null,"剪定した枝葉の廃棄方法"]
[null,null,null,null,null,null,null,"植栽後の周辺環境の変化に伴う対応"]
[null,null,null,null,null,null,null,"その他（",null,null,null,null,null,null,null,null,null,null,null,null,null,"）"]
[null,"維持管理内容","施肥","高木",null,null,"本",null,"中木",null,null,"本",null,"低木",null,null,"本","芝生",null,null,"㎡"]
[null,null,"薬剤散布","高木",null,null,"本",null,"中木",null,null,"本",null,"低木",null,null,"本","芝生",null,null,"㎡"]
[null,null,"剪定","高木",null,null,"本",null,"中木",null,null,"本",null,"低木",null,null,"本","芝生",null,null,"㎡"]
[null,null,"その他"]
[]
[null,"　４　事業費内訳"]
[null,"項　　　目","予算額（円）",null,null,"補助対象経費（円）",null,null,null,null,null,"補助対象経費の積算内訳 ・ 備考　等"]
[null,"指導料"]
[null,"資料作成費"]
[null,"維持管理\n資材費"]
[null,"機械費"]
[]
[null,"諸経費"]
[null,"消費税"]
[null,"計",{"$f":"SUM(C53:E59)","v":0},null,null,{"$f":"SUM(F53:K59)","v":0}]

{"sheet":"事業計画書（枯損樹木の復旧)","index":3,"n_rows":53,"n_cols":21,"rows_kept":53,"cut":false,"hidden":false,"merged":[[50,1,50,6],[51,1,51,6],[52,1,52,6],[52,17,52,21],[48,17,48,21],[49,17,49,21],[50,17,50,21],[51,17,51,21],[50,14,50,16],[51,14,51,16],[52,14,52,16],[50,11,50,13],[51,11,51,13],[52,11,52,13],[50,7,50,10],[51,7,51,10],[52,7,52,10],[47,1,47,6],[42,17,42,21],[43,17,43,21],[44,17,44,21],[45,17,45,21],[46,17,46,21],[47,17,47,21],[48,14,48,16],[49,14,49,16],[46,14,46,16],[47,14,47,16],[44,11,44,13],[45,11,45,13],[46,11,46,13],[47,11,47,13],[48,11,48,13],[49,11,49,13],[46,7,46,10],[47,7,47,10],[48,7,48,10],[49,7,49,10],[48,1,48,6],[49,1,49,6],[44,7,44,10],[45,7,45,10],[35,7,35,10],[36,7,36,10],[37,7,37,10],[38,7,38,10],[39,7,39,10],[40,7,40,10],[33,17,34,21],[35,17,35,21],[36,17,36,21],[37,17,37,21],[38,17,38,21],[42,14,42,16],[43,14,43,16],[44,14,44,16],[45,14,45,16],[35,14,35,16],[36,14,36,16],[37,14,37,16],[38,14,38,16],[39,14,39,16],[40,14,40,16],[41,14,41,16],[40,17,40,21],[41,17,41,21],[38,3,38,4],[38,5,38,6],[33,3,34,4],[33,5,34,6],[33,7,34,10],[33,11,33,16],[34,11,34,13],[34,14,34,16],[39,3,39,4],[39,5,39,6],[39,17,39,21],[36,3,36,4],[36,5,36,6],[37,3,37,4],[37,5,37,6],[35,3,35,4],[35,5,35,6],[35,11,35,13],[36,11,36,13],[37,11,37,13],[38,11,38,13],[39,11,39,13],[42,7,42,10],[43,7,43,10],[42,11,42,13],[43,11,43,13],[40,3,40,4],[40,5,40,6],[41,3,41,4],[41,5,41,6],[41,7,41,10],[40,11,40,13],[41,11,41,13],[33,1,34,1],[33,2,34,2],[44,3,44,4],[44,5,44,6],[45,3,45,4],[46,3,46,4],[42,3,42,4],[42,5,42,6],[43,3,43,4],[43,5,43,6],[45,5,45,6],[46,5,46,6],[29,1,29,2],[30,1,30,2],[22,1,25,1],[24,2,25,2],[24,3,24,4],[24,8,24,9],[24,13,24,14],[24,17,24,18],[25,3,25,5],[29,3,29,21],[30,3,30,4],[30,7,30,21],[20,1,20,2],[20,4,20,9],[21,1,21,2],[21,4,21,21],[12,3,12,6],[12,9,12,21],[13,1,17,1],[13,3,13,21],[14,3,14,21],[15,3,15,21],[16,3,16,9],[16,10,16,14],[16,15,16,21],[17,3,17,9],[2,1,2,21],[7,1,11,1],[7,3,7,21],[8,3,8,21],[9,3,9,21],[10,3,10,21],[11,3,11,21],[17,10,17,14],[17,15,17,21]]}
[]
[null,"様式第１号の２（第２条関係）"]
[null,"事業計画書（枯損樹木の復旧）"]
[]
[null,"１　　　申請者 ・ 団体について"]
[]
[]
[null,"申請者","郵便番号",{"$f":"IF(入力シート!E13=\"\",\"\",入力シート!E13&\" － \"&入力シート!H13)","v":""}]
[null,null,"住所",{"$f":"IF(入力シート!E15=\"\",\"\",入力シート!E15)","v":""}]
[null,null,"団体等名称",{"$f":"IF(入力シート!E17=\"\",\"\",入力シート!E17)","v":""}]
[null,null,"代表者職氏名",{"$f":"IF(入力シート!E19=\"\",\"\",入力シート!E19&\"    \"&入力シート!E21)","v":""}]
[null,null,"電話番号",{"$f":"IF(入力シート!E23=\"\",\"\",入力シート!E23&\" － \"&入力シート!H23&\" － \"&入力シート!K23)","v":""}]
[null,"団体","構成員数",{"$f":"IF(入力シート!E24=\"\",\"\",入力シート!E24)","v":""},null,null,null,"名"]
[null,"申請者の\n連絡先","郵便番号",{"$f":"IF(入力シート!E25=\"\",\"\",入力シート!E25&\" - \"&入力シート!H25)","v":""}]
[null,null,"住所",{"$f":"IF(入力シート!E26=\"\",\"\",入力シート!E26)","v":""}]
[null,null,"担当者名",{"$f":"IF(入力シート!E27=\"\",\"\",入力シート!E27)","v":""}]
[null,null,"電話番号",{"$f":"IF(入力シート!E28=\"\",\"\",入力シート!E28&\" － \"&入力シート!H28&\" － \"&入力シート!K28)","v":""},null,null,null,null,null,null,"携帯電話",null,null,null,null,{"$f":"IF(入力シート!E29=\"\",\"\",入力シート!E29&\" － \"&入力シート!H29&\" － \"&入力シート!K29)","v":""}]
[null,null,"F A X番号",{"$f":"IF(入力シート!E30=\"\",\"\",入力シート!E30&\" － \"&入力シート!H30&\" － \"&入力シート!K30)","v":""},null,null,null,null,null,null,"メールアドレス",null,null,null,null,{"$f":"IF(入力シート!E31=\"\",\"\",入力シート!E31)","v":""}]
[]
[null,"２　県民まちなみ緑化事業の実施状況"]
[null,"県民まちなみ緑化事業実施年度",null,null,{"$f":"IF(入力シート!G34=\"\",\"\",入力シート!F34&入力シート!G34&\" 年度\")","v":""}]
[null,"種別",null,null,{"$f":"IF(入力シート!E35=\"\",\"□一般緑化　　□校園庭の芝生化　　□ひろばの芝生化　　   　　           □駐車場の芝生化　　□屋上緑化　　□壁面緑化\",入力シート!P35)","v":"□一般緑化　　□校園庭の芝生化　　□ひろばの芝生化　　   　　           □駐車場の芝生化　　□屋上緑化　　□壁面緑化"}]
[null,"実施箇所","所在地",null,{"$f":"IF(入力シート!E36=\"\",\"\",入力シート!E36)","v":""}]
[null,null,"名称",null,{"$f":"IF(入力シート!E37=\"\",\"\",入力シート!E37)","v":""}]
[null,null,"緑化内容","高木",null,{"$f":"IF(入力シート!D38=\"\",\"\",入力シート!D38)","v":""},"本",null,"中木",null,{"$f":"IF(入力シート!G38=\"\",\"\",入力シート!G38)","v":""},"本",null,"低木",null,{"$f":"IF(入力シート!J38=\"\",\"\",入力シート!J38)","v":""},"本","芝生",null,{"$f":"IF(入力シート!M38=\"\",\"\",入力シート!M38)","v":""},"㎡"]
[null,null,null,"緑化面積",null,null,{"$f":"IF(入力シート!E39=\"\",\"\",入力シート!E39)","v":""},null,"㎡"]
[]
[null,"３　復旧する樹木の植栽計画"]
[]
[null,"事業予定時期"]
[null,"植栽本数",null,"高木",null,null,"本"]
[]
[null,"４　事業費内訳"]
[null,"項目・名称","数量","単位",null,"単価",null,"金額",null,null,null,null,null,null,null,null,null,"備考（補助対象経費の積算内訳等）"]
[null,null,null,null,null,null,null,null,null,null,null,"補助対象",null,null,"補助対象外"]
[null,null,null,null,null,null,null,{"$f":"C36*F36","v":0},null,null,null,{"$f":"H36","v":0}]
[null,null,null,null,null,null,null,{"$f":"C37*F37","v":0},null,null,null,{"$f":"H37","v":0}]
[null,null,null,null,null,null,null,0,null,null,null,0]
[null,null,null,null,null,null,null,0,null,null,null,0]
[null,null,null,null,null,null,null,0,null,null,null,0]
[null,null,null,null,null,null,null,0,null,null,null,0]
[null,null,null,null,null,null,null,0,null,null,null,0]
[null,null,null,null,null,null,null,0,null,null,null,0]
[null,null,null,null,null,null,null,0,null,null,null,0]
[null,null,null,null,null,null,null,0,null,null,null,0]
[null,null,null,null,null,null,null,0,null,null,null,0]
[null,null,null,null,null,null,null,0,null,null,null,0]
[null,"計",null,null,null,null,null,{"$f":"SUM(H36:K47)","v":0},null,null,null,{"$f":"SUM(L36:N47)","v":0}]
[null,"諸経費"]
[null,"小計",null,null,null,null,null,{"$f":"H48+H49","v":0},null,null,null,{"$f":"L48+L49","v":0}]
[null,"消費税",null,null,null,null,null,{"$f":"H50*0.1","v":0},null,null,null,{"$f":"L50*0.1","v":0}]
[null,"合計",null,null,null,null,null,{"$f":"H50+H51","v":0},null,null,null,{"$f":"L50+L51","v":0}]
[null,"補助金申請額",null,null,null,null,null,"-",null,null,null,{"$f":"ROUNDDOWN(L52,-3)","v":0},null,null,"-",null,null,"10万円を上限とする"]

{"sheet":"事業計画書（維持管理設備等の修理・修繕）","index":4,"n_rows":49,"n_cols":21,"rows_kept":49,"cut":false,"hidden":false,"merged":[[33,15,33,21],[34,3,34,8],[35,3,35,8],[48,1,48,8],[48,9,48,14],[48,15,48,21],[47,3,47,8],[45,9,45,14],[46,9,46,14],[47,9,47,14],[45,15,45,21],[46,15,46,21],[47,15,47,21],[47,1,47,2],[36,1,36,2],[37,1,37,2],[34,15,34,21],[35,15,35,21],[44,1,44,2],[45,1,45,2],[41,9,41,14],[41,15,41,21],[40,9,40,14],[40,15,40,21],[39,9,39,14],[39,15,39,21],[38,9,38,14],[38,15,38,21],[37,9,37,14],[37,15,37,21],[38,1,38,2],[39,1,39,2],[46,1,46,2],[36,3,36,8],[37,3,37,8],[38,3,38,8],[39,3,39,8],[40,3,40,8],[43,1,43,2],[40,1,40,2],[41,1,41,2],[42,1,42,2],[33,1,33,2],[34,1,34,2],[35,1,35,2],[34,9,34,14],[35,9,35,14],[33,3,33,8],[33,9,33,14],[29,8,29,12],[29,13,29,17],[29,18,29,21],[46,3,46,8],[45,3,45,8],[44,3,44,8],[44,9,44,14],[44,15,44,21],[43,3,43,8],[43,9,43,14],[43,15,43,21],[42,3,42,8],[42,9,42,14],[42,15,42,21],[41,3,41,8],[30,3,30,21],[20,1,20,2],[20,4,20,9],[21,1,21,2],[21,4,21,21],[36,9,36,14],[36,15,36,21],[29,1,29,2],[30,1,30,2],[22,1,25,1],[24,2,25,2],[24,3,24,4],[24,8,24,9],[24,13,24,14],[24,17,24,18],[25,3,25,5],[29,3,29,7],[12,3,12,6],[12,9,12,21],[13,1,17,1],[13,3,13,21],[14,3,14,21],[15,3,15,21],[16,3,16,9],[16,10,16,14],[16,15,16,21],[17,3,17,9],[17,10,17,14],[17,15,17,21],[2,1,2,21],[7,1,11,1],[7,3,7,21],[8,3,8,21],[9,3,9,21],[10,3,10,21],[11,3,11,21]]}
[]
[null,"様式第１号の２（第２条関係）"]
[null,"事業計画書（維持管理設備等の修理・修繕）"]
[]
[null,"１　　　申請者 ・ 団体について"]
[]
[]
[null,"申請者","郵便番号",{"$f":"IF(入力シート!E13=\"\",\"\",入力シート!E13&\" － \"&入力シート!H13)","v":""}]
[null,null,"住所",{"$f":"IF(入力シート!E15=\"\",\"\",入力シート!E15)","v":""}]
[null,null,"団体等名称",{"$f":"IF(入力シート!E17=\"\",\"\",入力シート!E17)","v":""}]
[null,null,"代表者職氏名",{"$f":"IF(入力シート!E19=\"\",\"\",入力シート!E19&\"    \"&入力シート!E21)","v":""}]
[null,null,"電話番号",{"$f":"IF(入力シート!E23=\"\",\"\",入力シート!E23&\" － \"&入力シート!H23&\" － \"&入力シート!K23)","v":""}]
[null,"団体","構成員数",{"$f":"IF(入力シート!E24=\"\",\"\",入力シート!E24)","v":""},null,null,null,"名"]
[null,"申請者の\n連絡先","郵便番号",{"$f":"IF(入力シート!E25=\"\",\"\",入力シート!E25&\" - \"&入力シート!H25)","v":""}]
[null,null,"住所",{"$f":"IF(入力シート!E26=\"\",\"\",入力シート!E26)","v":""}]
[null,null,"担当者名",{"$f":"IF(入力シート!E27=\"\",\"\",入力シート!E27)","v":""}]
[null,null,"電話番号",{"$f":"IF(入力シート!E28=\"\",\"\",入力シート!E28&\" － \"&入力シート!H28&\" － \"&入力シート!K28)","v":""},null,null,null,null,null,null,"携帯電話",null,null,null,null,{"$f":"IF(入力シート!E29=\"\",\"\",入力シート!E29&\" － \"&入力シート!H29&\" － \"&入力シート!K29)","v":""}]
[null,null,"F A X番号",{"$f":"IF(入力シート!E30=\"\",\"\",入力シート!E30&\" － \"&入力シート!H30&\" － \"&入力シート!K30)","v":""},null,null,null,null,null,null,"メールアドレス",null,null,null,null,{"$f":"IF(入力シート!E31=\"\",\"\",入力シート!E31)","v":""}]
[]
[null,"２　県民まちなみ緑化事業の実施状況"]
[null,"県民まちなみ緑化事業実施年度",null,null,{"$f":"IF(入力シート!G34=\"\",\"\",入力シート!F34&入力シート!G34&\" 年度\")","v":""}]
[null,"種別",null,null,{"$f":"IF(入力シート!E35=\"\",\"□一般緑化　　□校園庭の芝生化　　□ひろばの芝生化　　     　　         □駐車場の芝生化　　□屋上緑化　　□壁面緑化\",入力シート!P35)","v":"□一般緑化　　□校園庭の芝生化　　□ひろばの芝生化　　     　　         □駐車場の芝生化　　□屋上緑化　　□壁面緑化"}]
[null,"実施箇所","所在地",null,{"$f":"IF(入力シート!E36=\"\",\"\",入力シート!E36)","v":""}]
[null,null,"名称",null,{"$f":"IF(入力シート!E37=\"\",\"\",入力シート!E37)","v":""}]
[null,null,"緑化内容","高木",null,{"$f":"IF(入力シート!D38=\"\",\"\",入力シート!D38)","v":""},"本",null,"中木",null,{"$f":"IF(入力シート!G38=\"\",\"\",入力シート!G38)","v":""},"本",null,"低木",null,{"$f":"IF(入力シート!J38=\"\",\"\",入力シート!J38)","v":""},"本","芝生",null,{"$f":"IF(入力シート!M38=\"\",\"\",入力シート!M38)","v":""},"㎡"]
[null,null,null,"緑化面積",null,null,{"$f":"IF(入力シート!E39=\"\",\"\",入力シート!E39)","v":""},null,"㎡"]
[]
[null,"３　維持管理設備等の修理・修繕計画"]
[]
[null,"維持管理設備等の種類"]
[null,"故障、不具合等の状況\n（詳細に記載してください）"]
[]
[null,"４　事業費内訳"]
[null,"項目・名称",null,"補助事業に\n要する経費(円)",null,null,null,null,null,"補助対象経費(円)",null,null,null,null,null,"備考（補助対象経費の積算内訳等）"]
[]
[]
[]
[]
[]
[]
[null,null,null,null,null,null,null,null,null,{"$f":"D41","v":0}]
[null,null,null,null,null,null,null,null,null,{"$f":"D42","v":0}]
[null,null,null,null,null,null,null,null,null,0]
[null,null,null,null,null,null,null,null,null,0]
[null,null,null,null,null,null,null,null,null,0]
[null,"小計",null,{"$f":"SUM(D35:I45)","v":0},null,null,null,null,null,0]
[null,"消費税",null,{"$f":"D46*0.1","v":0},null,null,null,null,null,0]
[null,"合計",null,{"$f":"SUM(D46:I47)","v":0},null,null,null,null,null,0]
[null,"補助金申請額",null,null,null,null,null,null,null,null,null,null,null,null,null,"10万円を上限とする"]

{"sheet":"概算払理由書","index":5,"n_rows":54,"n_cols":34,"rows_kept":54,"cut":false,"hidden":false,"merged":[[2,28,2,29],[2,31,2,32],[8,13,8,17],[9,13,9,17],[9,19,9,33],[2,22,2,26],[10,13,10,17],[10,19,10,33],[11,13,11,17],[11,19,11,33],[12,13,12,17],[12,19,12,33],[26,0,31,33],[13,13,13,17],[13,19,13,33],[16,0,16,33],[19,0,20,33],[22,0,22,33]]}
["様式第１号の３（第６条の２関係）"]
[]
[null,null,null,null,null,null,null,null,null,null,null,null,null,null,null,null,null,null,null,null,null,null,{"$f":"入力シート!C62","v":0},null,null,null,null,"年",{"$f":"入力シート!F62","v":0},null,"月",{"$f":"入力シート!I62","v":0},null,"日"]
[]
[null,{"$f":"IF(OR([1]入力シート!I64=\"一般緑化\",[1]入力シート!I64=\"校園庭の芝生化\",[1]入力シート!I64=\"ひろばの芝生化\"),[1]入力シート!AA64&\"　様\",\" 兵庫県知事　様\")","v":" 兵庫県知事　様"}]
[]
[]
[]
[null,null,null,null,null,null,null,null,null,null,null,null,null,"（申請者）"]
[null,null,null,null,null,null,null,null,null,null,null,null,null,"住所",null,null,null,null,null,{"$f":"入力シート!E15","v":0}]
[null,null,null,null,null,null,null,null,null,null,null,null,null,"団体等名称",null,null,null,null,null,{"$f":"入力シート!E17","v":0}]
[null,null,null,null,null,null,null,null,null,null,null,null,null,"代表者職氏名"]
[null,null,null,null,null,null,null,null,null,null,null,null,null,"電話",null,null,null,null,null,{"$f":"IF(入力シート!E23=\"\",\"\",入力シート!E23&\" － \"&入力シート!H23&\" － \"&入力シート!K23)","v":""}]
[null,null,null,null,null,null,null,null,null,null,null,null,null,"電子メール",null,null,null,null,null,{"$f":"+入力シート!E22","v":0}]
[]
[]
["概　　　算　　　払　　　理　　　由　　　書"]
[]
[]
[{"$f":"IF(入力シート!B10=\"\",\"令和　　年　　月　　日付けにより申請する県民まちなみ緑化事業について、概算による補助金の交付を受けたいので、県民まちなみ緑化事業（維持管理支援）実施要領第６条の２第１項の規定に基づき、理由書を提出します。\",\"　\"&\"令和\"&DBCS(入力シート!C62)&\"年\"&DBCS(入力シート!F62)&\"月\"&DBCS(入力シート!I62)&\"日\"&\"付けにより申請する県民まちなみ緑化事業について、概算による補助金の交付を受けたいので、県民まちなみ緑化事業（維持管理支援）第６条の２第１項の規定に基づき、理由書を提出します。\")","v":"令和　　年　　月　　日付けにより申請する県民まちなみ緑化事業について、概算による補助金の交付を受けたいので、県民まちなみ緑化事業（維持管理支援）実施要領第６条の２第１項の規定に基づき、理由書を提出します。"}]
[]
[]
["記"]
[]
["概算払による補助金の交付を受けようとする時期・理由"]
[]
[]
[]
[]
[]
[]
[]
[]
[]
[]
[]
[]
[]
[]
[]
[]
[]
[]
[]
[]
[]
[]
[]
[]
[]
[]
[]
[]
[null,{"$f":"IF(入力シート!C62=\"\",\"令和　　年　　月　　日\",入力シート!C62&\"年\"&入力シート!F62&\"月\"&入力シート!I62&\"日\")","v":"令和　　年　　月　　日"}]

{"sheet":"誓約書（新）","index":6,"n_rows":54,"n_cols":14,"rows_kept":54,"cut":false,"hidden":false,"merged":[[34,7,34,14],[35,7,35,14],[36,7,36,14],[38,7,38,14],[22,7,22,9],[23,2,23,3],[24,3,24,4],[24,8,24,10],[25,3,25,10],[26,3,26,10],[20,2,20,3],[21,3,21,5],[21,7,21,9],[22,3,22,5],[12,3,12,12],[13,3,13,12],[14,3,14,12],[15,3,15,12],[17,3,17,5],[18,3,19,5]]}
[]
[]
[]
[]
[]
[]
[]
[]
[]
[]
[]
[]
[]
[]
[]
[]
[]
[]
[]
[]
[]
[]
[]
[]
[]
[]
[]
[]
[]
[]
[]
[]
[]
[null,"兵庫県知事"]
[null,"齋　藤　元　彦　　様",null,null,null,"住　　所",null,{"$f":"IF(入力シート!E15=\"\",入力シート!E26,入力シート!E15)","v":0}]
[null,null,null,null,null,"団 体 名",null,{"$f":"入力シート!E17","v":0}]
[null,null,null,null,null,"代表者名",null,{"$f":"IF(入力シート!E27=\"\",入力シート!E19&\"　\"&入力シート!E21,入力シート!E27)","v":"　"}]
[null,null,null,null,null,"電　　話",null,"(",{"$f":"IF(入力シート!E23=\"\",入力シート!E28,入力シート!E23)","v":0},"）",{"$f":"IF(入力シート!H23=\"\",入力シート!H28,入力シート!H23)","v":0},"－",{"$f":"IF(入力シート!K23=\"\",入力シート!K28,入力シート!K23)","v":0},"番"]
[null,null,null,null,null,"電子メール",null,{"$f":"IF(入力シート!E22=\"\",入力シート!E31,入力シート!E22)","v":0}]
[]
[]
[]
[]
[]
[]
[]
[]
[]
[]
[]
[]
[]
[]
[null,{"$f":"IF(入力シート!C62=\"\",\"令和　　年　　月　　日\",入力シート!C62&\"年\"&入力シート!F62&\"月\"&入力シート!I62&\"日\")","v":"令和　　年　　月　　日"}]

{"sheet":"誓約書","index":7,"n_rows":53,"n_cols":8,"rows_kept":53,"cut":false,"hidden":true,"merged":[]}
[]
[]
[]
[]
[]
[]
[]
[]
[]
[]
[]
[]
[]
[]
[]
[]
[]
[]
[]
[]
[]
[]
[]
[]
[]
[]
[]
[]
[]
[]
[]
[]
[]
[]
[]
[]
[]
[{"$f":"入力シート!C62","v":0},{"$f":"入力シート!F62","v":0},{"$f":"入力シート!I62","v":0}]
[]
[]
[]
[]
[]
[]
[]
[]
[]
[]
[null,null,null,null,null,null,null,{"$f":"+入力シート!E15","v":0}]
[null,null,null,null,null,null,null,{"$f":"+入力シート!E17","v":0}]
[null,null,null,null,null,null,null,{"$f":"IF(入力シート!E19=\"\",\"\",入力シート!E19&\"    \"&入力シート!E21)","v":""}]
[null,null,null,null,null,null,null,{"$f":"IF(入力シート!E23=\"\",\"\",入力シート!E23&\" － \"&入力シート!H23&\" － \"&入力シート!K23)","v":""}]
[null,null,null,null,null,null,null,{"$f":"+入力シート!E22","v":0}]

{"sheet":"実績報告","index":8,"n_rows":33,"n_cols":35,"rows_kept":33,"cut":false,"hidden":false,"merged":[[3,29,3,30],[3,32,3,33],[7,14,7,18],[3,23,3,27],[8,21,8,34],[16,1,18,34],[8,14,8,18],[21,4,21,8],[14,1,14,34],[9,21,9,34],[12,14,12,18],[10,14,10,18],[9,14,9,18],[10,21,10,34],[11,14,11,18],[11,21,11,34],[12,21,12,34],[19,1,19,34],[32,1,36,32],[24,4,24,8],[24,11,24,26],[26,4,26,8],[21,11,21,34]]}
[]
[null,"様式第３号（第４条関係）"]
[]
[null,null,null,null,null,null,null,null,null,null,null,null,null,null,null,null,null,null,null,null,null,null,null,{"$f":"入力シート!C67","v":0},null,null,null,null,"年",{"$f":"入力シート!G67","v":0},null,"月",{"$f":"入力シート!J67","v":0},null,"日"]
[]
[null,null,"兵庫県知事　様"]
[]
[null,null,null,null,null,null,null,null,null,null,null,null,null,null,"（申請者）"]
[null,null,null,null,null,null,null,null,null,null,null,null,null,null,"住所",null,null,null,null,null,null,{"$f":"入力シート!E15","v":0}]
[null,null,null,null,null,null,null,null,null,null,null,null,null,null,"団体等名称",null,null,null,null,null,null,{"$f":"入力シート!E17","v":0}]
[null,null,null,null,null,null,null,null,null,null,null,null,null,null,"代表者職氏名",null,null,null,null,null,null,{"$f":"IF(入力シート!E19=\"\",\"\",入力シート!E19&\"    \"&入力シート!E21)","v":""}]
[null,null,null,null,null,null,null,null,null,null,null,null,null,null,"電話",null,null,null,null,null,null,{"$f":"IF(入力シート!E23=\"\",\"\",入力シート!E23&\" － \"&入力シート!H23&\" － \"&入力シート!K23)","v":""}]
[null,null,null,null,null,null,null,null,null,null,null,null,null,null,"電子メール",null,null,null,null,null,null,{"$f":"+入力シート!E22","v":0}]
[]
[null,"県民まちなみ緑化事業（維持管理支援）実績報告書"]
[]
[null,"　令和　　年　　月　　日付け　　 第　　　　号により交付決定（ 　　年　　月　　日付け　　第　　　　号で変更承認）のあった標記事業について、下記のとおり実施しましたので、県民まちなみ緑化事業（維持管理支援）実施要領第４条の規定に基づき、関係書類を添えて報告します。"]
[]
[]
[null,"記"]
[]
[null,null,"１",null,"補助の種別",null,null,null,null,null,null,{"$f":"IF(入力シート!B10=\"\",\"ア　実技ワークショップ　　　イ　枯損樹木の復旧　\",入力シート!P10)","v":"ア　実技ワークショップ　　　イ　枯損樹木の復旧　"}]
[null,null,null,null,null,null,null,null,null,null,null,{"$f":"IF(入力シート!B10=\"\",\"ウ　維持管理設備等の修理・修繕\",\"\")","v":"ウ　維持管理設備等の修理・修繕"}]
[]
[null,null,"２",null,"交付決定額",null,null,null,null,null,null,{"$f":"IF(入力シート!E63=\"\",\"金                　　　   円\",\"金\"&DBCS(TEXT(入力シート!E63,\"＃，＃＃０\")&\"円\"))","v":"金                　　　   円"}]
[]
[null,null,"３",null,"実績報告額",null,null,null,null,null,null,{"$f":"IF(入力シート!E68=\"\",\"金                　　　   円\",\"金\"&DBCS(TEXT(入力シート!E68,\"＃，＃＃０\")&\"円\"))","v":"金                　　　   円"}]
[]
[null,null,"４",null,"事業の概要",null,null,null,null,null,null,"別紙「事業報告書」のとおり"]
[]
[]
[null,null,"（添付書類）"]
[null,"　　①　事業報告書 （様式第３号の２）\n　　②　緑化整備図\n　　③　活動状況等の写真（活動状況、事業実施後の状況等）\n　　④　業者等からの領収書の写し\n　　⑤　その他\n　　　　　成果物（講義資料等各種印刷物）など"]

{"sheet":"事業報告書（実技ワークショップ）","index":9,"n_rows":75,"n_cols":22,"rows_kept":75,"cut":false,"hidden":false,"merged":[[73,1,73,8],[73,9,73,14],[74,1,74,8],[74,9,74,14],[70,1,70,8],[70,9,70,14],[71,1,71,8],[71,9,71,14],[67,2,67,4],[67,5,67,10],[35,3,35,12],[35,13,35,22],[30,3,30,12],[30,13,30,22],[31,3,31,12],[31,13,31,22],[32,3,32,12],[32,13,32,22],[72,1,72,8],[72,9,72,14],[66,2,66,4],[66,5,66,10],[64,2,64,4],[64,5,64,10],[65,2,65,4],[65,5,65,10],[62,2,62,4],[62,5,62,10],[63,2,63,4],[63,5,63,10],[60,2,60,4],[60,5,60,10],[61,2,61,4],[61,5,61,10],[24,13,24,22],[25,3,25,12],[25,13,25,22],[26,3,26,12],[26,13,26,22],[33,3,33,12],[33,13,33,22],[34,3,34,12],[34,13,34,22],[59,2,59,4],[59,5,59,10],[54,8,54,9],[54,13,54,14],[54,17,54,18],[55,3,55,4],[55,8,55,9],[55,13,55,14],[55,17,55,18],[59,11,59,21],[53,1,56,1],[53,3,53,4],[53,8,53,9],[53,13,53,14],[53,17,53,18],[54,3,54,4],[56,3,56,4],[56,8,56,9],[56,13,56,14],[56,17,56,18],[51,7,51,21],[48,3,48,4],[48,5,48,6],[48,7,48,21],[49,3,49,4],[49,5,49,6],[49,7,49,21],[52,3,52,4],[52,5,52,6],[52,7,52,9],[52,10,52,20],[42,1,52,2],[42,3,42,4],[42,5,42,6],[42,7,42,21],[43,3,43,4],[43,5,43,6],[43,7,43,21],[46,3,46,4],[46,5,46,6],[46,7,46,21],[47,3,47,4],[47,5,47,6],[47,7,47,21],[44,3,44,4],[44,5,44,6],[44,7,44,21],[45,3,45,4],[45,5,45,6],[45,7,45,21],[50,3,50,4],[50,5,50,6],[50,7,50,21],[51,3,51,4],[51,5,51,6],[13,1,17,1],[13,3,13,21],[14,3,14,21],[15,3,15,21],[16,3,16,9],[16,10,16,14],[16,15,16,21],[17,3,17,9],[40,1,41,1],[40,3,40,21],[41,3,41,21],[20,1,20,2],[20,3,20,22],[21,1,21,2],[21,3,21,22],[22,1,22,2],[22,3,22,22],[27,3,27,12],[27,13,27,22],[28,3,28,12],[28,13,28,22],[29,3,29,12],[29,13,29,22],[24,3,24,12],[60,11,60,21],[61,11,61,21],[62,11,62,21],[63,11,63,21],[64,11,64,21],[65,11,65,21],[66,11,66,21],[67,11,67,21],[2,1,2,21],[7,1,11,1],[7,3,7,21],[8,3,8,21],[9,3,9,21],[10,3,10,21],[11,3,11,21],[39,1,39,2],[39,3,39,21],[23,1,23,2],[23,3,23,22],[24,1,35,2],[17,10,17,14],[17,15,17,21],[12,3,12,6],[12,9,12,21]]}
[]
[null,"様式第３号の２（第４条関係）"]
[null,"事業報告書（実技ワークショップ）"]
[]
[null,"　１　　　申請者 ・ 団体について"]
[]
[]
[null,"申請者","郵便番号",{"$f":"IF(入力シート!E13=\"\",\"\",入力シート!E13&\" － \"&入力シート!H13)","v":""}]
[null,null,"住所",{"$f":"IF(入力シート!E15=\"\",\"\",入力シート!E15)","v":""}]
[null,null,"団体等名称",{"$f":"IF(入力シート!E17=\"\",\"\",入力シート!E17)","v":""}]
[null,null,"代表者職氏名",{"$f":"IF(入力シート!E19=\"\",\"\",入力シート!E19&\"    \"&入力シート!E21)","v":""}]
[null,null,"電話番号",{"$f":"IF(入力シート!E23=\"\",\"\",入力シート!E23&\" － \"&入力シート!H23&\" － \"&入力シート!K23)","v":""}]
[null,"団体","構成員数",{"$f":"IF(入力シート!E24=\"\",\"\",入力シート!E24)","v":""},null,null,null,"名"]
[null,"申請者の\n連絡先","郵便番号",{"$f":"IF(入力シート!E25=\"\",\"\",入力シート!E25&\" - \"&入力シート!H25)","v":""}]
[null,null,"住所",{"$f":"IF(入力シート!E26=\"\",\"\",入力シート!E26)","v":""}]
[null,null,"担当者名",{"$f":"IF(入力シート!E27=\"\",\"\",入力シート!E27)","v":""}]
[null,null,"電話番号",{"$f":"IF(入力シート!E28=\"\",\"\",入力シート!E28&\" － \"&入力シート!H28&\" － \"&入力シート!K28)","v":""},null,null,null,null,null,null,"携帯電話",null,null,null,null,{"$f":"IF(入力シート!E29=\"\",\"\",入力シート!E29&\" － \"&入力シート!H29&\" － \"&入力シート!K29)","v":""}]
[null,null,"F A X番号",{"$f":"IF(入力シート!E30=\"\",\"\",入力シート!E30&\" － \"&入力シート!H30&\" － \"&入力シート!K30)","v":""},null,null,null,null,null,null,"メールアドレス",null,null,null,null,{"$f":"IF(入力シート!E31=\"\",\"\",入力シート!E31)","v":""}]
[]
[null,"　２　　実技ワークショップ実施結果"]
[null,null,null,"実施内容"]
[null,"実施日",null,""]
[null,"開催場所",null,""]
[null,"参加者数",null,""]
[null,"参加者の氏名"]
[]
[]
[]
[]
[]
[]
[]
[]
[]
[]
[]
[]
[]
[]
[null,null,null,"実施内容"]
[null,"講師","造園会社名"]
[null,null,"講師氏名"]
[null,"講習内容\n（座学・実技指導）",null,"座学",null,"実技指導"]
[null,null,null,null,null,null,null,"日常の維持管理の注意事項"]
[null,null,null,null,null,null,null,"樹種に応じた施肥の方法（掘削位置、深さ、肥料の量）"]
[null,null,null,null,null,null,null,"植栽した樹木に多い病害虫の特性"]
[null,null,null,null,null,null,null,"樹種に応じた薬剤の選定"]
[null,null,null,null,null,null,null,"薬剤取扱時の注意事項"]
[null,null,null,null,null,null,null,"薬剤散布時の安全対策"]
[null,null,null,null,null,null,null,"樹種に応じた剪定方法（剪定時期、枝の剪定長さ等）"]
[null,null,null,null,null,null,null,"剪定した枝葉の廃棄方法"]
[null,null,null,null,null,null,null,"植栽後の周辺環境の変化に伴う対応"]
[null,null,null,null,null,null,null,"その他（",null,null,null,null,null,null,null,null,null,null,null,null,null,"）"]
[null,"維持管理内容","施肥","高木",null,null,"本",null,"中木",null,null,"本",null,"低木",null,null,"本","芝生",null,null,"㎡"]
[null,null,"薬剤散布","高木",null,null,"本",null,"中木",null,null,"本",null,"低木",null,null,"本","芝生",null,null,"㎡"]
[null,null,"剪定","高木",null,null,"本",null,"中木",null,null,"本",null,"低木",null,null,"本","芝生",null,null,"㎡"]
[null,null,"その他","高木",null,null,"本",null,"中木",null,null,"本",null,"低木",null,null,"本","芝生",null,null,"㎡"]
[]
[null,"　３　事業費内訳"]
[null,"項　　　目","実績額（円）",null,null,"補助対象経費（円）　",null,null,null,null,null,"補助対象経費の積算内訳 ・ 備考　等"]
[null,"指導料"]
[null,"資料作成費"]
[null,"緑化資材費"]
[null,"機械費"]
[]
[null,"諸経費"]
[null,"消費税"]
[null,"計",{"$f":"SUM(C61:E67)","v":0}]
[]
[null,"４　所要額精算報告"]
[null,"総事業費"]
[null,"補助対象経費"]
[null,"実績報告額"]
[null,"概算払による既受領額"]
[null,"精算額"]

{"sheet":"事業報告書（枯損樹木の復旧）","index":10,"n_rows":48,"n_cols":19,"rows_kept":48,"cut":false,"hidden":false,"merged":[[39,1,39,8],[39,9,39,11],[39,12,39,14],[39,15,39,17],[39,18,39,22],[40,1,40,8],[40,9,40,11],[40,12,40,14],[40,15,40,17],[40,18,40,22],[35,1,35,2],[35,3,35,4],[35,5,35,6],[35,7,35,8],[36,1,36,2],[36,3,36,4],[36,5,36,6],[36,7,36,8],[24,3,25,4],[24,5,25,6],[24,7,25,8],[34,7,34,8],[31,1,31,2],[31,3,31,4],[31,5,31,6],[31,7,31,8],[26,1,26,2],[26,3,26,4],[26,5,26,6],[26,7,26,8],[30,1,30,2],[30,3,30,4],[30,5,30,6],[30,7,30,8],[24,9,25,11],[24,12,24,17],[24,18,25,22],[37,1,37,8],[37,9,37,11],[37,12,37,14],[37,15,37,17],[37,18,37,22],[38,1,38,8],[38,9,38,11],[38,12,38,14],[38,15,38,17],[38,18,38,22],[35,9,35,11],[35,12,35,14],[35,15,35,17],[35,18,35,22],[36,9,36,11],[36,12,36,14],[36,15,36,17],[36,18,36,22],[34,1,34,2],[34,3,34,4],[34,5,34,6],[29,1,29,2],[29,3,29,4],[29,5,29,6],[29,7,29,8],[29,9,29,11],[29,12,29,14],[34,9,34,11],[34,12,34,14],[33,1,33,2],[33,3,33,4],[33,5,33,6],[33,7,33,8],[33,9,33,11],[33,12,33,14],[32,1,32,2],[32,3,32,4],[32,5,32,6],[32,7,32,8],[32,9,32,11],[32,12,32,14],[27,3,27,4],[27,5,27,6],[27,7,27,8],[27,9,27,11],[27,12,27,14],[31,9,31,11],[31,12,31,14],[29,15,29,17],[29,18,29,22],[30,9,30,11],[30,12,30,14],[30,15,30,17],[30,18,30,22],[26,9,26,11],[26,12,26,14],[25,12,25,14],[25,15,25,17],[24,1,25,2],[47,1,47,8],[47,9,47,14],[44,1,44,8],[44,9,44,14],[45,1,45,8],[45,9,45,14],[46,1,46,8],[46,9,46,14],[43,1,43,8],[43,9,43,14],[33,15,33,17],[28,1,28,2],[28,3,28,4],[28,5,28,6],[28,7,28,8],[28,9,28,11],[28,12,28,14],[28,15,28,17],[27,1,27,2],[33,18,33,22],[34,15,34,17],[34,18,34,22],[31,15,31,17],[31,18,31,22],[32,15,32,17],[32,18,32,22],[26,15,26,17],[26,18,26,22],[27,15,27,17],[27,18,27,22],[28,18,28,22],[20,1,20,2],[21,1,21,2],[21,3,21,22],[12,3,12,6],[12,9,12,21],[13,1,17,1],[13,3,13,21],[14,3,14,21],[15,3,15,21],[16,3,16,9],[16,10,16,14],[16,15,16,21],[17,3,17,9],[2,1,2,21],[7,1,11,1],[7,3,7,21],[8,3,8,21],[9,3,9,21],[10,3,10,21],[11,3,11,21],[17,10,17,14],[17,15,17,21]]}
[]
[null,"様式第３号の２（第４条関係）"]
[null,"事業報告書（枯損樹木の復旧）"]
[]
[null,"　１　　　申請者 ・ 団体について"]
[]
[]
[null,"申請者","郵便番号",{"$f":"IF(入力シート!E13=\"\",\"\",入力シート!E13&\" － \"&入力シート!H13)","v":""}]
[null,null,"住所",{"$f":"IF(入力シート!E15=\"\",\"\",入力シート!E15)","v":""}]
[null,null,"団体等名称",{"$f":"IF(入力シート!E17=\"\",\"\",入力シート!E17)","v":""}]
[null,null,"代表者職氏名",{"$f":"IF(入力シート!E19=\"\",\"\",入力シート!E19&\"    \"&入力シート!E21)","v":""}]
[null,null,"電話番号",{"$f":"IF(入力シート!E23=\"\",\"\",入力シート!E23&\" － \"&入力シート!H23&\" － \"&入力シート!K23)","v":""}]
[null,"団体","構成員数",{"$f":"IF(入力シート!E24=\"\",\"\",入力シート!E24)","v":""},null,null,null,"名"]
[null,"申請者の\n連絡先","郵便番号",{"$f":"IF(入力シート!E25=\"\",\"\",入力シート!E25&\" - \"&入力シート!H25)","v":""}]
[null,null,"住所",{"$f":"IF(入力シート!E26=\"\",\"\",入力シート!E26)","v":""}]
[null,null,"担当者名",{"$f":"IF(入力シート!E27=\"\",\"\",入力シート!E27)","v":""}]
[null,null,"電話番号",{"$f":"IF(入力シート!E28=\"\",\"\",入力シート!E28&\" － \"&入力シート!H28&\" － \"&入力シート!K28)","v":""},null,null,null,null,null,null,"携帯電話",null,null,null,null,{"$f":"IF(入力シート!E29=\"\",\"\",入力シート!E29&\" － \"&入力シート!H29&\" － \"&入力シート!K29)","v":""}]
[null,null,"F A X番号",{"$f":"IF(入力シート!E30=\"\",\"\",入力シート!E30&\" － \"&入力シート!H30&\" － \"&入力シート!K30)","v":""},null,null,null,null,null,null,"メールアドレス",null,null,null,null,{"$f":"IF(入力シート!E31=\"\",\"\",入力シート!E31)","v":""}]
[]
[null,"２　枯損樹木の復旧実施結果"]
[null,"事業期間",null,"令和　　年　　月　　日　～　令和　　年　　月　　日"]
[null,"植栽本数",null,"高木　　　　　　　本"]
[]
[null,"３　事業費内訳"]
[null,"項目・名称",null,"数量",null,"単位",null,"単価",null,"金額",null,null,null,null,null,null,null,null,"備考（補助対象経費の積算内訳等）"]
[null,null,null,null,null,null,null,null,null,null,null,null,"補助対象",null,null,"補助対象外"]
[null,null,null,null,null,null,null,null,null,{"$f":"D27*H27","v":0},null,null,{"$f":"J27","v":0}]
[null,null,null,null,null,null,null,null,null,{"$f":"D28*H28","v":0},null,null,{"$f":"J28","v":0}]
[null,null,null,null,null,null,null,null,null,0,null,null,0]
[null,null,null,null,null,null,null,null,null,0,null,null,0]
[null,null,null,null,null,null,null,null,null,0,null,null,0]
[null,null,null,null,null,null,null,null,null,0,null,null,0]
[]
[]
[]
[]
[]
[null,"計",null,null,null,null,null,null,null,{"$f":"SUM(J27:L37)","v":0},null,null,{"$f":"SUM(M27:O37)","v":0}]
[null,"諸経費",null,null,null,null,null,null,null,null,null,null,{"$f":"J39","v":0}]
[null,"消費税",null,null,null,null,null,null,null,{"$f":"(J38+J39)*0.1","v":0},null,null,{"$f":"(M38+M39)*0.1","v":0}]
[null,"合計",null,null,null,null,null,null,null,{"$f":"SUM(J38:L40)","v":0},null,null,{"$f":"SUM(M38:O40)","v":0}]
[]
[null,"４　所要額精算報告"]
[null,"総事業費",null,null,null,null,null,null,null,{"$f":"J41","v":0}]
[null,"補助対象経費",null,null,null,null,null,null,null,{"$f":"M41","v":0}]
[null,"実績報告額"]
[null,"概算払による既受領額"]
[null,"精算額"]

{"sheet":"事業報告書（維持管理設備等の修理・修繕）","index":11,"n_rows":46,"n_cols":16,"rows_kept":46,"cut":false,"hidden":false,"merged":[[34,15,34,21],[35,15,35,21],[36,1,36,2],[36,3,36,8],[37,1,37,2],[37,3,37,8],[36,9,36,14],[37,9,37,14],[36,15,36,21],[37,15,37,21],[34,1,34,2],[35,1,35,2],[34,3,34,8],[35,3,35,8],[34,9,34,14],[35,9,35,14],[32,3,32,8],[33,3,33,8],[32,9,32,14],[33,9,33,14],[32,15,32,21],[33,15,33,21],[38,15,38,21],[39,15,39,21],[45,1,45,8],[45,9,45,14],[20,1,20,2],[20,3,20,7],[20,8,20,12],[20,13,20,17],[42,1,42,8],[42,9,42,14],[43,1,43,8],[43,9,43,14],[44,1,44,8],[44,9,44,14],[32,1,32,2],[33,1,33,2],[41,1,41,8],[41,9,41,14],[38,1,38,2],[39,1,39,2],[38,3,38,8],[39,3,39,8],[38,9,38,14],[39,9,39,14],[17,10,17,14],[17,15,17,21],[21,1,21,2],[22,1,22,2],[12,3,12,6],[12,9,12,21],[13,1,17,1],[13,3,13,21],[14,3,14,21],[15,3,15,21],[16,3,16,9],[16,10,16,14],[16,15,16,21],[17,3,17,9],[20,18,20,21],[22,3,22,21],[2,1,2,21],[7,1,11,1],[7,3,7,21],[8,3,8,21],[9,3,9,21],[10,3,10,21],[11,3,11,21],[25,1,25,2],[25,3,25,8],[25,9,25,14],[25,15,25,21],[26,1,26,2],[26,3,26,8],[26,9,26,14],[26,15,26,21],[27,1,27,2],[28,1,28,2],[29,1,29,2],[30,1,30,2],[31,1,31,2],[27,3,27,8],[28,3,28,8],[29,3,29,8],[30,3,30,8],[31,3,31,8],[27,9,27,14],[28,9,28,14],[29,9,29,14],[30,9,30,14],[31,9,31,14],[27,15,27,21],[28,15,28,21],[29,15,29,21],[30,15,30,21],[31,15,31,21]]}
[]
[null,"様式第３号の２（第４条関係）"]
[null,"事業報告書（維持管理設備等の修理・修繕）"]
[]
[null,"　１　　　申請者 ・ 団体について"]
[]
[]
[null,"申請者","郵便番号",{"$f":"IF(入力シート!E13=\"\",\"\",入力シート!E13&\" － \"&入力シート!H13)","v":""}]
[null,null,"住所",{"$f":"IF(入力シート!E15=\"\",\"\",入力シート!E15)","v":""}]
[null,null,"団体等名称",{"$f":"IF(入力シート!E17=\"\",\"\",入力シート!E17)","v":""}]
[null,null,"代表者職氏名",{"$f":"IF(入力シート!E19=\"\",\"\",入力シート!E19&\"    \"&入力シート!E21)","v":""}]
[null,null,"電話番号",{"$f":"IF(入力シート!E23=\"\",\"\",入力シート!E23&\" － \"&入力シート!H23&\" － \"&入力シート!K23)","v":""}]
[null,"団体","構成員数",{"$f":"IF(入力シート!E24=\"\",\"\",入力シート!E24)","v":""},null,null,null,"名"]
[null,"申請者の\n連絡先","郵便番号",{"$f":"IF(入力シート!E25=\"\",\"\",入力シート!E25&\" - \"&入力シート!H25)","v":""}]
[null,null,"住所",{"$f":"IF(入力シート!E26=\"\",\"\",入力シート!E26)","v":""}]
[null,null,"担当者名",{"$f":"IF(入力シート!E27=\"\",\"\",入力シート!E27)","v":""}]
[null,null,"電話番号",{"$f":"IF(入力シート!E28=\"\",\"\",入力シート!E28&\" － \"&入力シート!H28&\" － \"&入力シート!K28)","v":""},null,null,null,null,null,null,"携帯電話",null,null,null,null,{"$f":"IF(入力シート!E29=\"\",\"\",入力シート!E29&\" － \"&入力シート!H29&\" － \"&入力シート!K29)","v":""}]
[null,null,"F A X番号",{"$f":"IF(入力シート!E30=\"\",\"\",入力シート!E30&\" － \"&入力シート!H30&\" － \"&入力シート!K30)","v":""},null,null,null,null,null,null,"メールアドレス",null,null,null,null,{"$f":"IF(入力シート!E31=\"\",\"\",入力シート!E31)","v":""}]
[]
[null,"２　維持管理設備等の修理・修繕実施結果"]
[null,"維持管理設備等の種類"]
[null,"事業期間",null,"令和　　年　　月　　日　～　令和　　年　　月　　日"]
[null,"修理・修繕の概要\n（例：●●部品の交換等）"]
[]
[null,"３　事業費内訳"]
[null,"項目・名称",null,"補助事業に\n要する経費(円)",null,null,null,null,null,"補助対象経費(円)",null,null,null,null,null,"備考（補助対象経費の積算内訳等）"]
[]
[]
[]
[]
[]
[]
[null,null,null,null,null,null,null,null,null,{"$f":"D33","v":0}]
[null,null,null,null,null,null,null,null,null,0]
[null,null,null,null,null,null,null,null,null,0]
[null,null,null,null,null,null,null,null,null,0]
[null,null,null,null,null,null,null,null,null,0]
[null,"小計",null,{"$f":"SUM(D27:I37)","v":0},null,null,null,null,null,0]
[null,"消費税",null,{"$f":"D38*0.1","v":0},null,null,null,null,null,0]
[null,"合計",null,{"$f":"SUM(D38:I39)","v":0},null,null,null,null,null,0]
[null,"４　所要額精算報告"]
[null,"総事業費"]
[null,"補助対象経費"]
[null,"実績報告額"]
[null,"概算払による既受領額"]
[null,"精算額"]

{"sheet":"活動状況等の写真","index":12,"n_rows":104,"n_cols":9,"rows_kept":104,"cut":false,"hidden":false,"merged":[[25,7,26,7],[65,7,66,7],[6,7,7,7],[44,8,45,9],[2,0,2,9],[4,7,5,9],[25,8,26,9],[4,0,21,5],[8,7,21,9],[27,7,40,9],[6,8,7,9],[63,0,80,5],[23,7,24,9],[65,8,66,9],[23,0,40,5],[67,7,80,9],[86,7,99,9],[42,0,59,5],[84,8,85,9],[46,7,59,9],[82,7,83,9],[82,0,99,5],[44,7,45,7],[84,7,85,7],[42,7,43,9],[63,7,64,9],[101,0,118,5],[101,7,102,9],[103,7,104,7],[103,8,104,9],[105,7,118,9]]}
["参考様式"]
[]
["活動状況等の写真"]
[]
["写　　真　　①",null,null,null,null,null,null,"【 写真①の説明 】"]
[]
[null,null,null,null,null,null,null,"日　付","　　 年　　月　　日"]
[]
[]
[]
[]
[]
[]
[]
[]
[]
[]
[]
[]
[]
[]
[]
[]
["写　　真　　②",null,null,null,null,null,null,"【 写真②の説明 】"]
[]
[null,null,null,null,null,null,null,"日　付"," 　 　年　　月　　日"]
[]
[]
[]
[]
[]
[]
[]
[]
[]
[]
[]
[]
[]
[]
[]
[]
["写　　真　　③",null,null,null,null,null,null,"【 写真③の説明 】"]
[]
[null,null,null,null,null,null,null,"日　付","  　　年　　月　　日"]
[]
[]
[]
[]
[]
[]
[]
[]
[]
[]
[]
[]
[]
[]
[]
[]
[]
[]
["写　　真　　④",null,null,null,null,null,null,"【 写真④の説明 】"]
[]
[null,null,null,null,null,null,null,"日　付","  　　年　　月　　日"]
[]
[]
[]
[]
[]
[]
[]
[]
[]
[]
[]
[]
[]
[]
[]
[]
["写　　真　　⑤",null,null,null,null,null,null,"【 写真⑤の説明 】"]
[]
[null,null,null,null,null,null,null,"日　付","  　　年　　月　　日"]
[]
[]
[]
[]
[]
[]
[]
[]
[]
[]
[]
[]
[]
[]
[]
[]
["写　　真　　⑥",null,null,null,null,null,null,"【 写真⑥の説明 】"]
[]
[null,null,null,null,null,null,null,"日　付","  　　年　　月　　日"]

{"sheet":"補助金支払請求書","index":13,"n_rows":33,"n_cols":23,"rows_kept":33,"cut":false,"hidden":false,"merged":[[11,15,11,18],[12,15,12,18],[24,0,24,33],[21,0,21,5],[21,6,21,16],[21,17,21,21],[21,22,21,33],[22,0,23,5],[22,6,23,16],[22,17,22,21],[22,22,22,33],[23,17,23,21],[23,22,23,33],[14,0,14,33],[16,9,16,24],[18,0,18,33],[20,0,20,5],[20,6,20,16],[20,17,20,21],[20,22,20,33],[1,22,1,33],[2,1,2,11],[4,19,4,33],[5,19,5,33],[6,19,6,33],[4,8,4,14],[6,15,6,18],[5,15,5,18],[4,15,4,18],[7,15,7,18],[7,8,7,14],[10,8,10,14],[8,15,8,18],[9,15,9,18],[10,15,10,18]]}
["様式第４号（第４条関係）"]
[null,null,null,null,null,null,null,null,null,null,null,null,null,null,null,null,null,null,null,null,null,null,"　　　年　　　月　　　日 "]
[null,"兵庫県知事　様"]
[]
[null,null,null,null,null,null,null,null,"（申請者）",null,null,null,null,null,null,"住所",null,null,null,{"$f":"\"    \"&入力シート!E15","v":"    "}]
[null,null,null,null,null,null,null,null,null,null,null,null,null,null,null,"団体等名称",null,null,null,{"$f":"\"    \"&入力シート!E17","v":"    "}]
[null,null,null,null,null,null,null,null,null,null,null,null,null,null,null,"代表者職氏名",null,null,null,{"$f":"\"    \"&IF(入力シート!E19=\"\",\"\",入力シート!E19&\"         \"&入力シート!E21)","v":"    "}]
[null,null,null,null,null,null,null,null,"（発行責任者）",null,null,null,null,null,null,"氏名"]
[null,null,null,null,null,null,null,null,null,null,null,null,null,null,null,"電話"]
[null,null,null,null,null,null,null,null,null,null,null,null,null,null,null,"電子メール"]
[null,null,null,null,null,null,null,null,"（担当者）",null,null,null,null,null,null,"氏名"]
[null,null,null,null,null,null,null,null,null,null,null,null,null,null,null,"電話"]
[null,null,null,null,null,null,null,null,null,null,null,null,null,null,null,"電子メール"]
[]
["県民まちなみ緑化事業(維持管理支援）補助金支払請求書"]
[]
[null,null,null,null,null,null,null,null,null,{"$f":"IF(入力シート!E68=\"\",\"金                　　　   円\",\"金\"&DBCS(TEXT(入力シート!E68,\"＃，＃＃０\")&\"円\"))","v":"金                　　　   円"}]
[]
["　上記のとおり、県民まちなみ緑化事業（維持管理支援）実施要領第４条の規定に基づき、請求します。なお、補助金は下記金融機関口座に振り込み願います。"]
[]
["金融機関名",null,null,null,null,null,{"$f":"IF(入力シート!E44=\"\",\"　　　　　　　　\",入力シート!E44&入力シート!J44)","v":"　　　　　　　　"},null,null,null,null,null,null,null,null,null,null,"預金の種類",null,null,null,null,{"$f":"IF(入力シート!E49=\"\",\"普通　当座　その他（　　　）\",IF(入力シート!E49=\"その他\",入力シート!G50,入力シート!E49))","v":"普通　当座　その他（　　　）"}]
["支店名",null,null,null,null,null,{"$f":"IF(入力シート!E47=\"\",\"　　　　　　　　\",入力シート!E47&入力シート!J47)","v":"　　　　　　　　"},null,null,null,null,null,null,null,null,null,null,"口座番号",null,null,null,null,{"$f":"IF(入力シート!E53=\"\",\"\",入力シート!E53)","v":""}]
["支店番号",null,null,null,null,null,{"$f":"IF(入力シート!E48=\"\",\"\",入力シート!E48)","v":""},null,null,null,null,null,null,null,null,null,null,"（フリガナ）",null,null,null,null,{"$f":"入力シート!E51","v":0}]
[null,null,null,null,null,null,null,null,null,null,null,null,null,null,null,null,null,"口座名義人",null,null,null,null,{"$f":"入力シート!E52","v":0}]
["\n※振込先がゆうちょ銀行の場合、「支店名」欄、「支店番号」欄、「口座番号」欄には、通帳の冒頭部の「銀行使用欄」に記載されている「店名」、「店番」、「口座番号」を記載してください。"]
[]
[]
[]
["※県記入欄（これより下は記入しないでください。）"]
["・補助金交付決定額",null,null,null,null,null,null,null,null,null,null,null,null,null,null,"円 （概算払のとき）       年　　月　　日　　　第　　　　号"]
["・補助金確定額",null,null,null,null,null,null,null,null,null,null,null,null,null,null,"円 （精算払のとき）   　　年　　月　　日　　　第　　　　号"]
["・既受領額",null,null,null,null,null,null,null,null,null,null,null,null,null,null,"円"]
["・今回請求額",null,null,null,null,null,null,null,null,null,null,null,null,null,null,"円"]

{"sheet":"変更承認申請書","index":14,"n_rows":33,"n_cols":34,"rows_kept":33,"cut":false,"hidden":false,"merged":[[2,22,2,24],[2,25,2,26],[2,28,2,29],[2,31,2,32],[5,1,5,15],[27,2,28,32],[23,3,23,11],[8,13,8,17],[8,19,8,33],[9,19,9,33],[21,0,21,33],[25,2,25,32],[10,13,10,17],[10,19,10,33],[13,0,13,33],[14,0,14,33],[16,0,19,33],[12,19,12,33],[7,13,7,17],[9,13,9,17],[11,13,11,17],[12,13,12,17]]}
["様式第６号（第７条関係）"]
[]
[null,null,null,null,null,null,null,null,null,null,null,null,null,null,null,null,null,null,null,null,null,null,null,null,null,null,null,"年",null,null,"月",null,null,"日"]
[]
[null,"兵庫県知事　様"]
[]
[]
[null,null,null,null,null,null,null,null,null,null,null,null,null,"（申請者）"]
[null,null,null,null,null,null,null,null,null,null,null,null,null,"住所",null,null,null,null,null,{"$f":"\"    \"&入力シート!E15","v":"    "}]
[null,null,null,null,null,null,null,null,null,null,null,null,null,"団体等名称",null,null,null,null,null,{"$f":"\"    \"&入力シート!E17","v":"    "}]
[null,null,null,null,null,null,null,null,null,null,null,null,null,"代表者職氏名",null,null,null,null,null,{"$f":"\"    \"&IF(入力シート!E19=\"\",\"\",入力シート!E19&\"    \"&入力シート!E21)","v":"    "}]
[null,null,null,null,null,null,null,null,null,null,null,null,null,"電話"]
[null,null,null,null,null,null,null,null,null,null,null,null,null,"電子メール",null,null,null,null,null,{"$f":"\"    \"&入力シート!E22","v":"    "}]
[]
["県民まちなみ緑化事業(維持管理支援）補助金変更交付申請書"]
[]
["　 　　年　　月　　日付け　　第　　　　号により補助金交付決定通知のあった\n県民まちなみ緑化事業（維持管理支援）の内容を下記のとおり変更し、\n（　　　　　　　円）\n補助金　　　　　円の交付を受けたいので、承認願いたく県民まちなみ緑化事業（維持管理支援）実施要領第７条第１項の規定に基づき、申請します。"]
[]
[]
[]
[]
["記"]
[]
[null,"１",null,"変更の内容と理由"]
[]
[]
[]
[null,"※　","　補助金の額を変更する場合は、変更前の額を上段に（　）書きで記入し、変更後の額をその下段に記入すること。"]
[]
[]
[null,null,null,"（添付書類）　交付申請時から変更のあったもののみ提出してください。"]
[null,null,null,null,"①　事業計画書 （様式第１号の２）"]
[null,null,null,null,"②　業者等からの見積書の写し"]

{"sheet":"中止承認申請書","index":15,"n_rows":25,"n_cols":34,"rows_kept":25,"cut":false,"hidden":false,"merged":[[8,13,8,17],[9,13,9,17],[14,19,14,33],[9,19,9,33],[2,22,2,24],[2,25,2,26],[2,28,2,29],[2,31,2,32],[5,1,5,15],[26,2,26,32],[10,19,10,33],[11,13,12,17],[11,19,12,33],[15,0,15,33],[24,3,24,11],[19,0,21,33],[22,0,22,33],[13,13,13,17],[10,13,10,17],[16,0,16,33],[14,13,14,17]]}
["様式第８号（第８条関係）"]
[]
[null,null,null,null,null,null,null,null,null,null,null,null,null,null,null,null,null,null,null,null,null,null,null,null,null,null,null,"年",null,null,"月",null,null,"日"]
[]
[null,"兵庫県知事　様"]
[]
[]
[]
[null,null,null,null,null,null,null,null,null,null,null,null,null,"（申請者）"]
[null,null,null,null,null,null,null,null,null,null,null,null,null,"住所",null,null,null,null,null,{"$f":"\"    \"&入力シート!E15","v":"    "}]
[null,null,null,null,null,null,null,null,null,null,null,null,null,"団体等名称",null,null,null,null,null,{"$f":"\"    \"&入力シート!E17","v":"    "}]
[null,null,null,null,null,null,null,null,null,null,null,null,null,"代表者職氏名",null,null,null,null,null,{"$f":"\"    \"&IF(入力シート!E19=\"\",\"\",入力シート!E19&\"    \"&入力シート!E21)","v":"    "}]
[]
[null,null,null,null,null,null,null,null,null,null,null,null,null,"電話"]
[null,null,null,null,null,null,null,null,null,null,null,null,null,"電子メール",null,null,null,null,null,{"$f":"\"    \"&入力シート!E24","v":"    "}]
[]
["県民まちなみ緑化事業（維持管理支援）中止承認申請書"]
[]
[]
["　 　　年　　月　　日付け　　第　　　　号により補助金交付決定のあった県民まちなみ緑化事業（維持管理支援）については、下記のとおり中止したいので、承認願いたく、県民まちなみ緑化事業（維持管理支援）実施要領第８条第１項の規定に基づき、申請します。"]
[]
[]
["記"]
[]
[null,"１",null,"中止の理由"]

{"sheet":"市町等","index":16,"n_rows":41,"n_cols":3,"rows_kept":41,"cut":false,"hidden":true,"merged":[]}
["神戸市","兵庫県知事"]
["姫路市","中播磨県民センター長"]
["尼崎市","阪神北県民局長"]
["明石市","東播磨県民局長"]
["西宮市","阪神北県民局長"]
["洲本市","淡路県民局長"]
["芦屋市","阪神北県民局長"]
["伊丹市","阪神北県民局長"]
["相生市","中播磨県民センター長"]
["豊岡市","但馬県民局長"]
["加古川市","東播磨県民局長"]
["たつの市","中播磨県民センター長"]
["赤穂市","中播磨県民センター長"]
["西脇市","北播磨県民局長"]
["宝塚市","阪神北県民局長"]
["三木市","阪神北県民局長"]
["高砂市","東播磨県民局長"]
["川西市","阪神北県民局長"]
["小野市","北播磨県民局長"]
["三田市","阪神北県民局長"]
["加西市","北播磨県民局長"]
["篠山市","丹波県民局長"]
["養父市","但馬県民局長"]
["丹波市","丹波県民局長"]
["南あわじ市","淡路県民局長"]
["朝来市","但馬県民局長"]
["淡路市","淡路県民局長"]
["宍粟市","中播磨県民センター長"]
["加東市","北播磨県民局長"]
["猪名川町","阪神北県民局長","川辺郡"]
["多可町","北播磨県民局長","多可郡"]
["稲美町","東播磨県民局長","加古郡"]
["播磨町","東播磨県民局長","加古郡"]
["神河町","中播磨県民センター長","神崎郡"]
["市川町","中播磨県民センター長","神崎郡"]
["福崎町","中播磨県民センター長","神崎郡"]
["太子町","中播磨県民センター長","揖保郡"]
["上郡町","中播磨県民センター長","赤穂郡"]
["佐用町","中播磨県民センター長","佐用郡"]
["香美町","但馬県民局長","美方郡"]
["新温泉町","但馬県民局長","美方郡"]