Workbook

Sheet 総括表
B1: 令和6年度 財政状況資料集
B2: 総括表（市町村）
B3: 都道府県名 | L3: 兵庫県 | W3: 市町村類型 | AC3: Ⅲ－２ | AM3: 指定団体等の指定状況 | AY3: 区分 | BN3: 令和6年度(千円) | BV3: 令和5年度(千円) | CD3: 区分 | CT3: 令和6年度(千円･％) | DB3: 令和5年度(千円･％)
AY4: 歳入総額 | BN4: 10596749 | BV4: 9036125 | CD4: 実質収支比率 | CT4: 3.4 | DB4: 3.2
AM5: 財政健全化等 | AU5: × | AY5: 歳出総額 | BN5: 10328623 | BV5: 8830253 | CD5: 経常収支比率 | CT5: 94.5 | DB5: 93.1
B6: 市町村名 | L6: 神河町 | W6: 地方交付税種地 | AC6: 2-2 | AM6: 財源超過 | AU6: × | AY6: 歳入歳出差引 | BN6: 268126 | BV6: 205872 | CD6: (※1) | CT6: 94.8 | DB6: 93.6
AM7: 首都 | AU7: × | AY7: 翌年度に繰越すべき財源 | BN7: 75318 | BV7: 30307 | CD7: 標準財政規模 | CT7: 5644633 | DB7: 5436038
AM8: 近畿 | AU8: × | AY8: 実質収支 | BN8: 192808 | BV8: 175565 | CD8: 財政力指数 | CT8: 0.35 | DB8: 0.35
B9: 人口 | L9: 令和2年国調(人) | R9: 10616 | W9: 産業構造 (※5) | AM9: 中部 | AU9: × | AY9: 単年度収支 | BN9: 17243 | BV9: -9887 | CD9: 公債費負担比率 | CT9: 17.9 | DB9: 18.1
L10: 平成27年国調(人) | R10: 11452 | AM10: 過疎 | AU10: ○ | AY10: 積立金 | BN10: 82603 | BV10: 88724 | CD10: 健全化判断比率
L11: 増減率 (％) | R11: -7.3 | AM11: 山振 | AU11: ○ | AY11: 繰上償還金 | BN11: 0 | BV11: 0 | CD11: 実質赤字比率 | CT11: - | DB11: -
B12: 住民基本台帳人口 (※7) | L12: 令07.01.01(人) | R12: 10144 | W12: 区分 | AC12: 令和2年国調 | AH12: 平成27年国調 | AM12: 低開発 | AU12: × | AY12: 積立金取崩し額 | BN12: 150927 | BV12: 153469 | CD12: 連結実質赤字比率 | CT12: - | DB12: -
M13: うち日本人(人) | R13: 10032 | W13: 第1次 | AC13: 200 | AH13: 241 | AM13: 指数表選定 | AU13: ○ | AY13: 実質単年度収支 | BN13: -51081 | BV13: -74632 | CD13: 実質公債費比率 | CT13: 12.1 | DB13: 11.9
L14: 令06.01.01(人) | R14: 10391 | AC14: 3.9 | AH14: 4.5 | CD14: 将来負担比率 | CT14: 38.8 | DB14: 51.7
M15: うち日本人(人) | R15: 10282 | W15: 第2次 | AC15: 1659 | AH15: 1776 | AY15: 基準財政収入額 | BN15: 1781414 | BV15: 1780926 | CD15: 資金不足比率 (※4)
L16: 増減率 (％) | R16: -2.4 | AC16: 32.6 | AH16: 33 | AY16: 基準財政需要額 | BN16: 5166667 | BV16: 4935867
M17: うち日本人(％) | R17: -2.4 | W17: 第3次 | AC17: 3223 | AH17: 3357 | AY17: 標準税収入額等 | BN17: 2244482 | BV17: 2250349
B18: 面積 (k㎡) | L18: 202.23 | AC18: 63.4 | AH18: 62.5 | AY18: 経常経費充当一般財源等 | BN18: 5408681 | BV18: 5141762
B19: 人口密度 (人/k㎡) | L19: 52 | AY19: 歳入一般財源等 | BN19: 6989150 | BV19: 6704945
B20: 世帯数 (世帯) | L20: 3779
B21: 職員の状況 (※8)
B22: 特別職等 | E22: 区分 | L22: 定数 | Q22: 1人あたり平均 給料月額(百円) | W22: 一般職員等(※6) | Z22: 区分 | AH22: 職員数 (人) | AM22: 給料月額 (百円) | AS22: 1人あたり平均 給料月額(百円) | AY22: 地方債現在高 | BN22: 11978840 | BV22: 11760784
AY23: うち公的資金 | BN23: 9413612 | BV23: 8821166
E24: 市区町村長 | L24: 1 | Q24: 7600 | Z24: 一般職員 | AH24: 108 | AM24: 343980 | AS24: 3185 | AY24: 地方債現在高（臨時財政対策債除き） | BN24: 9189105 | BV24: 8657840
E25: 副市区町村長 | L25: 1 | Q25: 6200 | Z25: うち消防職員 | AH25: - | AM25: - | AS25: - | AY25: 債務負担行為額（支出予定額） | BN25: 342663 | BV25: 1031383
E26: 教育長 | L26: 1 | Q26: 5600 | Z26: うち技能労務職員 | AH26: 5 | AM26: 16445 | AS26: 3289 | AY26: 収益事業収入 | BN26: - | BV26: -
E27: 議会議長 | L27: 1 | Q27: 3350 | Z27: 教育公務員 | AH27: 9 | AM27: 34137 | AS27: 3793 | AY27: 土地開発基金現在高 | BN27: 14951 | BV27: 14951
E28: 議会副議長 | L28: 1 | Q28: 2450 | Z28: 臨時職員 | AH28: - | AM28: - | AS28: - | AY28: 積立金 現在高 | BC28: 財政調整基金 | BN28: 1833115 | BV28: 1901439
E29: 議会議員 | L29: 10 | Q29: 2250 | Z29: 合計 | AH29: 117 | AM29: 378117 | AS29: 3232 | BC29: 減債基金 | BN29: 67160 | BV29: 47261
W30: ラスパイレス指数 | AH30: 98.1 | BC30: その他特定目的基金 | BN30: 2517707 | BV30: 2495588
C32: 一般会計等の一覧 | U32: 事業会計の一覧 | AM32: 公営企業（法適）の一覧 | BE32: 公営企業（法非適）の一覧 | BW32: 関係する一部事務組合等一覧 | CO32: 地方公社・第三セクター等一覧
C33: 項番 | E33: 会計名 | U33: 項番 | W33: 会計名 | AM33: 項番 | AO33: 会計名 | BE33: 項番 | BG33: 会計名 | BW33: 項番 | BY33: 組合等名 | CO33: 項番 | CQ33: 団体名 | DG33: (※3)
C34: =IF(E34="","",1) -> 1 | E34: =IF('各会計、関係団体の財政状況及び健全化判断比率'!B7="","",'各会計、関係団体の財政状況及び健全化判断比率'!B7) -> 一般会計 | U34: =IF(W34="","",MAX(C34:D43)+1) -> 6 | W34: =IF('各会計、関係団体の財政状況及び健全化判断比率'!B28="","",'各会計、関係団体の財政状況及び健全化判断比率'!B28) -> 国民健康保険事業特別会計 | AM34: =IF(AO34="","",MAX(C34:D43,U34:V43)+1) -> 10 | AO34: =IF('各会計、関係団体の財政状況及び健全化判断比率'!B32="","",'各会計、関係団体の財政状況及び健全化判断比率'!B32) -> 水道事業会計 | BE34: =IF(BG34="","",MAX(C34:D43,U34:V43,AM34:AN43)+1) -> 13 | BG34: =IF('各会計、関係団体の財政状況及び健全化判断比率'!B35="","",'各会計、関係団体の財政状況及び健全化判断比率'!B35) -> 土地開発事業特別会計 | BW34: =IF(BY34="","",MAX(C34:D43,U34:V43,AM34:AN43,BE34:BF43)+1) -> 14 | BY34: =IF('各会計、関係団体の財政状況及び健全化判断比率'!B68="","",'各会計、関係団体の財政状況及び健全化判断比率'!B68) -> 中播衛生施設事務組合 | CO34: =IF(CQ34="","",MAX(C34:D43,U34:V43,AM34:AN43,BE34:BF43,BW34:BX43)+1) -> 20 | CQ34: =IF('各会計、関係団体の財政状況及び健全化判断比率'!BS7="","",'各会計、関係団体の財政状況及び健全化判断比率'!BS7) -> 神崎フード | DG34: =IF('各会計、関係団体の財政状況及び健全化判断比率'!BR7="","",'各会計、関係団体の財政状況及び健全化判断比率'!BR7)
C35: =IF(E35="","",C34+1) -> 2 | E35: =IF('各会計、関係団体の財政状況及び健全化判断比率'!B8="","",'各会計、関係団体の財政状況及び健全化判断比率'!B8) -> ケアステーション事業特別会計 | U35: =IF(W35="","",U34+1) -> 7 | W35: =IF('各会計、関係団体の財政状況及び健全化判断比率'!B29="","",'各会計、関係団体の財政状況及び健全化判断比率'!B29) -> 介護保険事業特別会計 | AM35: =IF(AO35="","",AM34+1) -> 11 | AO35: =IF('各会計、関係団体の財政状況及び健全化判断比率'!B33="","",'各会計、関係団体の財政状況及び健全化判断比率'!B33) -> 下水道事業会計 | BE35: =IF(BG35="","",BE34+1) | BW35: =IF(BY35="","",BW34+1) -> 15 | BY35: =IF('各会計、関係団体の財政状況及び健全化判断比率'!B69="","",'各会計、関係団体の財政状況及び健全化判断比率'!B69) -> 中播北部行政事務組合 | CO35: =IF(CQ35="","",CO34+1) | CQ35: =IF('各会計、関係団体の財政状況及び健全化判断比率'!BS8="","",'各会計、関係団体の財政状況及び健全化判断比率'!BS8) | DG35: =IF('各会計、関係団体の財政状況及び健全化判断比率'!BR8="","",'各会計、関係団体の財政状況及び健全化判断比率'!BR8)
C36: =IF(E36="","",C35+1) -> 3 | E36: =IF('各会計、関係団体の財政状況及び健全化判断比率'!B9="","",'各会計、関係団体の財政状況及び健全化判断比率'!B9) -> 産業廃棄物処理事業特別会計 | U36: =IF(W36="","",U35+1) -> 8 | W36: =IF('各会計、関係団体の財政状況及び健全化判断比率'!B30="","",'各会計、関係団体の財政状況及び健全化判断比率'!B30) -> 後期高齢者医療事業特別会計 | AM36: =IF(AO36="","",AM35+1) -> 12 | AO36: =IF('各会計、関係団体の財政状況及び健全化判断比率'!B34="","",'各会計、関係団体の財政状況及び健全化判断比率'!B34) -> 公立神崎総合病院事業会計 | BE36: =IF(BG36="","",BE35+1) | BW36: =IF(BY36="","",BW35+1) -> 16 | BY36: =IF('各会計、関係団体の財政状況及び健全化判断比率'!B70="","",'各会計、関係団体の財政状況及び健全化判断比率'!B70) -> 兵庫県市町村職員退職手当組合 | CO36: =IF(CQ36="","",CO35+1) | CQ36: =IF('各会計、関係団体の財政状況及び健全化判断比率'!BS9="","",'各会計、関係団体の財政状況及び健全化判断比率'!BS9) | DG36: =IF('各会計、関係団体の財政状況及び健全化判断比率'!BR9="","",'各会計、関係団体の財政状況及び健全化判断比率'!BR9)
C37: =IF(E37="","",C36+1) -> 4 | E37: =IF('各会計、関係団体の財政状況及び健全化判断比率'!B10="","",'各会計、関係団体の財政状況及び健全化判断比率'!B10) -> 寺前地区振興基金特別会計 | U37: =IF(W37="","",U36+1) -> 9 | W37: =IF('各会計、関係団体の財政状況及び健全化判断比率'!B31="","",'各会計、関係団体の財政状況及び健全化判断比率'!B31) -> 訪問看護事業特別会計 | AM37: =IF(AO37="","",AM36+1) | BE37: =IF(BG37="","",BE36+1) | BW37: =IF(BY37="","",BW36+1) -> 17 | BY37: =IF('各会計、関係団体の財政状況及び健全化判断比率'!B71="","",'各会計、関係団体の財政状況及び健全化判断比率'!B71) -> 兵庫県町議会議員公務災害補償組合 | CO37: =IF(CQ37="","",CO36+1) | CQ37: =IF('各会計、関係団体の財政状況及び健全化判断比率'!BS10="","",'各会計、関係団体の財政状況及び健全化判断比率'!BS10) | DG37: =IF('各会計、関係団体の財政状況及び健全化判断比率'!BR10="","",'各会計、関係団体の財政状況及び健全化判断比率'!BR10)
C38: =IF(E38="","",C37+1) -> 5 | E38: =IF('各会計、関係団体の財政状況及び健全化判断比率'!B11="","",'各会計、関係団体の財政状況及び健全化判断比率'!B11) -> 長谷地区振興基金特別会計 | U38: =IF(W38="","",U37+1) | AM38: =IF(AO38="","",AM37+1) | BE38: =IF(BG38="","",BE37+1) | BW38: =IF(BY38="","",BW37+1) -> 18 | BY38: =IF('各会計、関係団体の財政状況及び健全化判断比率'!B72="","",'各会計、関係団体の財政状況及び健全化判断比率'!B72) -> 兵庫県後期高齢者医療広域連合（一般会計） | CO38: =IF(CQ38="","",CO37+1) | CQ38: =IF('各会計、関係団体の財政状況及び健全化判断比率'!BS11="","",'各会計、関係団体の財政状況及び健全化判断比率'!BS11) | DG38: =IF('各会計、関係団体の財政状況及び健全化判断比率'!BR11="","",'各会計、関係団体の財政状況及び健全化判断比率'!BR11)
C39: =IF(E39="","",C38+1) | E39: =IF('各会計、関係団体の財政状況及び健全化判断比率'!B12="","",'各会計、関係団体の財政状況及び健全化判断比率'!B12) | U39: =IF(W39="","",U38+1) | AM39: =IF(AO39="","",AM38+1) | BE39: =IF(BG39="","",BE38+1) | BW39: =IF(BY39="","",BW38+1) -> 19 | BY39: =IF('各会計、関係団体の財政状況及び健全化判断比率'!B73="","",'各会計、関係団体の財政状況及び健全化判断比率'!B73) -> 兵庫県後期高齢者医療広域連合（特別会計） | CO39: =IF(CQ39="","",CO38+1) | CQ39: =IF('各会計、関係団体の財政状況及び健全化判断比率'!BS12="","",'各会計、関係団体の財政状況及び健全化判断比率'!BS12) | DG39: =IF('各会計、関係団体の財政状況及び健全化判断比率'!BR12="","",'各会計、関係団体の財政状況及び健全化判断比率'!BR12)
C40: =IF(E40="","",C39+1) | E40: =IF('各会計、関係団体の財政状況及び健全化判断比率'!B13="","",'各会計、関係団体の財政状況及び健全化判断比率'!B13) | U40: =IF(W40="","",U39+1) | AM40: =IF(AO40="","",AM39+1) | BE40: =IF(BG40="","",BE39+1) | BW40: =IF(BY40="","",BW39+1) | BY40: =IF('各会計、関係団体の財政状況及び健全化判断比率'!B74="","",'各会計、関係団体の財政状況及び健全化判断比率'!B74) | CO40: =IF(CQ40="","",CO39+1) | CQ40: =IF('各会計、関係団体の財政状況及び健全化判断比率'!BS13="","",'各会計、関係団体の財政状況及び健全化判断比率'!BS13) | DG40: =IF('各会計、関係団体の財政状況及び健全化判断比率'!BR13="","",'各会計、関係団体の財政状況及び健全化判断比率'!BR13)
C41: =IF(E41="","",C40+1) | E41: =IF('各会計、関係団体の財政状況及び健全化判断比率'!B14="","",'各会計、関係団体の財政状況及び健全化判断比率'!B14) | U41: =IF(W41="","",U40+1) | AM41: =IF(AO41="","",AM40+1) | BE41: =IF(BG41="","",BE40+1) | BW41: =IF(BY41="","",BW40+1) | BY41: =IF('各会計、関係団体の財政状況及び健全化判断比率'!B75="","",'各会計、関係団体の財政状況及び健全化判断比率'!B75) | CO41: =IF(CQ41="","",CO40+1) | CQ41: =IF('各会計、関係団体の財政状況及び健全化判断比率'!BS14="","",'各会計、関係団体の財政状況及び健全化判断比率'!BS14) | DG41: =IF('各会計、関係団体の財政状況及び健全化判断比率'!BR14="","",'各会計、関係団体の財政状況及び健全化判断比率'!BR14)
...

Sheet 普通会計の状況
DH1: 令和6年度 | DP1: 兵庫県神河町
B2: (1) 普通会計の状況（市町村）
B3: 歳入の状況（単位 千円・％） | AP3: 地方税の状況（単位 千円・％） | CD3: 歳出の状況（単位 千円・％）
B4: 区分 | R4: 決算額 | Z4: 構成比 | AD4: 経常一般財源等 | AL4: 構成比 | AP4: 区分 | BG4: 収入済額 | BO4: 構成比 | BS4: 超過課税分 | CD4: 目的別歳出の状況（単位 千円・％）
B5: 地方税 | R5: 1762766 | Z5: 16.6 | AD5: 1762766 | AL5: 30.9 | AP5: 普通税 | BG5: 1762766 | BO5: 100 | BS5: - | CD5: 区分 | CR5: 決算額 (A) | CZ5: 構成比 | DD5: (A)のうち普通建設事業費 | DQ5: (A)のうち充当一般財源等
B6: 地方譲与税 | R6: 140703 | Z6: 1.3 | AD6: 140703 | AL6: 2.5 | AP6: 法定普通税 | BG6: 1762766 | BO6: 100 | BS6: - | CD6: 議会費 | CR6: 88440 | CZ6: 0.9 | DD6: - | DQ6: 88440
B7: 利子割交付金 | R7: 873 | Z7: 0 | AD7: 873 | AL7: 0 | AP7: 市町村民税 | BG7: 453401 | BO7: 25.7 | BS7: - | CD7: 総務費 | CR7: 1610357 | CZ7: 15.6 | DD7: 37522 | DQ7: 1047176
B8: 配当割交付金 | R8: 15568 | Z8: 0.1 | AD8: 15568 | AL8: 0.3 | AP8: 個人均等割 | BG8: 14424 | BO8: 0.8 | BS8: - | CD8: 民生費 | CR8: 1914180 | CZ8: 18.5 | DD8: 12588 | DQ8: 1082865
B9: 株式等譲渡所得割交付金 | R9: 20501 | Z9: 0.2 | AD9: 20501 | AL9: 0.4 | AP9: 所得割 | BG9: 387392 | BO9: 22 | BS9: - | CD9: 衛生費 | CR9: 1467628 | CZ9: 14.2 | DD9: 54807 | DQ9: 1192223
B10: 分離課税所得割交付金 | R10: - | Z10: - | AD10: - | AL10: - | AP10: 法人均等割 | BG10: 26524 | BO10: 1.5 | BS10: - | CD10: 労働費 | CR10: 332 | CZ10: 0 | DD10: - | DQ10: 332
B11: 地方消費税交付金 | R11: 255296 | Z11: 2.4 | AD11: 255296 | AL11: 4.5 | AP11: 法人税割 | BG11: 25061 | BO11: 1.4 | BS11: - | CD11: 農林水産業費 | CR11: 647645 | CZ11: 6.3 | DD11: 80218 | DQ11: 345710
B12: ゴルフ場利用税交付金 | R12: 7071 | Z12: 0.1 | AD12: 7071 | AL12: 0.1 | AP12: 固定資産税 | BG12: 1208492 | BO12: 68.6 | BS12: - | CD12: 商工費 | CR12: 269375 | CZ12: 2.6 | DD12: 47888 | DQ12: 185225
B13: 自動車取得税交付金 | R13: - | Z13: - | AD13: - | AL13: - | AP13: うち純固定資産税 | BG13: 1207299 | BO13: 68.5 | BS13: - | CD13: 土木費 | CR13: 768527 | CZ13: 7.4 | DD13: 290398 | DQ13: 505481
B14: 軽油引取税交付金 | R14: - | Z14: - | AD14: - | AL14: - | AP14: 軽自動車税 | BG14: 47161 | BO14: 2.7 | BS14: - | CD14: 消防費 | CR14: 428711 | CZ14: 4.2 | DD14: 186589 | DQ14: 247919
B15: 自動車税環境性能割交付金 | R15: 16255 | Z15: 0.2 | AD15: 16255 | AL15: 0.3 | AP15: 市町村たばこ税 | BG15: 53396 | BO15: 3 | BS15: - | CD15: 教育費 | CR15: 1828830 | CZ15: 17.7 | DD15: 911809 | DQ15: 771467
B16: 法人事業税交付金 | R16: 19335 | Z16: 0.2 | AD16: 19335 | AL16: 0.3 | AP16: 鉱産税 | BG16: 316 | BO16: 0 | BS16: - | CD16: 災害復旧費 | CR16: - | CZ16: - | DD16: - | DQ16: -
B17: 地方特例交付金等 | R17: 52780 | Z17: 0.5 | AD17: 52780 | AL17: 0.9 | AP17: 特別土地保有税 | BG17: - | BO17: - | BS17: - | CD17: 公債費 | CR17: 1304598 | CZ17: 12.6 | DD17: - | DQ17: 1254186
B18: 住宅借入金等特別税額控除減収補塡特例交付金 | R18: 6315 | Z18: 0.1 | AD18: 6315 | AL18: 0.1 | AP18: 法定外普通税 | BG18: - | BO18: - | BS18: - | CD18: 諸支出金 | CR18: - | CZ18: - | DD18: - | DQ18: -
B19: 定額減税減収補塡特例交付金 | R19: 43409 | Z19: 0.4 | AD19: 43409 | AL19: 0.8 | AP19: 目的税 | BG19: - | BO19: - | BS19: - | CD19: 前年度繰上充用金 | CR19: - | CZ19: - | DD19: - | DQ19: -
B20: 新型コロナウイルス感染症対策地方税減収補塡特別交付金 | R20: 3056 | Z20: 0 | AD20: 3056 | AL20: 0.1 | AP20: 法定目的税 | BG20: - | BO20: - | BS20: - | CD20: 歳出合計 | CR20: 10328623 | CZ20: 100 | DD20: 1621819 | DQ20: 6721024
B21: 地方交付税 | R21: 4002382 | Z21: 37.8 | AD21: 3385605 | AL21: 59.3 | AP21: 入湯税 | BG21: - | BO21: - | BS21: -
B22: 普通交付税 | R22: 3385605 | Z22: 31.9 | AD22: 3385605 | AL22: 59.3 | AP22: 事業所税 | BG22: - | BO22: - | BS22: - | CD22: 性質別歳出の状況（単位 千円・％）
B23: 特別交付税 | R23: 616777 | Z23: 5.8 | AD23: - | AL23: - | AP23: 都市計画税 | BG23: - | BO23: - | BS23: - | CD23: 区分 | CR23: 決算額 | CZ23: 構成比 | DD23: 充当一般財源等 | DL23: 経常経費充当一般財源等 | DW23: 経常収支比率
B24: 震災復興特別交付税 | R24: - | Z24: - | AD24: - | AL24: - | AP24: 水利地益税等 | BG24: - | BO24: - | BS24: - | CD24: 義務的経費計 | CR24: 3720589 | CZ24: 36 | DD24: 2922098 | DL24: 2754264 | DW24: 48.1
B25: (一般財源計) | R25: 6293530 | Z25: 59.4 | AD25: 5676753 | AL25: 99.5 | AP25: 法定外目的税 | BG25: - | BO25: - | BS25: - | CD25: 人件費 | CR25: 1429917 | CZ25: 13.8 | DD25: 1269736 | DL25: 1245911 | DW25: 21.8
B26: 交通安全対策特別交付金 | R26: 1563 | Z26: 0 | AD26: 1563 | AL26: 0 | AP26: 旧法による税 | BG26: - | BO26: - | BS26: - | CD26: うち職員給 | CR26: 753446 | CZ26: 7.3 | DD26: 699833 | DL26: - | DW26: -
B27: 分担金・負担金 | R27: 118702 | Z27: 1.1 | AD27: - | AL27: - | AP27: 合計 | BG27: 1762766 | BO27: 100 | BS27: - | CD27: 扶助費 | CR27: 986112 | CZ27: 9.5 | DD27: 398214 | DL27: 254205 | DW27: 4.4
B28: 使用料 | R28: 141385 | Z28: 1.3 | AD28: 16299 | AL28: 0.3 | CD28: 公債費 | CR28: 1304560 | CZ28: 12.6 | DD28: 1254148 | DL28: 1254148 | DW28: 21.9
B29: 手数料 | R29: 5931 | Z29: 0.1 | AD29: 170 | AL29: 0 | CD29: 内訳 | CF29: 元利償還金 | CR29: 1304438 | CZ29: 12.6 | DD29: 1254026 | DL29: 1254026 | DW29: 21.9
B30: 国庫支出金 | R30: 750575 | Z30: 7.1 | AD30: - | AL30: - | AP30: 区分 | BG30: 令和6年度 | BR30: 令和5年度 | CF30: うち元金 | CR30: 1264790 | CZ30: 12.2 | DD30: 1214574 | DL30: 1214574 | DW30: 21.2
B31: 国有提供交付金(特別区財調交付金) | R31: - | Z31: - | AD31: - | AL31: - | AP31: 徴収率 (％) | AT31: 現年 | AX31: 合計 | BG31: 99.2 | BM31: 95.5 | BR31: 99.2 | BX31: 96.1 | CF31: うち利子 | CR31: 39648 | CZ31: 0.4 | DD31: 39452 | DL31: 39452 | DW31: 0.7
B32: 都道府県支出金 | R32: 678697 | Z32: 6.4 | AD32: - | AL32: - | AU32: ・計 | AX32: 市町村民税 | BG32: 99.4 | BM32: 96.5 | BR32: 99.3 | BX32: 96.9 | CF32: 一時借入金利子 | CR32: 122 | CZ32: 0 | DD32: 122 | DL32: 122 | DW32: 0
B33: 財産収入 | R33: 32913 | Z33: 0.3 | AD33: 7961 | AL33: 0.1 | AX33: 純固定資産税 | BG33: 99.1 | BM33: 95 | BR33: 99.1 | BX33: 95.7 | CD33: その他の経費 | CR33: 4986215 | CZ33: 48.3 | DD33: 3554779 | DL33: 2654417 | DW33: 46.4
B34: 寄附金 | R34: 194621 | Z34: 1.8 | AD34: - | AL34: - | CD34: 物件費 | CR34: 1773140 | CZ34: 17.2 | DD34: 1124283 | DL34: 850564 | DW34: 14.9
B35: 繰入金 | R35: 404158 | Z35: 3.8 | AD35: - | AL35: - | AQ35: 公営事業等への繰出 | BG35: 国民健康保険事業会計の状況 | CD35: 維持補修費 | CR35: 8437 | CZ35: 0.1 | DD35: 474 | DL35: 474 | DW35: 0
B36: 繰越金 | R36: 205872 | Z36: 1.9 | AD36: - | AL36: - | AQ36: 合計 | AZ36: 1513729 | BG36: 実質収支 | BV36: 5005 | CD36: 補助費等 | CR36: 2117432 | CZ36: 20.5 | DD36: 1684174 | DL36: 1320092 | DW36: 23.1
B37: 諸収入 | R37: 285956 | Z37: 2.7 | AD37: 3443 | AL37: 0.1 | AQ37: 病院 | AZ37: 551500 | BG37: 再差引収支 | BV37: 1979 | CD37: うち一部事務組合負担金 | CR37: 517297 | CZ37: 5 | DD37: 345097 | DL37: 336063 | DW37: 5.9
B38: 地方債 | R38: 1482846 | Z38: 14 | AD38: - | AL38: - | AQ38: 下水道 | AZ38: 286009 | BG38: 加入世帯数(世帯) | BV38: 1300 | CD38: 繰出金 | CR38: 569308 | CZ38: 5.5 | DD38: 483287 | DL38: 483287 | DW38: 8.4
B39: うち減収補塡債(特例分) | R39: - | Z39: - | AD39: - | AL39: - | AQ39: 簡易水道 | AZ39: 91693 | BG39: 被保険者数(人) | BV39: 2008 | CD39: 積立金 | CR39: 372681 | CZ39: 3.6 | DD39: 168644 | DL39: - | DW39: -
B40: うち臨時財政対策債 | R40: 14546 | Z40: 0.1 | AD40: - | AL40: - | AQ40: その他 | AZ40: 15219 | BG40: 被保険者 1人当り | BM40: 保険税(料)収入額 | BV40: 97 | CD40: 投資・出資金・貸付金 | CR40: 145217 | CZ40: 1.4 | DD40: 93917 | DL40: - | DW40: -
...

Sheet 各会計、関係団体の財政状況及び健全化判断比率
A2: (2)各会計、関係団体の財政状況及び健全化判断比率（市町村） | DJ2: 令和6年度 | DQ2: 兵庫県神河町
A4: 一般会計等の財政状況（単位：百万円） | BQ4: 地方公社・第三セクター等の経営状況及び地方公共団体の財政的支援の状況（単位：百万円）
A5: 会計名 | Q5: 歳入 | V5: 歳出 | AA5: 形式収支 | AF5: 実質収支 | AK5: 他会計等 からの 繰入金 | AP5: 地方債 現在高 | AU5: 備考 | BQ5: 地方公社・第三セクター等名 | CH5: 経常損益 | CM5: 純資産又は 正味財産 | CR5: 当該団体 からの 出資金 | CW5: 当該団体 からの 補助金 | DB5: 当該団体 からの 貸付金 | DG5: 当該団体からの債務保証に係る債務残高 | DL5: 当該団体からの損失補償に係る債務残高 | DQ5: 一般会計等 負担見込額 | DV5: 備考
A7: 1 | B7: 一般会計 | Q7: 10462 | V7: 10207 | AA7: 255 | AF7: 179 | AK7: 9 | AP7: 11979 | BQ7: 1 | BS7: 神崎フード | CH7: -47 | CM7: 60 | CR7: 42 | CW7: - | DB7: - | DG7: - | DL7: - | DQ7: -
A8: 2 | B8: ケアステーション事業特別会計 | Q8: 97 | V8: 84 | AA8: 13 | AF8: 13 | AK8: 21 | AP8: - | BQ8: 2
A9: 3 | B9: 産業廃棄物処理事業特別会計 | Q9: 56 | V9: 56 | AA9: 0 | AF9: 0 | AK9: - | AP9: - | BQ9: 3
A10: 4 | B10: 寺前地区振興基金特別会計 | Q10: 3 | V10: 3 | AA10: - | AF10: - | AK10: - | AP10: - | BQ10: 4
A11: 5 | B11: 長谷地区振興基金特別会計 | Q11: 7 | V11: 7 | AA11: - | AF11: - | AK11: - | AP11: - | BQ11: 5
A12: 6 | BQ12: 6
A13: 7 | BQ13: 7
A14: 8 | BQ14: 8
A15: 9 | BQ15: 9
A16: 10 | BQ16: 10
A17: 11 | BQ17: 11
A18: 12 | BQ18: 12
A19: 13 | BQ19: 13
A20: 14 | BQ20: 14
A21: 15 | BQ21: 15
A22: 16 | AZ22: 実質赤字額 | BQ22: 16
A23: 計 | B23: 一般会計等（純計） | Q23: 10597 | V23: 10329 | AA23: 268 | AF23: 193 | AP23: 11979 | AZ23: - | BQ23: 17
A24: ※一般会計等（純計）は、各会計の相互間の繰入・繰出等の重複を控除したものであり、各会計の合計と一致しない場合がある。 | BQ24: 18
A25: 公営企業会計等の財政状況（単位：百万円） | BQ25: 19
A26: 会計名 | Q26: 総収益 （歳入） | V26: 総費用 （歳出） | AA26: 純損益 （形式収支） | AF26: 資金剰余額 /不足額 （実質収支） | AK26: 他会計等 からの 繰入金 | AP26: 企業債 （地方債） 現在高 | AU26: 左のうち 一般会計等 繰入見込額 | AZ26: 資金不足 比率 | BE26: 備考 | BQ26: 20
BQ27: 21
A28: 1 | B28: 国民健康保険事業特別会計 | Q28: 1261 | V28: 1256 | AA28: 5 | AF28: 5 | AK28: 88 | AP28: - | AU28: - | AZ28: - | BQ28: 22
A29: 2 | B29: 介護保険事業特別会計 | Q29: 1552 | V29: 1527 | AA29: 25 | AF29: 25 | AK29: 246 | AP29: - | AU29: - | AZ29: - | BQ29: 23
A30: 3 | B30: 後期高齢者医療事業特別会計 | Q30: 219 | V30: 217 | AA30: 2 | AF30: 2 | AK30: 55 | AP30: - | AU30: - | AZ30: - | BQ30: 24
A31: 4 | B31: 訪問看護事業特別会計 | Q31: 152 | V31: 123 | AA31: 29 | AF31: 29 | AK31: - | AP31: - | AU31: - | AZ31: - | BQ31: 25
A32: 5 | B32: 水道事業会計 | Q32: 393 | V32: 371 | AA32: 21 | AF32: 296 | AK32: 92 | AP32: 2445 | AU32: 1174 | AZ32: - | BE32: 法適用企業 | BQ32: 26
A33: 6 | B33: 下水道事業会計 | Q33: 660 | V33: 602 | AA33: 58 | AF33: 448 | AK33: 301 | AP33: 3561 | AU33: 2154 | AZ33: - | BE33: 法適用企業 | BQ33: 27
A34: 7 | B34: 公立神崎総合病院事業会計 | Q34: 3158 | V34: 3467 | AA34: -309 | AF34: 974 | AK34: 552 | AP34: 3125 | AU34: 1766 | AZ34: - | BE34: 法適用企業 | BQ34: 28
A35: 8 | B35: 土地開発事業特別会計 | Q35: 58 | V35: 0 | AA35: 58 | AF35: 63 | AK35: - | AP35: - | AU35: - | AZ35: - | BE35: 法非適用企業 | BQ35: 29
A36: 9 | BQ36: 30
A37: 10 | BQ37: 31
A38: 11 | BQ38: 32
A39: 12 | BQ39: 33
A40: 13 | BQ40: 34
A41: 14 | BQ41: 35
A42: 15 | BQ42: 36
A43: 16 | BQ43: 37
...

Sheet 財政比較分析表

Sheet 経常経費分析表（経常収支比率の分析）

Sheet 経常経費分析表（人件費・公債費・普通建設事業費の分析）
A5: 人件費及び人件費に準ずる費用の分析
AK6: 人件費及び人件費に準ずる費用
AO7: 当該団体決算額 （千円） | AQ7: 人口1人当たり決算額
AP8: 当該団体（円） | AQ8: 類似団体平均（円） | AR8: 対比（％）
AK9: 人件費 | AO9: 1429917 | AP9: 140962 | AQ9: 120794 | AR9: 16.7
AK10: 一部事務組合負担金（補助費等） | AO10: 14310 | AP10: 1411 | AQ10: 16294 | AR10: -91.3
AK11: 公営企業（法適）等に対する繰出し（補助費等） | AO11: 54364 | AP11: 5359 | AQ11: 1928 | AR11: 178
AK12: 公営企業（法適）等に対する繰出し（投資及び出資金・貸付金） | AO12: - | AP12: - | AQ12: 20 | AR12: -
AK13: 公営企業（法非適）等に対する繰出し（繰出金） | AO13: 67468 | AP13: 6651 | AQ13: 4630 | AR13: 43.7
AK14: 事業費支弁に係る職員の人件費（投資的経費） | AO14: 1653 | AP14: 163 | AQ14: 2459 | AR14: -93.4
AK15: ▲退職金 | AO15: -82558 | AP15: -8139 | AQ15: -7108 | AR15: 14.5
AK16: 合計 | AO16: 1485154 | AP16: 146407 | AQ16: 139017 | AR16: 5.3
AK19: 参考
AO20: 当該団体 | AP20: 類似団体平均 | AQ20: 対比（差引）
AK21: 人口1,000人当たり職員数（人） | AO21: 11.53 | AP21: 11.1 | AQ21: 0.43
AK22: ラスパイレス指数 | AO22: 98.1 | AP22: 96.5 | AQ22: 1.6
A26: （注）人口については、各調査対象年度の1月1日現在の住民基本台帳に登載されている人口に基づいている。
A28: 公債費及び公債費に準ずる費用の分析
AK29: 公債費及び公債費に準ずる費用（実質公債費比率の構成要素）
AO30: 当該団体決算額 （千円） | AQ30: 人口1人当たり決算額
AP31: 当該団体（円） | AQ31: 類似団体平均（円） | AR31: 対比（％）
AK32: 元利償還金の額 （繰上償還額等を除く） | AO32: 1291769 | AP32: 127343 | AQ32: 62408 | AR32: 104
AK33: 積立不足額を考慮して算定した額 | AO33: - | AP33: - | AQ33: - | AR33: -
AK34: 満期一括償還地方債の一年当たりの元金償還金に相当するもの （年度割相当額） | AO34: - | AP34: - | AQ34: 4 | AR34: -
AK35: 公営企業に要する経費の財源とする地方債の償還の財源に 充てたと認められる繰入金 | AO35: 482824 | AP35: 47597 | AQ35: 14219 | AR35: 234.7
AK36: 一部事務組合等の起こした地方債に充てたと認められる 補助金又は負担金 | AO36: 3601 | AP36: 355 | AQ36: 4004 | AR36: -91.1
AK37: 公債費に準ずる債務負担行為に係るもの | AO37: - | AP37: - | AQ37: 309 | AR37: -
AK38: 一時借入金利子 （同一団体における会計間の現金運用に係る利子は除く） | AO38: 122 | AP38: 12 | AQ38: 4 | AR38: 200
AK39: ▲特定財源の額 | AO39: -50412 | AP39: -4970 | AQ39: -2554 | AR39: 94.6
AK40: ▲地方債に係る元利償還金及び準元利償還金に要する経費として 普通交付税の額の算定に用いる基準財政需要額に算入された額 | AO40: -1231326 | AP40: -121385 | AQ40: -52280 | AR40: 132.2
AK41: 合計 | AO41: 496578 | AP41: 48953 | AQ41: 26115 | AR41: 87.5
A47: （参考） 普通建設事業費の分析
AK48: 普通建設事業費
AM49: 当該団体決算額 （千円） | AN49: 人口１人当たり決算額
AN50: 当該団体(円) | AO50: 増減率(%)(A) | AP50: 類似団体平均(円) | AQ50: 増減率(%)(B) | AR50: (A)-(B)
AK51: R02 | AM51: 1187640 | AN51: 106850 | AO51: 4.4 | AP51: 117234 | AQ51: 13.4 | AR51: -9
AL52: うち単独分 | AM52: 938885 | AN52: 84470 | AO52: 5 | AP52: 59796 | AQ52: 16.6 | AR52: -11.6
AK53: R03 | AM53: 711801 | AN53: 65399 | AO53: -38.8 | AP53: 97758 | AQ53: -16.6 | AR53: -22.2
AL54: うち単独分 | AM54: 434584 | AN54: 39929 | AO54: -52.7 | AP54: 45946 | AQ54: -23.2 | AR54: -29.5
AK55: R04 | AM55: 613024 | AN55: 57502 | AO55: -12.1 | AP55: 91338 | AQ55: -6.6 | AR55: -5.5
...

Sheet 性質別歳出決算分析表（住民一人当たりのコスト）

Sheet 目的別歳出決算分析表（住民一人当たりのコスト）

Sheet 実質収支比率等に係る経年分析
J45: 標準財政規模比（％）
B46: 区分 | E46: 年度 | F46: R02 | G46: R03 | H46: R04 | I46: R05 | J46: R06
C47: 財政調整基金残高 | F47: 26.77 | G47: 32.45 | H47: 36.83 | I47: 34.98 | J47: 32.48
C48: 実質収支額 | F48: 5.35 | G48: 3.24 | H48: 3.47 | I48: 3.23 | J48: 3.42
C49: 実質単年度収支 | F49: 4.33 | G49: 5.11 | H49: 3.87 | I49: ▲ 1.37 | J49: ▲ 0.90

Sheet 連結実質赤字比率に係る赤字・黒字の構成分析
J32: 標準財政規模比（％）
B33: 会計 | E33: 年度 | F33: R02 | G33: R03 | H33: R04 | I33: R05 | J33: R06
C34: 公立神崎総合病院事業会計 | F34: 6.99 | G34: 14 | H34: 24.91 | I34: 25.29 | J34: 17.26
C35: 下水道事業会計 | F35: 10.14 | G35: 10.07 | H35: 10.91 | I35: 10.39 | J35: 7.93
C36: 水道事業会計 | F36: 5.58 | G36: 5.68 | H36: 5.97 | I36: 6.19 | J36: 5.24
C37: 一般会計 | F37: 5.1 | G37: 3.03 | H37: 3.28 | I37: 3 | J37: 3.17
C38: 土地開発事業特別会計 | F38: 1.26 | G38: 1.2 | H38: 1.2 | I38: 1.17 | J38: 1.11
C39: 訪問看護事業特別会計 | F39: 0.52 | G39: 0.63 | H39: 0.76 | I39: 0.66 | J39: 0.51
C40: 介護保険事業特別会計 | F40: 0.05 | G40: 0.37 | H40: 0.64 | I40: 0.4 | J40: 0.43
C41: ケアステーション事業特別会計 | F41: - | G41: - | H41: - | I41: - | J41: 0.23
C42: その他会計（赤字） | F42: - | G42: - | H42: - | I42: - | J42: -
C43: その他会計（黒字） | F43: 0.62 | G43: 0.47 | H43: 0.46 | I43: 1.1 | J43: 0.13

Sheet 実質公債費比率（分子）の構造
O43: （百万円）
B44: 分子の構造 | J44: 年度 | K44: R02 | L44: R03 | M44: R04 | N44: R05 | O44: R06
B45: 元利償還金等(A) | E45: 元利償還金 | K45: 973 | L45: 984 | M45: 1166 | N45: 1263 | O45: 1292
E46: 減債基金積立不足算定額※2 | K46: - | L46: - | M46: - | N46: - | O46: -
E47: 満期一括償還地方債に係る年度割相当額 | K47: - | L47: - | M47: - | N47: - | O47: -
E48: 公営企業債の元利償還金に対する繰入金 | K48: 619 | L48: 560 | M48: 542 | N48: 515 | O48: 483
E49: 組合等が起こした地方債の元利償還金に対する負担金等 | K49: 15 | L49: 8 | M49: 3 | N49: 3 | O49: 4
E50: 債務負担行為に基づく支出額 | K50: - | L50: - | M50: - | N50: - | O50: -
E51: 一時借入金の利子 | K51: 1 | L51: 0 | M51: 0 | N51: 0 | O51: 0
B52: 算入公債費等(B) | E52: 算入公債費等 | K52: 1097 | L52: 1085 | M52: 1188 | N52: 1233 | O52: 1282
B53: (A)－(B) | E53: 実質公債費比率の分子 | K53: 511 | L53: 467 | M53: 523 | N53: 548 | O53: 497
B54: ※ 減債基金積立不足算定額=(C)×(１－(D)/(E))
B56: （参考） | O56: （百万円）
J57: 年度 | K57: R02 | L57: R03 | M57: R04 | N57: R05 | O57: R06
B58: 減債基金 積立状況等（注） | D58: 満期一括償還地方債に係る実質償還額又は理論償還額のいずれか少ない額(C)
D59: 前年度末減債基金残高(D)
D60: 前年度末減債基金積立相当額(E)
D61: （注）減債基金のうち、実質公債費比率の算定に用いる満期一括償還地方債の償還の財源に係るもののみを記入。
D62: 減債基金積立金の年度を超えた一般会計又は特別会計への貸付額は控除して記入。

Sheet 将来負担比率（分子）の構造
M39: （百万円）
B40: 分子の構造 | H40: 年度 | I40: R02 | J40: R03 | K40: R04 | L40: R05 | M40: R06
B41: 将来負担額(A) | E41: 一般会計等に係る地方債の現在高 | I41: 13537 | J41: 13251 | K41: 12616 | L41: 11761 | M41: 11979
E42: 債務負担行為に基づく支出予定額 | I42: 426 | J42: 270 | K42: 432 | L42: 1024 | M42: 343
E43: 公営企業債等繰入見込額 | I43: 5882 | J43: 5291 | K43: 5275 | L43: 5246 | M43: 5094
E44: 組合等負担等見込額 | I44: 8 | J44: 15 | K44: 12 | L44: 9 | M44: 25
E45: 退職手当負担見込額 | I45: 231 | J45: 309 | K45: 237 | L45: 320 | M45: 305
E46: 設立法人等の負債額等負担見込額 | I46: - | J46: - | K46: - | L46: - | M46: -
E47: うち、健全化法施行規則附則第三条に係る負担見込額 | I47: - | J47: - | K47: - | L47: - | M47: -
E48: 連結実質赤字額 | I48: - | J48: - | K48: - | L48: - | M48: -
E49: 組合等連結実質赤字額負担見込額 | I49: - | J49: - | K49: - | L49: - | M49: -
B50: 充当可能財源等(B) | E50: 充当可能基金 | I50: 2825 | J50: 3540 | K50: 3833 | L50: 3744 | M50: 3758
E51: 充当可能特定歳入 | I51: 810 | J51: 821 | K51: 762 | L51: 682 | M51: 589
E52: 基準財政需要額算入見込額 | I52: 13403 | J52: 13142 | K52: 12375 | L52: 11730 | M52: 11685
B53: (A)－(B) | E53: 将来負担比率の分子 | I53: 3045 | J53: 1633 | K53: 1602 | L53: 2203 | M53: 1713

Sheet 基金残高に係る経年分析
H53: （百万円）
B54: 区分 | E54: 年度 | F54: R04 | G54: R05 | H54: R06
C55: 財政調整基金 | F55: 1966 | G55: 1901 | H55: 1833
C56: 減債基金 | F56: 22 | G56: 47 | H56: 67
C57: その他特定目的基金 | F57: 2553 | G57: 2496 | H57: 2518
C58: (まちづくり基金(R06年度末現在)) | F58: 1012 | G58: 989 | H58: 953
C59: (寺前地区振興基金(R06年度末現在)) | F59: 611 | G59: 585 | H59: 585
C60: (公共施設維持管理基金(R06年度末現在)) | F60: 472 | G60: 428 | H60: 426
C61: (CATVネットワーク維持基金(R06年度末現在)) | F61: 120 | G61: 135 | H61: 140
C62: (企業版ふるさと納税基金(R06年度末現在)) | F62: 0 | G62: 57 | H62: 101
C63: 基金残高合計 | F63: 4541 | G63: 4444 | H63: 4418

Sheet 公会計指標分析・財政指標組合せ分析
B41: 将来負担比率及び有形固定資産減価償却率の組合せによる分析
AN42: 分析欄
AN43: 地方債現在高は増加したが、標準財政規模も増加したことと、粟賀小学校跡地整備事業の債務負担に基づく支出予定額が781百万円減少したこと等により、将来負担比率は令和5年度と比較すると12.9％減少しており、類似団体と比べても高い水準にある。一方、有形固定資産減価償却率は類似団体よりも低くなっている。これは、合併時に作成した新町建設計画により施設整備を進めてきたこと、学校施設の統廃合による新しい小中学校を建設したこと、平成29年度にスキー場、令和6年度に図書コミュニティ施設を整備したこと等による。
AN49: ( 参考 ）
BP50: R02 | BX50: R03 | CF50: R04 | CN50: R05 | CV50: R06
AN51: 当該団体値 | BB51: 将来負担比率 | BP51: 73.5 | BX51: 36.9 | CF51: 38.1 | CN51: 51.7 | CV51: 38.8
BB53: 有形固定資産減価償却率 | BP53: 41.2 | BX53: 43.2 | CF53: 45.3 | CN53: 47.3 | CV53: 48.7
AN55: 類似団体内平均値 | BB55: 将来負担比率 | BP55: 13.7 | BX55: 6.9 | CF55: 0 | CN55: 0 | CV55: 0
BB57: 有形固定資産減価償却率 | BP57: 62 | BX57: 62.9 | CF57: 63.3 | CN57: 64.4 | CV57: 65.2
B63: 将来負担比率及び実質公債費比率の組合せによる分析
AN64: 分析欄
AN65: 標準財政規模が増加し、さらに元利償還金及び準元利償還金の減少により、実質公債費率は単年度では前年度比1.6％減となった。３年平均では比率の低かった令和3年度が算定からはずれたため、結果として0.2％増となった。一般会計では粟賀小学校跡地整備事業の債務負担に基づく支出予定額が781百万円減少したこと等から将来負担比率は12.9％減少した。今後、地方債償還額が増加することから、実質公債費比率が上昇していくことが考えられる。このことから、これまで以上に公債費の適正化に取り組んでいく必要がある。
AN71: ( 参考 ）
BP72: R02 | BX72: R03 | CF72: R04 | CN72: R05 | CV72: R06
AN73: 当該団体値 | BB73: 将来負担比率 | BP73: 73.5 | BX73: 36.9 | CF73: 38.1 | CN73: 51.7 | CV73: 38.8
BB75: 実質公債費比率 | BP75: 14.4 | BX75: 12.5 | CF75: 11.7 | CN75: 11.9 | CV75: 12.1
AN77: 類似団体内平均値 | BB77: 将来負担比率 | BP77: 13.7 | BX77: 6.9 | CF77: 0 | CN77: 0 | CV77: 0
BB79: 実質公債費比率 | BP79: 7.9 | BX79: 8 | CF79: 8 | CN79: 8.1 | CV79: 8.1

Sheet 施設類型別ストック情報分析表①

Sheet 施設類型別ストック情報分析表②

Sheet データシート
D2: 当該団体(円) | F2: 類似団体内平均(円)
A3: R02 | D3: 106850 | F3: 117234
D4: 84470 | F4: 59796
A5: R03 | D5: 65399 | F5: 97758
D6: 39929 | F6: 45946
A7: R04 | D7: 57502 | F7: 91338
D8: 41926 | F8: 43989
A9: R05 | D9: 69005 | F9: 103975
D10: 44573 | F10: 52698
A11: R06 | D11: 159880 | F11: 112678
D12: 147111 | F12: 55165
D13: 91727 | F13: 104597
D14: 71602 | F14: 51519
A17: 実質収支比率等に係る経年分析
B18: =実質収支比率等に係る経年分析!F$46 -> R02 | C18: =実質収支比率等に係る経年分析!G$46 -> R03 | D18: =実質収支比率等に係る経年分析!H$46 -> R04 | E18: =実質収支比率等に係る経年分析!I$46 -> R05 | F18: =実質収支比率等に係る経年分析!J$46 -> R06
A19: 実質収支額 | B19: =ROUND(VALUE(SUBSTITUTE(実質収支比率等に係る経年分析!F$48,"▲","-")),2) -> 5.35 | C19: =ROUND(VALUE(SUBSTITUTE(実質収支比率等に係る経年分析!G$48,"▲","-")),2) -> 3.24 | D19: =ROUND(VALUE(SUBSTITUTE(実質収支比率等に係る経年分析!H$48,"▲","-")),2) -> 3.47 | E19: =ROUND(VALUE(SUBSTITUTE(実質収支比率等に係る経年分析!I$48,"▲","-")),2) -> 3.23 | F19: =ROUND(VALUE(SUBSTITUTE(実質収支比率等に係る経年分析!J$48,"▲","-")),2) -> 3.42
A20: 財政調整基金残高 | B20: =ROUND(VALUE(SUBSTITUTE(実質収支比率等に係る経年分析!F$47,"▲","-")),2) -> 26.77 | C20: =ROUND(VALUE(SUBSTITUTE(実質収支比率等に係る経年分析!G$47,"▲","-")),2) -> 32.45 | D20: =ROUND(VALUE(SUBSTITUTE(実質収支比率等に係る経年分析!H$47,"▲","-")),2) -> 36.83 | E20: =ROUND(VALUE(SUBSTITUTE(実質収支比率等に係る経年分析!I$47,"▲","-")),2) -> 34.98 | F20: =ROUND(VALUE(SUBSTITUTE(実質収支比率等に係る経年分析!J$47,"▲","-")),2) -> 32.48
A21: 実質単年度収支 | B21: =IF(ISNUMBER(VALUE(SUBSTITUTE(実質収支比率等に係る経年分析!F$49,"▲","-"))),ROUND(VALUE(SUBSTITUTE(実質収支比率等に係る経年分析!F$49,"▲","-")),2),NA()) -> 4.33 | C21: =IF(ISNUMBER(VALUE(SUBSTITUTE(実質収支比率等に係る経年分析!G$49,"▲","-"))),ROUND(VALUE(SUBSTITUTE(実質収支比率等に係る経年分析!G$49,"▲","-")),2),NA()) -> 5.11 | D21: =IF(ISNUMBER(VALUE(SUBSTITUTE(実質収支比率等に係る経年分析!H$49,"▲","-"))),ROUND(VALUE(SUBSTITUTE(実質収支比率等に係る経年分析!H$49,"▲","-")),2),NA()) -> 3.87 | E21: =IF(ISNUMBER(VALUE(SUBSTITUTE(実質収支比率等に係る経年分析!I$49,"▲","-"))),ROUND(VALUE(SUBSTITUTE(実質収支比率等に係る経年分析!I$49,"▲","-")),2),NA()) -> -1.37 | F21: =IF(ISNUMBER(VALUE(SUBSTITUTE(実質収支比率等に係る経年分析!J$49,"▲","-"))),ROUND(VALUE(SUBSTITUTE(実質収支比率等に係る経年分析!J$49,"▲","-")),2),NA()) -> -0.9
A24: 連結実質赤字比率に係る赤字・黒字の構成分析
B25: =連結実質赤字比率に係る赤字・黒字の構成分析!F$33 -> R02 | D25: =連結実質赤字比率に係る赤字・黒字の構成分析!G$33 -> R03 | F25: =連結実質赤字比率に係る赤字・黒字の構成分析!H$33 -> R04 | H25: =連結実質赤字比率に係る赤字・黒字の構成分析!I$33 -> R05 | J25: =連結実質赤字比率に係る赤字・黒字の構成分析!J$33 -> R06
B26: 赤字額 | C26: 黒字額 | D26: 赤字額 | E26: 黒字額 | F26: 赤字額 | G26: 黒字額 | H26: 赤字額 | I26: 黒字額 | J26: 赤字額 | K26: 黒字額
A27: =IF(連結実質赤字比率に係る赤字・黒字の構成分析!C$43="",NA(),連結実質赤字比率に係る赤字・黒字の構成分析!C$43) -> その他会計（黒字） | B27: =IF(ROUND(VALUE(SUBSTITUTE(連結実質赤字比率に係る赤字・黒字の構成分析!F$43,"▲", "-")), 2) < 0, ABS(ROUND(VALUE(SUBSTITUTE(連結実質赤字比率に係る赤字・黒字の構成分析!F$43,"▲", "-")), 2)), NA()) -> #N/A | C27: =IF(ROUND(VALUE(SUBSTITUTE(連結実質赤字比率に係る赤字・黒字の構成分析!F$43,"▲", "-")), 2) >= 0, ABS(ROUND(VALUE(SUBSTITUTE(連結実質赤字比率に係る赤字・黒字の構成分析!F$43,"▲", "-")), 2)), NA()) -> 0.62 | D27: =IF(ROUND(VALUE(SUBSTITUTE(連結実質赤字比率に係る赤字・黒字の構成分析!G$43,"▲", "-")), 2) < 0, ABS(ROUND(VALUE(SUBSTITUTE(連結実質赤字比率に係る赤字・黒字の構成分析!G$43,"▲", "-")), 2)), NA()) -> #N/A | E27: =IF(ROUND(VALUE(SUBSTITUTE(連結実質赤字比率に係る赤字・黒字の構成分析!G$43,"▲", "-")), 2) >= 0, ABS(ROUND(VALUE(SUBSTITUTE(連結実質赤字比率に係る赤字・黒字の構成分析!G$43,"▲", "-")), 2)), NA()) -> 0.47 | F27: =IF(ROUND(VALUE(SUBSTITUTE(連結実質赤字比率に係る赤字・黒字の構成分析!H$43,"▲", "-")), 2) < 0, ABS(ROUND(VALUE(SUBSTITUTE(連結実質赤字比率に係る赤字・黒字の構成分析!H$43,"▲", "-")), 2)), NA()) -> #N/A | G27: =IF(ROUND(VALUE(SUBSTITUTE(連結実質赤字比率に係る赤字・黒字の構成分析!H$43,"▲", "-")), 2) >= 0, ABS(ROUND(VALUE(SUBSTITUTE(連結実質赤字比率に係る赤字・黒字の構成分析!H$43,"▲", "-")), 2)), NA()) -> 0.46 | H27: =IF(ROUND(VALUE(SUBSTITUTE(連結実質赤字比率に係る赤字・黒字の構成分析!I$43,"▲", "-")), 2) < 0, ABS(ROUND(VALUE(SUBSTITUTE(連結実質赤字比率に係る赤字・黒字の構成分析!I$43,"▲", "-")), 2)), NA()) -> #N/A | I27: =IF(ROUND(VALUE(SUBSTITUTE(連結実質赤字比率に係る赤字・黒字の構成分析!I$43,"▲", "-")), 2) >= 0, ABS(ROUND(VALUE(SUBSTITUTE(連結実質赤字比率に係る赤字・黒字の構成分析!I$43,"▲", "-")), 2)), NA()) -> 1.1 | J27: =IF(ROUND(VALUE(SUBSTITUTE(連結実質赤字比率に係る赤字・黒字の構成分析!J$43,"▲", "-")), 2) < 0, ABS(ROUND(VALUE(SUBSTITUTE(連結実質赤字比率に係る赤字・黒字の構成分析!J$43,"▲", "-")), 2)), NA()) -> #N/A | K27: =IF(ROUND(VALUE(SUBSTITUTE(連結実質赤字比率に係る赤字・黒字の構成分析!J$43,"▲", "-")), 2) >= 0, ABS(ROUND(VALUE(SUBSTITUTE(連結実質赤字比率に係る赤字・黒字の構成分析!J$43,"▲", "-")), 2)), NA()) -> 0.13
A28: =IF(連結実質赤字比率に係る赤字・黒字の構成分析!C$42="",NA(),連結実質赤字比率に係る赤字・黒字の構成分析!C$42) -> その他会計（赤字） | B28: =IF(ROUND(VALUE(SUBSTITUTE(連結実質赤字比率に係る赤字・黒字の構成分析!F$42,"▲", "-")), 2) < 0, ABS(ROUND(VALUE(SUBSTITUTE(連結実質赤字比率に係る赤字・黒字の構成分析!F$42,"▲", "-")), 2)), NA()) -> #VALUE! | C28: =IF(ROUND(VALUE(SUBSTITUTE(連結実質赤字比率に係る赤字・黒字の構成分析!F$42,"▲", "-")), 2) >= 0, ABS(ROUND(VALUE(SUBSTITUTE(連結実質赤字比率に係る赤字・黒字の構成分析!F$42,"▲", "-")), 2)), NA()) -> #VALUE! | D28: =IF(ROUND(VALUE(SUBSTITUTE(連結実質赤字比率に係る赤字・黒字の構成分析!G$42,"▲", "-")), 2) < 0, ABS(ROUND(VALUE(SUBSTITUTE(連結実質赤字比率に係る赤字・黒字の構成分析!G$42,"▲", "-")), 2)), NA()) -> #VALUE! | E28: =IF(ROUND(VALUE(SUBSTITUTE(連結実質赤字比率に係る赤字・黒字の構成分析!G$42,"▲", "-")), 2) >= 0, ABS(ROUND(VALUE(SUBSTITUTE(連結実質赤字比率に係る赤字・黒字の構成分析!G$42,"▲", "-")), 2)), NA()) -> #VALUE! | F28: =IF(ROUND(VALUE(SUBSTITUTE(連結実質赤字比率に係る赤字・黒字の構成分析!H$42,"▲", "-")), 2) < 0, ABS(ROUND(VALUE(SUBSTITUTE(連結実質赤字比率に係る赤字・黒字の構成分析!H$42,"▲", "-")), 2)), NA()) -> #VALUE! | G28: =IF(ROUND(VALUE(SUBSTITUTE(連結実質赤字比率に係る赤字・黒字の構成分析!H$42,"▲", "-")), 2) >= 0, ABS(ROUND(VALUE(SUBSTITUTE(連結実質赤字比率に係る赤字・黒字の構成分析!H$42,"▲", "-")), 2)), NA()) -> #VALUE! | H28: =IF(ROUND(VALUE(SUBSTITUTE(連結実質赤字比率に係る赤字・黒字の構成分析!I$42,"▲", "-")), 2) < 0, ABS(ROUND(VALUE(SUBSTITUTE(連結実質赤字比率に係る赤字・黒字の構成分析!I$42,"▲", "-")), 2)), NA()) -> #VALUE! | I28: =IF(ROUND(VALUE(SUBSTITUTE(連結実質赤字比率に係る赤字・黒字の構成分析!I$42,"▲", "-")), 2) >= 0, ABS(ROUND(VALUE(SUBSTITUTE(連結実質赤字比率に係る赤字・黒字の構成分析!I$42,"▲", "-")), 2)), NA()) -> #VALUE! | J28: =IF(ROUND(VALUE(SUBSTITUTE(連結実質赤字比率に係る赤字・黒字の構成分析!J$42,"▲", "-")), 2) < 0, ABS(ROUND(VALUE(SUBSTITUTE(連結実質赤字比率に係る赤字・黒字の構成分析!J$42,"▲", "-")), 2)), NA()) -> #VALUE! | K28: =IF(ROUND(VALUE(SUBSTITUTE(連結実質赤字比率に係る赤字・黒字の構成分析!J$42,"▲", "-")), 2) >= 0, ABS(ROUND(VALUE(SUBSTITUTE(連結実質赤字比率に係る赤字・黒字の構成分析!J$42,"▲", "-")), 2)), NA()) -> #VALUE!
A29: =IF(連結実質赤字比率に係る赤字・黒字の構成分析!C$41="",NA(),連結実質赤字比率に係る赤字・黒字の構成分析!C$41) -> ケアステーション事業特別会計 | B29: =IF(ROUND(VALUE(SUBSTITUTE(連結実質赤字比率に係る赤字・黒字の構成分析!F$41,"▲", "-")), 2) < 0, ABS(ROUND(VALUE(SUBSTITUTE(連結実質赤字比率に係る赤字・黒字の構成分析!F$41,"▲", "-")), 2)), NA()) -> #VALUE! | C29: =IF(ROUND(VALUE(SUBSTITUTE(連結実質赤字比率に係る赤字・黒字の構成分析!F$41,"▲", "-")), 2) >= 0, ABS(ROUND(VALUE(SUBSTITUTE(連結実質赤字比率に係る赤字・黒字の構成分析!F$41,"▲", "-")), 2)), NA()) -> #VALUE! | D29: =IF(ROUND(VALUE(SUBSTITUTE(連結実質赤字比率に係る赤字・黒字の構成分析!G$41,"▲", "-")), 2) < 0, ABS(ROUND(VALUE(SUBSTITUTE(連結実質赤字比率に係る赤字・黒字の構成分析!G$41,"▲", "-")), 2)), NA()) -> #VALUE! | E29: =IF(ROUND(VALUE(SUBSTITUTE(連結実質赤字比率に係る赤字・黒字の構成分析!G$41,"▲", "-")), 2) >= 0, ABS(ROUND(VALUE(SUBSTITUTE(連結実質赤字比率に係る赤字・黒字の構成分析!G$41,"▲", "-")), 2)), NA()) -> #VALUE! | F29: =IF(ROUND(VALUE(SUBSTITUTE(連結実質赤字比率に係る赤字・黒字の構成分析!H$41,"▲", "-")), 2) < 0, ABS(ROUND(VALUE(SUBSTITUTE(連結実質赤字比率に係る赤字・黒字の構成分析!H$41,"▲", "-")), 2)), NA()) -> #VALUE! | G29: =IF(ROUND(VALUE(SUBSTITUTE(連結実質赤字比率に係る赤字・黒字の構成分析!H$41,"▲", "-")), 2) >= 0, ABS(ROUND(VALUE(SUBSTITUTE(連結実質赤字比率に係る赤字・黒字の構成分析!H$41,"▲", "-")), 2)), NA()) -> #VALUE! | H29: =IF(ROUND(VALUE(SUBSTITUTE(連結実質赤字比率に係る赤字・黒字の構成分析!I$41,"▲", "-")), 2) < 0, ABS(ROUND(VALUE(SUBSTITUTE(連結実質赤字比率に係る赤字・黒字の構成分析!I$41,"▲", "-")), 2)), NA()) -> #VALUE! | I29: =IF(ROUND(VALUE(SUBSTITUTE(連結実質赤字比率に係る赤字・黒字の構成分析!I$41,"▲", "-")), 2) >= 0, ABS(ROUND(VALUE(SUBSTITUTE(連結実質赤字比率に係る赤字・黒字の構成分析!I$41,"▲", "-")), 2)), NA()) -> #VALUE! | J29: =IF(ROUND(VALUE(SUBSTITUTE(連結実質赤字比率に係る赤字・黒字の構成分析!J$41,"▲", "-")), 2) < 0, ABS(ROUND(VALUE(SUBSTITUTE(連結実質赤字比率に係る赤字・黒字の構成分析!J$41,"▲", "-")), 2)), NA()) -> #N/A | K29: =IF(ROUND(VALUE(SUBSTITUTE(連結実質赤字比率に係る赤字・黒字の構成分析!J$41,"▲", "-")), 2) >= 0, ABS(ROUND(VALUE(SUBSTITUTE(連結実質赤字比率に係る赤字・黒字の構成分析!J$41,"▲", "-")), 2)), NA()) -> 0.23
A30: =IF(連結実質赤字比率に係る赤字・黒字の構成分析!C$40="",NA(),連結実質赤字比率に係る赤字・黒字の構成分析!C$40) -> 介護保険事業特別会計 | B30: =IF(ROUND(VALUE(SUBSTITUTE(連結実質赤字比率に係る赤字・黒字の構成分析!F$40,"▲", "-")), 2) < 0, ABS(ROUND(VALUE(SUBSTITUTE(連結実質赤字比率に係る赤字・黒字の構成分析!F$40,"▲", "-")), 2)), NA()) -> #N/A | C30: =IF(ROUND(VALUE(SUBSTITUTE(連結実質赤字比率に係る赤字・黒字の構成分析!F$40,"▲", "-")), 2) >= 0, ABS(ROUND(VALUE(SUBSTITUTE(連結実質赤字比率に係る赤字・黒字の構成分析!F$40,"▲", "-")), 2)), NA()) -> 0.05 | D30: =IF(ROUND(VALUE(SUBSTITUTE(連結実質赤字比率に係る赤字・黒字の構成分析!G$40,"▲", "-")), 2) < 0, ABS(ROUND(VALUE(SUBSTITUTE(連結実質赤字比率に係る赤字・黒字の構成分析!G$40,"▲", "-")), 2)), NA()) -> #N/A | E30: =IF(ROUND(VALUE(SUBSTITUTE(連結実質赤字比率に係る赤字・黒字の構成分析!G$40,"▲", "-")), 2) >= 0, ABS(ROUND(VALUE(SUBSTITUTE(連結実質赤字比率に係る赤字・黒字の構成分析!G$40,"▲", "-")), 2)), NA()) -> 0.37 | F30: =IF(ROUND(VALUE(SUBSTITUTE(連結実質赤字比率に係る赤字・黒字の構成分析!H$40,"▲", "-")), 2) < 0, ABS(ROUND(VALUE(SUBSTITUTE(連結実質赤字比率に係る赤字・黒字の構成分析!H$40,"▲", "-")), 2)), NA()) -> #N/A | G30: =IF(ROUND(VALUE(SUBSTITUTE(連結実質赤字比率に係る赤字・黒字の構成分析!H$40,"▲", "-")), 2) >= 0, ABS(ROUND(VALUE(SUBSTITUTE(連結実質赤字比率に係る赤字・黒字の構成分析!H$40,"▲", "-")), 2)), NA()) -> 0.64 | H30: =IF(ROUND(VALUE(SUBSTITUTE(連結実質赤字比率に係る赤字・黒字の構成分析!I$40,"▲", "-")), 2) < 0, ABS(ROUND(VALUE(SUBSTITUTE(連結実質赤字比率に係る赤字・黒字の構成分析!I$40,"▲", "-")), 2)), NA()) -> #N/A | I30: =IF(ROUND(VALUE(SUBSTITUTE(連結実質赤字比率に係る赤字・黒字の構成分析!I$40,"▲", "-")), 2) >= 0, ABS(ROUND(VALUE(SUBSTITUTE(連結実質赤字比率に係る赤字・黒字の構成分析!I$40,"▲", "-")), 2)), NA()) -> 0.4 | J30: =IF(ROUND(VALUE(SUBSTITUTE(連結実質赤字比率に係る赤字・黒字の構成分析!J$40,"▲", "-")), 2) < 0, ABS(ROUND(VALUE(SUBSTITUTE(連結実質赤字比率に係る赤字・黒字の構成分析!J$40,"▲", "-")), 2)), NA()) -> #N/A | K30: =IF(ROUND(VALUE(SUBSTITUTE(連結実質赤字比率に係る赤字・黒字の構成分析!J$40,"▲", "-")), 2) >= 0, ABS(ROUND(VALUE(SUBSTITUTE(連結実質赤字比率に係る赤字・黒字の構成分析!J$40,"▲", "-")), 2)), NA()) -> 0.43
A31: =IF(連結実質赤字比率に係る赤字・黒字の構成分析!C$39="",NA(),連結実質赤字比率に係る赤字・黒字の構成分析!C$39) -> 訪問看護事業特別会計 | B31: =IF(ROUND(VALUE(SUBSTITUTE(連結実質赤字比率に係る赤字・黒字の構成分析!F$39,"▲", "-")), 2) < 0, ABS(ROUND(VALUE(SUBSTITUTE(連結実質赤字比率に係る赤字・黒字の構成分析!F$39,"▲", "-")), 2)), NA()) -> #N/A | C31: =IF(ROUND(VALUE(SUBSTITUTE(連結実質赤字比率に係る赤字・黒字の構成分析!F$39,"▲", "-")), 2) >= 0, ABS(ROUND(VALUE(SUBSTITUTE(連結実質赤字比率に係る赤字・黒字の構成分析!F$39,"▲", "-")), 2)), NA()) -> 0.52 | D31: =IF(ROUND(VALUE(SUBSTITUTE(連結実質赤字比率に係る赤字・黒字の構成分析!G$39,"▲", "-")), 2) < 0, ABS(ROUND(VALUE(SUBSTITUTE(連結実質赤字比率に係る赤字・黒字の構成分析!G$39,"▲", "-")), 2)), NA()) -> #N/A | E31: =IF(ROUND(VALUE(SUBSTITUTE(連結実質赤字比率に係る赤字・黒字の構成分析!G$39,"▲", "-")), 2) >= 0, ABS(ROUND(VALUE(SUBSTITUTE(連結実質赤字比率に係る赤字・黒字の構成分析!G$39,"▲", "-")), 2)), NA()) -> 0.63 | F31: =IF(ROUND(VALUE(SUBSTITUTE(連結実質赤字比率に係る赤字・黒字の構成分析!H$39,"▲", "-")), 2) < 0, ABS(ROUND(VALUE(SUBSTITUTE(連結実質赤字比率に係る赤字・黒字の構成分析!H$39,"▲", "-")), 2)), NA()) -> #N/A | G31: =IF(ROUND(VALUE(SUBSTITUTE(連結実質赤字比率に係る赤字・黒字の構成分析!H$39,"▲", "-")), 2) >= 0, ABS(ROUND(VALUE(SUBSTITUTE(連結実質赤字比率に係る赤字・黒字の構成分析!H$39,"▲", "-")), 2)), NA()) -> 0.76 | H31: =IF(ROUND(VALUE(SUBSTITUTE(連結実質赤字比率に係る赤字・黒字の構成分析!I$39,"▲", "-")), 2) < 0, ABS(ROUND(VALUE(SUBSTITUTE(連結実質赤字比率に係る赤字・黒字の構成分析!I$39,"▲", "-")), 2)), NA()) -> #N/A | I31: =IF(ROUND(VALUE(SUBSTITUTE(連結実質赤字比率に係る赤字・黒字の構成分析!I$39,"▲", "-")), 2) >= 0, ABS(ROUND(VALUE(SUBSTITUTE(連結実質赤字比率に係る赤字・黒字の構成分析!I$39,"▲", "-")), 2)), NA()) -> 0.66 | J31: =IF(ROUND(VALUE(SUBSTITUTE(連結実質赤字比率に係る赤字・黒字の構成分析!J$39,"▲", "-")), 2) < 0, ABS(ROUND(VALUE(SUBSTITUTE(連結実質赤字比率に係る赤字・黒字の構成分析!J$39,"▲", "-")), 2)), NA()) -> #N/A | K31: =IF(ROUND(VALUE(SUBSTITUTE(連結実質赤字比率に係る赤字・黒字の構成分析!J$39,"▲", "-")), 2) >= 0, ABS(ROUND(VALUE(SUBSTITUTE(連結実質赤字比率に係る赤字・黒字の構成分析!J$39,"▲", "-")), 2)), NA()) -> 0.51
A32: =IF(連結実質赤字比率に係る赤字・黒字の構成分析!C$38="",NA(),連結実質赤字比率に係る赤字・黒字の構成分析!C$38) -> 土地開発事業特別会計 | B32: =IF(ROUND(VALUE(SUBSTITUTE(連結実質赤字比率に係る赤字・黒字の構成分析!F$38,"▲", "-")), 2) < 0, ABS(ROUND(VALUE(SUBSTITUTE(連結実質赤字比率に係る赤字・黒字の構成分析!F$38,"▲", "-")), 2)), NA()) -> #N/A | C32: =IF(ROUND(VALUE(SUBSTITUTE(連結実質赤字比率に係る赤字・黒字の構成分析!F$38,"▲", "-")), 2) >= 0, ABS(ROUND(VALUE(SUBSTITUTE(連結実質赤字比率に係る赤字・黒字の構成分析!F$38,"▲", "-")), 2)), NA()) -> 1.26 | D32: =IF(ROUND(VALUE(SUBSTITUTE(連結実質赤字比率に係る赤字・黒字の構成分析!G$38,"▲", "-")), 2) < 0, ABS(ROUND(VALUE(SUBSTITUTE(連結実質赤字比率に係る赤字・黒字の構成分析!G$38,"▲", "-")), 2)), NA()) -> #N/A | E32: =IF(ROUND(VALUE(SUBSTITUTE(連結実質赤字比率に係る赤字・黒字の構成分析!G$38,"▲", "-")), 2) >= 0, ABS(ROUND(VALUE(SUBSTITUTE(連結実質赤字比率に係る赤字・黒字の構成分析!G$38,"▲", "-")), 2)), NA()) -> 1.2 | F32: =IF(ROUND(VALUE(SUBSTITUTE(連結実質赤字比率に係る赤字・黒字の構成分析!H$38,"▲", "-")), 2) < 0, ABS(ROUND(VALUE(SUBSTITUTE(連結実質赤字比率に係る赤字・黒字の構成分析!H$38,"▲", "-")), 2)), NA()) -> #N/A | G32: =IF(ROUND(VALUE(SUBSTITUTE(連結実質赤字比率に係る赤字・黒字の構成分析!H$38,"▲", "-")), 2) >= 0, ABS(ROUND(VALUE(SUBSTITUTE(連結実質赤字比率に係る赤字・黒字の構成分析!H$38,"▲", "-")), 2)), NA()) -> 1.2 | H32: =IF(ROUND(VALUE(SUBSTITUTE(連結実質赤字比率に係る赤字・黒字の構成分析!I$38,"▲", "-")), 2) < 0, ABS(ROUND(VALUE(SUBSTITUTE(連結実質赤字比率に係る赤字・黒字の構成分析!I$38,"▲", "-")), 2)), NA()) -> #N/A | I32: =IF(ROUND(VALUE(SUBSTITUTE(連結実質赤字比率に係る赤字・黒字の構成分析!I$38,"▲", "-")), 2) >= 0, ABS(ROUND(VALUE(SUBSTITUTE(連結実質赤字比率に係る赤字・黒字の構成分析!I$38,"▲", "-")), 2)), NA()) -> 1.17 | J32: =IF(ROUND(VALUE(SUBSTITUTE(連結実質赤字比率に係る赤字・黒字の構成分析!J$38,"▲", "-")), 2) < 0, ABS(ROUND(VALUE(SUBSTITUTE(連結実質赤字比率に係る赤字・黒字の構成分析!J$38,"▲", "-")), 2)), NA()) -> #N/A | K32: =IF(ROUND(VALUE(SUBSTITUTE(連結実質赤字比率に係る赤字・黒字の構成分析!J$38,"▲", "-")), 2) >= 0, ABS(ROUND(VALUE(SUBSTITUTE(連結実質赤字比率に係る赤字・黒字の構成分析!J$38,"▲", "-")), 2)), NA()) -> 1.11
A33: =IF(連結実質赤字比率に係る赤字・黒字の構成分析!C$37="",NA(),連結実質赤字比率に係る赤字・黒字の構成分析!C$37) -> 一般会計 | B33: =IF(ROUND(VALUE(SUBSTITUTE(連結実質赤字比率に係る赤字・黒字の構成分析!F$37,"▲", "-")), 2) < 0, ABS(ROUND(VALUE(SUBSTITUTE(連結実質赤字比率に係る赤字・黒字の構成分析!F$37,"▲", "-")), 2)), NA()) -> #N/A | C33: =IF(ROUND(VALUE(SUBSTITUTE(連結実質赤字比率に係る赤字・黒字の構成分析!F$37,"▲", "-")), 2) >= 0, ABS(ROUND(VALUE(SUBSTITUTE(連結実質赤字比率に係る赤字・黒字の構成分析!F$37,"▲", "-")), 2)), NA()) -> 5.1 | D33: =IF(ROUND(VALUE(SUBSTITUTE(連結実質赤字比率に係る赤字・黒字の構成分析!G$37,"▲", "-")), 2) < 0, ABS(ROUND(VALUE(SUBSTITUTE(連結実質赤字比率に係る赤字・黒字の構成分析!G$37,"▲", "-")), 2)), NA()) -> #N/A | E33: =IF(ROUND(VALUE(SUBSTITUTE(連結実質赤字比率に係る赤字・黒字の構成分析!G$37,"▲", "-")), 2) >= 0, ABS(ROUND(VALUE(SUBSTITUTE(連結実質赤字比率に係る赤字・黒字の構成分析!G$37,"▲", "-")), 2)), NA()) -> 3.03 | F33: =IF(ROUND(VALUE(SUBSTITUTE(連結実質赤字比率に係る赤字・黒字の構成分析!H$37,"▲", "-")), 2) < 0, ABS(ROUND(VALUE(SUBSTITUTE(連結実質赤字比率に係る赤字・黒字の構成分析!H$37,"▲", "-")), 2)), NA()) -> #N/A | G33: =IF(ROUND(VALUE(SUBSTITUTE(連結実質赤字比率に係る赤字・黒字の構成分析!H$37,"▲", "-")), 2) >= 0, ABS(ROUND(VALUE(SUBSTITUTE(連結実質赤字比率に係る赤字・黒字の構成分析!H$37,"▲", "-")), 2)), NA()) -> 3.28 | H33: =IF(ROUND(VALUE(SUBSTITUTE(連結実質赤字比率に係る赤字・黒字の構成分析!I$37,"▲", "-")), 2) < 0, ABS(ROUND(VALUE(SUBSTITUTE(連結実質赤字比率に係る赤字・黒字の構成分析!I$37,"▲", "-")), 2)), NA()) -> #N/A | I33: =IF(ROUND(VALUE(SUBSTITUTE(連結実質赤字比率に係る赤字・黒字の構成分析!I$37,"▲", "-")), 2) >= 0, ABS(ROUND(VALUE(SUBSTITUTE(連結実質赤字比率に係る赤字・黒字の構成分析!I$37,"▲", "-")), 2)), NA()) -> 3 | J33: =IF(ROUND(VALUE(SUBSTITUTE(連結実質赤字比率に係る赤字・黒字の構成分析!J$37,"▲", "-")), 2) < 0, ABS(ROUND(VALUE(SUBSTITUTE(連結実質赤字比率に係る赤字・黒字の構成分析!J$37,"▲", "-")), 2)), NA()) -> #N/A | K33: =IF(ROUND(VALUE(SUBSTITUTE(連結実質赤字比率に係る赤字・黒字の構成分析!J$37,"▲", "-")), 2) >= 0, ABS(ROUND(VALUE(SUBSTITUTE(連結実質赤字比率に係る赤字・黒字の構成分析!J$37,"▲", "-")), 2)), NA()) -> 3.17
A34: =IF(連結実質赤字比率に係る赤字・黒字の構成分析!C$36="",NA(),連結実質赤字比率に係る赤字・黒字の構成分析!C$36) -> 水道事業会計 | B34: =IF(ROUND(VALUE(SUBSTITUTE(連結実質赤字比率に係る赤字・黒字の構成分析!F$36,"▲", "-")), 2) < 0, ABS(ROUND(VALUE(SUBSTITUTE(連結実質赤字比率に係る赤字・黒字の構成分析!F$36,"▲", "-")), 2)), NA()) -> #N/A | C34: =IF(ROUND(VALUE(SUBSTITUTE(連結実質赤字比率に係る赤字・黒字の構成分析!F$36,"▲", "-")), 2) >= 0, ABS(ROUND(VALUE(SUBSTITUTE(連結実質赤字比率に係る赤字・黒字の構成分析!F$36,"▲", "-")), 2)), NA()) -> 5.58 | D34: =IF(ROUND(VALUE(SUBSTITUTE(連結実質赤字比率に係る赤字・黒字の構成分析!G$36,"▲", "-")), 2) < 0, ABS(ROUND(VALUE(SUBSTITUTE(連結実質赤字比率に係る赤字・黒字の構成分析!G$36,"▲", "-")), 2)), NA()) -> #N/A | E34: =IF(ROUND(VALUE(SUBSTITUTE(連結実質赤字比率に係る赤字・黒字の構成分析!G$36,"▲", "-")), 2) >= 0, ABS(ROUND(VALUE(SUBSTITUTE(連結実質赤字比率に係る赤字・黒字の構成分析!G$36,"▲", "-")), 2)), NA()) -> 5.68 | F34: =IF(ROUND(VALUE(SUBSTITUTE(連結実質赤字比率に係る赤字・黒字の構成分析!H$36,"▲", "-")), 2) < 0, ABS(ROUND(VALUE(SUBSTITUTE(連結実質赤字比率に係る赤字・黒字の構成分析!H$36,"▲", "-")), 2)), NA()) -> #N/A | G34: =IF(ROUND(VALUE(SUBSTITUTE(連結実質赤字比率に係る赤字・黒字の構成分析!H$36,"▲", "-")), 2) >= 0, ABS(ROUND(VALUE(SUBSTITUTE(連結実質赤字比率に係る赤字・黒字の構成分析!H$36,"▲", "-")), 2)), NA()) -> 5.97 | H34: =IF(ROUND(VALUE(SUBSTITUTE(連結実質赤字比率に係る赤字・黒字の構成分析!I$36,"▲", "-")), 2) < 0, ABS(ROUND(VALUE(SUBSTITUTE(連結実質赤字比率に係る赤字・黒字の構成分析!I$36,"▲", "-")), 2)), NA()) -> #N/A | I34: =IF(ROUND(VALUE(SUBSTITUTE(連結実質赤字比率に係る赤字・黒字の構成分析!I$36,"▲", "-")), 2) >= 0, ABS(ROUND(VALUE(SUBSTITUTE(連結実質赤字比率に係る赤字・黒字の構成分析!I$36,"▲", "-")), 2)), NA()) -> 6.19 | J34: =IF(ROUND(VALUE(SUBSTITUTE(連結実質赤字比率に係る赤字・黒字の構成分析!J$36,"▲", "-")), 2) < 0, ABS(ROUND(VALUE(SUBSTITUTE(連結実質赤字比率に係る赤字・黒字の構成分析!J$36,"▲", "-")), 2)), NA()) -> #N/A | K34: =IF(ROUND(VALUE(SUBSTITUTE(連結実質赤字比率に係る赤字・黒字の構成分析!J$36,"▲", "-")), 2) >= 0, ABS(ROUND(VALUE(SUBSTITUTE(連結実質赤字比率に係る赤字・黒字の構成分析!J$36,"▲", "-")), 2)), NA()) -> 5.24
A35: =IF(連結実質赤字比率に係る赤字・黒字の構成分析!C$35="",NA(),連結実質赤字比率に係る赤字・黒字の構成分析!C$35) -> 下水道事業会計 | B35: =IF(ROUND(VALUE(SUBSTITUTE(連結実質赤字比率に係る赤字・黒字の構成分析!F$35,"▲", "-")), 2) < 0, ABS(ROUND(VALUE(SUBSTITUTE(連結実質赤字比率に係る赤字・黒字の構成分析!F$35,"▲", "-")), 2)), NA()) -> #N/A | C35: =IF(ROUND(VALUE(SUBSTITUTE(連結実質赤字比率に係る赤字・黒字の構成分析!F$35,"▲", "-")), 2) >= 0, ABS(ROUND(VALUE(SUBSTITUTE(連結実質赤字比率に係る赤字・黒字の構成分析!F$35,"▲", "-")), 2)), NA()) -> 10.14 | D35: =IF(ROUND(VALUE(SUBSTITUTE(連結実質赤字比率に係る赤字・黒字の構成分析!G$35,"▲", "-")), 2) < 0, ABS(ROUND(VALUE(SUBSTITUTE(連結実質赤字比率に係る赤字・黒字の構成分析!G$35,"▲", "-")), 2)), NA()) -> #N/A | E35: =IF(ROUND(VALUE(SUBSTITUTE(連結実質赤字比率に係る赤字・黒字の構成分析!G$35,"▲", "-")), 2) >= 0, ABS(ROUND(VALUE(SUBSTITUTE(連結実質赤字比率に係る赤字・黒字の構成分析!G$35,"▲", "-")), 2)), NA()) -> 10.07 | F35: =IF(ROUND(VALUE(SUBSTITUTE(連結実質赤字比率に係る赤字・黒字の構成分析!H$35,"▲", "-")), 2) < 0, ABS(ROUND(VALUE(SUBSTITUTE(連結実質赤字比率に係る赤字・黒字の構成分析!H$35,"▲", "-")), 2)), NA()) -> #N/A | G35: =IF(ROUND(VALUE(SUBSTITUTE(連結実質赤字比率に係る赤字・黒字の構成分析!H$35,"▲", "-")), 2) >= 0, ABS(ROUND(VALUE(SUBSTITUTE(連結実質赤字比率に係る赤字・黒字の構成分析!H$35,"▲", "-")), 2)), NA()) -> 10.91 | H35: =IF(ROUND(VALUE(SUBSTITUTE(連結実質赤字比率に係る赤字・黒字の構成分析!I$35,"▲", "-")), 2) < 0, ABS(ROUND(VALUE(SUBSTITUTE(連結実質赤字比率に係る赤字・黒字の構成分析!I$35,"▲", "-")), 2)), NA()) -> #N/A | I35: =IF(ROUND(VALUE(SUBSTITUTE(連結実質赤字比率に係る赤字・黒字の構成分析!I$35,"▲", "-")), 2) >= 0, ABS(ROUND(VALUE(SUBSTITUTE(連結実質赤字比率に係る赤字・黒字の構成分析!I$35,"▲", "-")), 2)), NA()) -> 10.39 | J35: =IF(ROUND(VALUE(SUBSTITUTE(連結実質赤字比率に係る赤字・黒字の構成分析!J$35,"▲", "-")), 2) < 0, ABS(ROUND(VALUE(SUBSTITUTE(連結実質赤字比率に係る赤字・黒字の構成分析!J$35,"▲", "-")), 2)), NA()) -> #N/A | K35: =IF(ROUND(VALUE(SUBSTITUTE(連結実質赤字比率に係る赤字・黒字の構成分析!J$35,"▲", "-")), 2) >= 0, ABS(ROUND(VALUE(SUBSTITUTE(連結実質赤字比率に係る赤字・黒字の構成分析!J$35,"▲", "-")), 2)), NA()) -> 7.93
A36: =IF(連結実質赤字比率に係る赤字・黒字の構成分析!C$34="",NA(),連結実質赤字比率に係る赤字・黒字の構成分析!C$34) -> 公立神崎総合病院事業会計 | B36: =IF(ROUND(VALUE(SUBSTITUTE(連結実質赤字比率に係る赤字・黒字の構成分析!F$34,"▲", "-")), 2) < 0, ABS(ROUND(VALUE(SUBSTITUTE(連結実質赤字比率に係る赤字・黒字の構成分析!F$34,"▲", "-")), 2)), NA()) -> #N/A | C36: =IF(ROUND(VALUE(SUBSTITUTE(連結実質赤字比率に係る赤字・黒字の構成分析!F$34,"▲", "-")), 2) >= 0, ABS(ROUND(VALUE(SUBSTITUTE(連結実質赤字比率に係る赤字・黒字の構成分析!F$34,"▲", "-")), 2)), NA()) -> 6.99 | D36: =IF(ROUND(VALUE(SUBSTITUTE(連結実質赤字比率に係る赤字・黒字の構成分析!G$34,"▲", "-")), 2) < 0, ABS(ROUND(VALUE(SUBSTITUTE(連結実質赤字比率に係る赤字・黒字の構成分析!G$34,"▲", "-")), 2)), NA()) -> #N/A | E36: =IF(ROUND(VALUE(SUBSTITUTE(連結実質赤字比率に係る赤字・黒字の構成分析!G$34,"▲", "-")), 2) >= 0, ABS(ROUND(VALUE(SUBSTITUTE(連結実質赤字比率に係る赤字・黒字の構成分析!G$34,"▲", "-")), 2)), NA()) -> 14 | F36: =IF(ROUND(VALUE(SUBSTITUTE(連結実質赤字比率に係る赤字・黒字の構成分析!H$34,"▲", "-")), 2) < 0, ABS(ROUND(VALUE(SUBSTITUTE(連結実質赤字比率に係る赤字・黒字の構成分析!H$34,"▲", "-")), 2)), NA()) -> #N/A | G36: =IF(ROUND(VALUE(SUBSTITUTE(連結実質赤字比率に係る赤字・黒字の構成分析!H$34,"▲", "-")), 2) >= 0, ABS(ROUND(VALUE(SUBSTITUTE(連結実質赤字比率に係る赤字・黒字の構成分析!H$34,"▲", "-")), 2)), NA()) -> 24.91 | H36: =IF(ROUND(VALUE(SUBSTITUTE(連結実質赤字比率に係る赤字・黒字の構成分析!I$34,"▲", "-")), 2) < 0, ABS(ROUND(VALUE(SUBSTITUTE(連結実質赤字比率に係る赤字・黒字の構成分析!I$34,"▲", "-")), 2)), NA()) -> #N/A | I36: =IF(ROUND(VALUE(SUBSTITUTE(連結実質赤字比率に係る赤字・黒字の構成分析!I$34,"▲", "-")), 2) >= 0, ABS(ROUND(VALUE(SUBSTITUTE(連結実質赤字比率に係る赤字・黒字の構成分析!I$34,"▲", "-")), 2)), NA()) -> 25.29 | J36: =IF(ROUND(VALUE(SUBSTITUTE(連結実質赤字比率に係る赤字・黒字の構成分析!J$34,"▲", "-")), 2) < 0, ABS(ROUND(VALUE(SUBSTITUTE(連結実質赤字比率に係る赤字・黒字の構成分析!J$34,"▲", "-")), 2)), NA()) -> #N/A | K36: =IF(ROUND(VALUE(SUBSTITUTE(連結実質赤字比率に係る赤字・黒字の構成分析!J$34,"▲", "-")), 2) >= 0, ABS(ROUND(VALUE(SUBSTITUTE(連結実質赤字比率に係る赤字・黒字の構成分析!J$34,"▲", "-")), 2)), NA()) -> 17.26
A39: 実質公債費比率（分子）の構造
B40: ='実質公債費比率（分子）の構造'!K$44 -> R02 | E40: ='実質公債費比率（分子）の構造'!L$44 -> R03 | H40: ='実質公債費比率（分子）の構造'!M$44 -> R04 | K40: ='実質公債費比率（分子）の構造'!N$44 -> R05 | N40: ='実質公債費比率（分子）の構造'!O$44 -> R06
B41: 元利償還金等 | D41: 算入公債費等 | E41: 元利償還金等 | G41: 算入公債費等 | H41: 元利償還金等 | J41: 算入公債費等 | K41: 元利償還金等 | M41: 算入公債費等 | N41: 元利償還金等 | P41: 算入公債費等
A42: 算入公債費等 | D42: ='実質公債費比率（分子）の構造'!K$52 -> 1097 | G42: ='実質公債費比率（分子）の構造'!L$52 -> 1085 | J42: ='実質公債費比率（分子）の構造'!M$52 -> 1188 | M42: ='実質公債費比率（分子）の構造'!N$52 -> 1233 | P42: ='実質公債費比率（分子）の構造'!O$52 -> 1282
A43: 一時借入金の利子 | B43: ='実質公債費比率（分子）の構造'!K$51 -> 1 | E43: ='実質公債費比率（分子）の構造'!L$51 -> 0 | H43: ='実質公債費比率（分子）の構造'!M$51 -> 0 | K43: ='実質公債費比率（分子）の構造'!N$51 -> 0 | N43: ='実質公債費比率（分子）の構造'!O$51 -> 0
A44: 債務負担行為に基づく支出額 | B44: ='実質公債費比率（分子）の構造'!K$50 -> - | E44: ='実質公債費比率（分子）の構造'!L$50 -> - | H44: ='実質公債費比率（分子）の構造'!M$50 -> - | K44: ='実質公債費比率（分子）の構造'!N$50 -> - | N44: ='実質公債費比率（分子）の構造'!O$50 -> -
A45: 組合等が起こした地方債の元利償還金に対する負担金等 | B45: ='実質公債費比率（分子）の構造'!K$49 -> 15 | E45: ='実質公債費比率（分子）の構造'!L$49 -> 8 | H45: ='実質公債費比率（分子）の構造'!M$49 -> 3 | K45: ='実質公債費比率（分子）の構造'!N$49 -> 3 | N45: ='実質公債費比率（分子）の構造'!O$49 -> 4
A46: 公営企業債の元利償還金に対する繰入金 | B46: ='実質公債費比率（分子）の構造'!K$48 -> 619 | E46: ='実質公債費比率（分子）の構造'!L$48 -> 560 | H46: ='実質公債費比率（分子）の構造'!M$48 -> 542 | K46: ='実質公債費比率（分子）の構造'!N$48 -> 515 | N46: ='実質公債費比率（分子）の構造'!O$48 -> 483
A47: 満期一括償還地方債に係る年度割相当額 | B47: ='実質公債費比率（分子）の構造'!K$47 -> - | E47: ='実質公債費比率（分子）の構造'!L$47 -> - | H47: ='実質公債費比率（分子）の構造'!M$47 -> - | K47: ='実質公債費比率（分子）の構造'!N$47 -> - | N47: ='実質公債費比率（分子）の構造'!O$47 -> -
...
