Workbook

Sheet 総括表
B1: 令和6年度 財政状況資料集
B2: 総括表（市町村）
B3: 都道府県名 | L3: 兵庫県 | W3: 市町村類型 | AC3: Ⅳ－３ | AM3: 指定団体等の指定状況 | AY3: 区分 | BN3: 令和6年度(千円) | BV3: 令和5年度(千円) | CD3: 区分 | CT3: 令和6年度(千円･％) | DB3: 令和5年度(千円･％)
AY4: 歳入総額 | BN4: 61361501 | BV4: 61940233 | CD4: 実質収支比率 | CT4: 1.1 | DB4: 1
AM5: 財政健全化等 | AU5: × | AY5: 歳出総額 | BN5: 60786749 | BV5: 61585517 | CD5: 経常収支比率 | CT5: 98.6 | DB5: 100
B6: 市町村名 | L6: 川西市 | W6: 地方交付税種地 | AC6: 2-8 | AM6: 財源超過 | AU6: × | AY6: 歳入歳出差引 | BN6: 574752 | BV6: 354716 | CD6: (※1) | CT6: 99.1 | DB6: 100.5
AM7: 首都 | AU7: × | AY7: 翌年度に繰越すべき財源 | BN7: 203855 | BV7: 39619 | CD7: 標準財政規模 | CT7: 34246472 | DB7: 33116693
AM8: 近畿 | AU8: ○ | AY8: 実質収支 | BN8: 370897 | BV8: 315097 | CD8: 財政力指数 | CT8: 0.64 | DB8: 0.65
B9: 人口 | L9: 令和2年国調(人) | R9: 152321 | W9: 産業構造 (※5) | AM9: 中部 | AU9: × | AY9: 単年度収支 | BN9: 55800 | BV9: -216495 | CD9: 公債費負担比率 | CT9: 13.7 | DB9: 14.7
L10: 平成27年国調(人) | R10: 156375 | AM10: 過疎 | AU10: × | AY10: 積立金 | BN10: 1567 | BV10: 115724 | CD10: 健全化判断比率
L11: 増減率 (％) | R11: -2.6 | AM11: 山振 | AU11: × | AY11: 繰上償還金 | BN11: 0 | BV11: 0 | CD11: 実質赤字比率 | CT11: - | DB11: -
B12: 住民基本台帳人口 (※7) | L12: 令07.01.01(人) | R12: 152914 | W12: 区分 | AC12: 令和2年国調 | AH12: 平成27年国調 | AM12: 低開発 | AU12: × | AY12: 積立金取崩し額 | BN12: 0 | BV12: 100000 | CD12: 連結実質赤字比率 | CT12: - | DB12: -
M13: うち日本人(人) | R13: 150965 | W13: 第1次 | AC13: 482 | AH13: 567 | AM13: 指数表選定 | AU13: ○ | AY13: 実質単年度収支 | BN13: 57367 | BV13: -200771 | CD13: 実質公債費比率 | CT13: 7.9 | DB13: 7.9
L14: 令06.01.01(人) | R14: 154071 | AC14: 0.8 | AH14: 0.9 | CD14: 将来負担比率 | CT14: 71.6 | DB14: 73.4
M15: うち日本人(人) | R15: 152200 | W15: 第2次 | AC15: 11996 | AH15: 13853 | AY15: 基準財政収入額 | BN15: 18484407 | BV15: 17995041 | CD15: 資金不足比率 (※4)
L16: 増減率 (％) | R16: -0.8 | AC16: 19.6 | AH16: 22.1 | AY16: 基準財政需要額 | BN16: 29178450 | BV16: 28042654
M17: うち日本人(％) | R17: -0.8 | W17: 第3次 | AC17: 48684 | AH17: 48249 | AY17: 標準税収入額等 | BN17: 23395529 | BV17: 22731453
B18: 面積 (k㎡) | L18: 53.44 | AC18: 79.6 | AH18: 77 | AY18: 経常経費充当一般財源等 | BN18: 34858157 | BV18: 33839698
B19: 人口密度 (人/k㎡) | L19: 2850 | AY19: 歳入一般財源等 | BN19: 42152072 | BV19: 40905611
B20: 世帯数 (世帯) | L20: 63331
B21: 職員の状況 (※8)
B22: 特別職等 | E22: 区分 | L22: 定数 | Q22: 1人あたり平均 給料月額(百円) | W22: 一般職員等(※6) | Z22: 区分 | AH22: 職員数 (人) | AM22: 給料月額 (百円) | AS22: 1人あたり平均 給料月額(百円) | AY22: 地方債現在高 | BN22: 64453954 | BV22: 68525724
AY23: うち公的資金 | BN23: 47704603 | BV23: 49816635
E24: 市区町村長 | L24: 1 | Q24: 8838 | Z24: 一般職員 | AH24: 1017 | AM24: 3270672 | AS24: 3216 | AY24: 地方債現在高（臨時財政対策債除き） | BN24: 43169002 | BV24: 45154539
E25: 副市区町村長 | L25: 1 | Q25: 7562 | Z25: うち消防職員 | AH25: 165 | AM25: 498465 | AS25: 3021 | AY25: 債務負担行為額（支出予定額） | BN25: 19906267 | BV25: 20716470
E26: 教育長 | L26: 1 | Q26: 6811 | Z26: うち技能労務職員 | AH26: 129 | AM26: 429312 | AS26: 3328 | AY26: 収益事業収入 | BN26: - | BV26: -
E27: 議会議長 | L27: 1 | Q27: 7010 | Z27: 教育公務員 | AH27: 33 | AM27: 117665 | AS27: 3566 | AY27: 土地開発基金現在高 | BN27: - | BV27: -
E28: 議会副議長 | L28: 1 | Q28: 6290 | Z28: 臨時職員 | AH28: - | AM28: - | AS28: - | AY28: 積立金 現在高 | BC28: 財政調整基金 | BN28: 2022905 | BV28: 2021338
E29: 議会議員 | L29: 22 | Q29: 5700 | Z29: 合計 | AH29: 1050 | AM29: 3388337 | AS29: 3227 | BC29: 減債基金 | BN29: 4563835 | BV29: 4584243
W30: ラスパイレス指数 | AH30: 98.9 | BC30: その他特定目的基金 | BN30: 2978769 | BV30: 2807209
C32: 一般会計等の一覧 | U32: 事業会計の一覧 | AM32: 公営企業（法適）の一覧 | BE32: 公営企業（法非適）の一覧 | BW32: 関係する一部事務組合等一覧 | CO32: 地方公社・第三セクター等一覧
C33: 項番 | E33: 会計名 | U33: 項番 | W33: 会計名 | AM33: 項番 | AO33: 会計名 | BE33: 項番 | BG33: 会計名 | BW33: 項番 | BY33: 組合等名 | CO33: 項番 | CQ33: 団体名 | DG33: (※3)
C34: =IF(E34="","",1) -> 1 | E34: =IF('各会計、関係団体の財政状況及び健全化判断比率'!B7="","",'各会計、関係団体の財政状況及び健全化判断比率'!B7) -> 一般会計 | U34: =IF(W34="","",MAX(C34:D43)+1) -> 3 | W34: =IF('各会計、関係団体の財政状況及び健全化判断比率'!B28="","",'各会計、関係団体の財政状況及び健全化判断比率'!B28) -> 国民健康保険事業特別会計 | AM34: =IF(AO34="","",MAX(C34:D43,U34:V43)+1) -> 6 | AO34: =IF('各会計、関係団体の財政状況及び健全化判断比率'!B31="","",'各会計、関係団体の財政状況及び健全化判断比率'!B31) -> 水道事業会計 | BE34: =IF(BG34="","",MAX(C34:D43,U34:V43,AM34:AN43)+1) | BW34: =IF(BY34="","",MAX(C34:D43,U34:V43,AM34:AN43,BE34:BF43)+1) -> 9 | BY34: =IF('各会計、関係団体の財政状況及び健全化判断比率'!B68="","",'各会計、関係団体の財政状況及び健全化判断比率'!B68) -> 猪名川上流広域ごみ処理施設組合 | CO34: =IF(CQ34="","",MAX(C34:D43,U34:V43,AM34:AN43,BE34:BF43,BW34:BX43)+1) -> 13 | CQ34: =IF('各会計、関係団体の財政状況及び健全化判断比率'!BS7="","",'各会計、関係団体の財政状況及び健全化判断比率'!BS7) -> 川西市土地開発公社 | DG34: =IF('各会計、関係団体の財政状況及び健全化判断比率'!BR7="","",'各会計、関係団体の財政状況及び健全化判断比率'!BR7)
C35: =IF(E35="","",C34+1) -> 2 | E35: =IF('各会計、関係団体の財政状況及び健全化判断比率'!B8="","",'各会計、関係団体の財政状況及び健全化判断比率'!B8) -> 用地先行取得事業特別会計 | U35: =IF(W35="","",U34+1) -> 4 | W35: =IF('各会計、関係団体の財政状況及び健全化判断比率'!B29="","",'各会計、関係団体の財政状況及び健全化判断比率'!B29) -> 後期高齢者医療事業特別会計 | AM35: =IF(AO35="","",AM34+1) -> 7 | AO35: =IF('各会計、関係団体の財政状況及び健全化判断比率'!B32="","",'各会計、関係団体の財政状況及び健全化判断比率'!B32) -> 病院事業会計 | BE35: =IF(BG35="","",BE34+1) | BW35: =IF(BY35="","",BW34+1) -> 10 | BY35: =IF('各会計、関係団体の財政状況及び健全化判断比率'!B69="","",'各会計、関係団体の財政状況及び健全化判断比率'!B69) -> 兵庫県市町村退職手当組合 | CO35: =IF(CQ35="","",CO34+1) -> 14 | CQ35: =IF('各会計、関係団体の財政状況及び健全化判断比率'!BS8="","",'各会計、関係団体の財政状況及び健全化判断比率'!BS8) -> 川西市まちづくり公社 | DG35: =IF('各会計、関係団体の財政状況及び健全化判断比率'!BR8="","",'各会計、関係団体の財政状況及び健全化判断比率'!BR8) -> ○
C36: =IF(E36="","",C35+1) | E36: =IF('各会計、関係団体の財政状況及び健全化判断比率'!B9="","",'各会計、関係団体の財政状況及び健全化判断比率'!B9) | U36: =IF(W36="","",U35+1) -> 5 | W36: =IF('各会計、関係団体の財政状況及び健全化判断比率'!B30="","",'各会計、関係団体の財政状況及び健全化判断比率'!B30) -> 介護保険事業特別会計 | AM36: =IF(AO36="","",AM35+1) -> 8 | AO36: =IF('各会計、関係団体の財政状況及び健全化判断比率'!B33="","",'各会計、関係団体の財政状況及び健全化判断比率'!B33) -> 下水道事業会計 | BE36: =IF(BG36="","",BE35+1) | BW36: =IF(BY36="","",BW35+1) -> 11 | BY36: =IF('各会計、関係団体の財政状況及び健全化判断比率'!B70="","",'各会計、関係団体の財政状況及び健全化判断比率'!B70) -> 兵庫県後期高齢者医療広域連合（一般会計） | CO36: =IF(CQ36="","",CO35+1) -> 15 | CQ36: =IF('各会計、関係団体の財政状況及び健全化判断比率'!BS9="","",'各会計、関係団体の財政状況及び健全化判断比率'!BS9) -> 川西都市開発 | DG36: =IF('各会計、関係団体の財政状況及び健全化判断比率'!BR9="","",'各会計、関係団体の財政状況及び健全化判断比率'!BR9) -> ○
C37: =IF(E37="","",C36+1) | E37: =IF('各会計、関係団体の財政状況及び健全化判断比率'!B10="","",'各会計、関係団体の財政状況及び健全化判断比率'!B10) | U37: =IF(W37="","",U36+1) | AM37: =IF(AO37="","",AM36+1) | BE37: =IF(BG37="","",BE36+1) | BW37: =IF(BY37="","",BW36+1) -> 12 | BY37: =IF('各会計、関係団体の財政状況及び健全化判断比率'!B71="","",'各会計、関係団体の財政状況及び健全化判断比率'!B71) -> 兵庫県後期高齢者医療広域連合（特別会計） | CO37: =IF(CQ37="","",CO36+1) | CQ37: =IF('各会計、関係団体の財政状況及び健全化判断比率'!BS10="","",'各会計、関係団体の財政状況及び健全化判断比率'!BS10) | DG37: =IF('各会計、関係団体の財政状況及び健全化判断比率'!BR10="","",'各会計、関係団体の財政状況及び健全化判断比率'!BR10)
C38: =IF(E38="","",C37+1) | E38: =IF('各会計、関係団体の財政状況及び健全化判断比率'!B11="","",'各会計、関係団体の財政状況及び健全化判断比率'!B11) | U38: =IF(W38="","",U37+1) | AM38: =IF(AO38="","",AM37+1) | BE38: =IF(BG38="","",BE37+1) | BW38: =IF(BY38="","",BW37+1) | BY38: =IF('各会計、関係団体の財政状況及び健全化判断比率'!B72="","",'各会計、関係団体の財政状況及び健全化判断比率'!B72) | CO38: =IF(CQ38="","",CO37+1) | CQ38: =IF('各会計、関係団体の財政状況及び健全化判断比率'!BS11="","",'各会計、関係団体の財政状況及び健全化判断比率'!BS11) | DG38: =IF('各会計、関係団体の財政状況及び健全化判断比率'!BR11="","",'各会計、関係団体の財政状況及び健全化判断比率'!BR11)
C39: =IF(E39="","",C38+1) | E39: =IF('各会計、関係団体の財政状況及び健全化判断比率'!B12="","",'各会計、関係団体の財政状況及び健全化判断比率'!B12) | U39: =IF(W39="","",U38+1) | AM39: =IF(AO39="","",AM38+1) | BE39: =IF(BG39="","",BE38+1) | BW39: =IF(BY39="","",BW38+1) | BY39: =IF('各会計、関係団体の財政状況及び健全化判断比率'!B73="","",'各会計、関係団体の財政状況及び健全化判断比率'!B73) | CO39: =IF(CQ39="","",CO38+1) | CQ39: =IF('各会計、関係団体の財政状況及び健全化判断比率'!BS12="","",'各会計、関係団体の財政状況及び健全化判断比率'!BS12) | DG39: =IF('各会計、関係団体の財政状況及び健全化判断比率'!BR12="","",'各会計、関係団体の財政状況及び健全化判断比率'!BR12)
C40: =IF(E40="","",C39+1) | E40: =IF('各会計、関係団体の財政状況及び健全化判断比率'!B13="","",'各会計、関係団体の財政状況及び健全化判断比率'!B13) | U40: =IF(W40="","",U39+1) | AM40: =IF(AO40="","",AM39+1) | BE40: =IF(BG40="","",BE39+1) | BW40: =IF(BY40="","",BW39+1) | BY40: =IF('各会計、関係団体の財政状況及び健全化判断比率'!B74="","",'各会計、関係団体の財政状況及び健全化判断比率'!B74) | CO40: =IF(CQ40="","",CO39+1) | CQ40: =IF('各会計、関係団体の財政状況及び健全化判断比率'!BS13="","",'各会計、関係団体の財政状況及び健全化判断比率'!BS13) | DG40: =IF('各会計、関係団体の財政状況及び健全化判断比率'!BR13="","",'各会計、関係団体の財政状況及び健全化判断比率'!BR13)
C41: =IF(E41="","",C40+1) | E41: =IF('各会計、関係団体の財政状況及び健全化判断比率'!B14="","",'各会計、関係団体の財政状況及び健全化判断比率'!B14) | U41: =IF(W41="","",U40+1) | AM41: =IF(AO41="","",AM40+1) | BE41: =IF(BG41="","",BE40+1) | BW41: =IF(BY41="","",BW40+1) | BY41: =IF('各会計、関係団体の財政状況及び健全化判断比率'!B75="","",'各会計、関係団体の財政状況及び健全化判断比率'!B75) | CO41: =IF(CQ41="","",CO40+1) | CQ41: =IF('各会計、関係団体の財政状況及び健全化判断比率'!BS14="","",'各会計、関係団体の財政状況及び健全化判断比率'!BS14) | DG41: =IF('各会計、関係団体の財政状況及び健全化判断比率'!BR14="","",'各会計、関係団体の財政状況及び健全化判断比率'!BR14)
...

Sheet 普通会計の状況
DH1: 令和6年度 | DP1: 兵庫県川西市
B2: (1) 普通会計の状況（市町村）
B3: 歳入の状況（単位 千円・％） | AP3: 地方税の状況（単位 千円・％） | CD3: 歳出の状況（単位 千円・％）
B4: 区分 | R4: 決算額 | Z4: 構成比 | AD4: 経常一般財源等 | AL4: 構成比 | AP4: 区分 | BG4: 収入済額 | BO4: 構成比 | BS4: 超過課税分 | CD4: 目的別歳出の状況（単位 千円・％）
B5: 地方税 | R5: 19874107 | Z5: 32.4 | AD5: 18167392 | AL5: 51.6 | AP5: 普通税 | BG5: 18166762 | BO5: 91.4 | BS5: 213619 | CD5: 区分 | CR5: 決算額 (A) | CZ5: 構成比 | DD5: (A)のうち普通建設事業費 | DQ5: (A)のうち充当一般財源等
B6: 地方譲与税 | R6: 499667 | Z6: 0.8 | AD6: 499667 | AL6: 1.4 | AP6: 法定普通税 | BG6: 18166762 | BO6: 91.4 | BS6: 213619 | CD6: 議会費 | CR6: 401131 | CZ6: 0.7 | DD6: - | DQ6: 401131
B7: 利子割交付金 | R7: 17406 | Z7: 0 | AD7: 17406 | AL7: 0 | AP7: 市町村民税 | BG7: 9473188 | BO7: 47.7 | BS7: 213619 | CD7: 総務費 | CR7: 6005946 | CZ7: 9.9 | DD7: 313994 | DQ7: 4642032
B8: 配当割交付金 | R8: 310031 | Z8: 0.5 | AD8: 310031 | AL8: 0.9 | AP8: 個人均等割 | BG8: 258700 | BO8: 1.3 | BS8: - | CD8: 民生費 | CR8: 28657885 | CZ8: 47.1 | DD8: 555645 | DQ8: 15046332
B9: 株式等譲渡所得割交付金 | R9: 408405 | Z9: 0.7 | AD9: 408405 | AL9: 1.2 | AP9: 所得割 | BG9: 8287998 | BO9: 41.7 | BS9: - | CD9: 衛生費 | CR9: 6321528 | CZ9: 10.4 | DD9: 183611 | DQ9: 5491447
B10: 分離課税所得割交付金 | R10: - | Z10: - | AD10: - | AL10: - | AP10: 法人均等割 | BG10: 372236 | BO10: 1.9 | BS10: 62724 | CD10: 労働費 | CR10: 75847 | CZ10: 0.1 | DD10: - | DQ10: 66692
B11: 地方消費税交付金 | R11: 3431315 | Z11: 5.6 | AD11: 3431315 | AL11: 9.8 | AP11: 法人税割 | BG11: 554254 | BO11: 2.8 | BS11: 150895 | CD11: 農林水産業費 | CR11: 144995 | CZ11: 0.2 | DD11: 23669 | DQ11: 93216
B12: ゴルフ場利用税交付金 | R12: 108319 | Z12: 0.2 | AD12: 108319 | AL12: 0.3 | AP12: 固定資産税 | BG12: 7765060 | BO12: 39.1 | BS12: - | CD12: 商工費 | CR12: 411234 | CZ12: 0.7 | DD12: 128993 | DQ12: 267438
B13: 自動車取得税交付金 | R13: - | Z13: - | AD13: - | AL13: - | AP13: うち純固定資産税 | BG13: 7714841 | BO13: 38.8 | BS13: - | CD13: 土木費 | CR13: 4160030 | CZ13: 6.8 | DD13: 1046811 | DQ13: 3074960
B14: 軽油引取税交付金 | R14: - | Z14: - | AD14: - | AL14: - | AP14: 軽自動車税 | BG14: 253044 | BO14: 1.3 | BS14: - | CD14: 消防費 | CR14: 1850894 | CZ14: 3 | DD14: 245642 | DQ14: 1616939
B15: 自動車税環境性能割交付金 | R15: 70088 | Z15: 0.1 | AD15: 70088 | AL15: 0.2 | AP15: 市町村たばこ税 | BG15: 675470 | BO15: 3.4 | BS15: - | CD15: 教育費 | CR15: 6838408 | CZ15: 11.2 | DD15: 420314 | DQ15: 5099859
B16: 法人事業税交付金 | R16: 217509 | Z16: 0.4 | AD16: 217509 | AL16: 0.6 | AP16: 鉱産税 | BG16: - | BO16: - | BS16: - | CD16: 災害復旧費 | CR16: - | CZ16: - | DD16: - | DQ16: -
B17: 地方特例交付金等 | R17: 869604 | Z17: 1.4 | AD17: 869604 | AL17: 2.5 | AP17: 特別土地保有税 | BG17: - | BO17: - | BS17: - | CD17: 公債費 | CR17: 5918851 | CZ17: 9.7 | DD17: - | DQ17: 5777274
B18: 住宅借入金等特別税額控除減収補塡特例交付金 | R18: 164814 | Z18: 0.3 | AD18: 164814 | AL18: 0.5 | AP18: 法定外普通税 | BG18: - | BO18: - | BS18: - | CD18: 諸支出金 | CR18: - | CZ18: - | DD18: - | DQ18: -
B19: 定額減税減収補塡特例交付金 | R19: 698560 | Z19: 1.1 | AD19: 698560 | AL19: 2 | AP19: 目的税 | BG19: 1707345 | BO19: 8.6 | BS19: - | CD19: 前年度繰上充用金 | CR19: - | CZ19: - | DD19: - | DQ19: -
B20: 新型コロナウイルス感染症対策地方税減収補塡特別交付金 | R20: 6230 | Z20: 0 | AD20: 6230 | AL20: 0 | AP20: 法定目的税 | BG20: 1707345 | BO20: 8.6 | BS20: - | CD20: 歳出合計 | CR20: 60786749 | CZ20: 100 | DD20: 2918679 | DQ20: 41577320
B21: 地方交付税 | R21: 11659809 | Z21: 19 | AD21: 10697810 | AL21: 30.4 | AP21: 入湯税 | BG21: 630 | BO21: 0 | BS21: -
B22: 普通交付税 | R22: 10697810 | Z22: 17.4 | AD22: 10697810 | AL22: 30.4 | AP22: 事業所税 | BG22: - | BO22: - | BS22: - | CD22: 性質別歳出の状況（単位 千円・％）
B23: 特別交付税 | R23: 961999 | Z23: 1.6 | AD23: - | AL23: - | AP23: 都市計画税 | BG23: 1706715 | BO23: 8.6 | BS23: - | CD23: 区分 | CR23: 決算額 | CZ23: 構成比 | DD23: 充当一般財源等 | DL23: 経常経費充当一般財源等 | DW23: 経常収支比率
B24: 震災復興特別交付税 | R24: - | Z24: - | AD24: - | AL24: - | AP24: 水利地益税等 | BG24: - | BO24: - | BS24: - | CD24: 義務的経費計 | CR24: 36060887 | CZ24: 59.3 | DD24: 23054540 | DL24: 20720971 | DW24: 58.6
B25: (一般財源計) | R25: 37466260 | Z25: 61.1 | AD25: 34797546 | AL25: 98.9 | AP25: 法定外目的税 | BG25: - | BO25: - | BS25: - | CD25: 人件費 | CR25: 11815194 | CZ25: 19.4 | DD25: 10581878 | DL25: 10319730 | DW25: 29.2
B26: 交通安全対策特別交付金 | R26: 20160 | Z26: 0 | AD26: 20160 | AL26: 0.1 | AP26: 旧法による税 | BG26: - | BO26: - | BS26: - | CD26: うち職員給 | CR26: 6809960 | CZ26: 11.2 | DD26: 6166904 | DL26: - | DW26: -
B27: 分担金・負担金 | R27: 270139 | Z27: 0.4 | AD27: - | AL27: - | AP27: 合計 | BG27: 19874107 | BO27: 100 | BS27: 213619 | CD27: 扶助費 | CR27: 18326845 | CZ27: 30.1 | DD27: 6695391 | DL27: 4660476 | DW27: 13.2
B28: 使用料 | R28: 1081259 | Z28: 1.8 | AD28: 344135 | AL28: 1 | CD28: 公債費 | CR28: 5918848 | CZ28: 9.7 | DD28: 5777271 | DL28: 5740765 | DW28: 16.2
B29: 手数料 | R29: 234006 | Z29: 0.4 | AD29: - | AL29: - | CD29: 内訳 | CF29: 元利償還金 | CR29: 5918225 | CZ29: 9.7 | DD29: 5776648 | DL29: 5740142 | DW29: 16.2
B30: 国庫支出金 | R30: 13052991 | Z30: 21.3 | AD30: - | AL30: - | AP30: 区分 | BG30: 令和6年度 | BR30: 令和5年度 | CF30: うち元金 | CR30: 5642003 | CZ30: 9.3 | DD30: 5519870 | DL30: 5484974 | DW30: 15.5
B31: 国有提供交付金(特別区財調交付金) | R31: 20343 | Z31: 0 | AD31: 20343 | AL31: 0.1 | AP31: 徴収率 (％) | AT31: 現年 | AX31: 合計 | BG31: 99.4 | BM31: 97.3 | BR31: 99.3 | BX31: 97.1 | CF31: うち利子 | CR31: 276222 | CZ31: 0.5 | DD31: 256778 | DL31: 255168 | DW31: 0.7
B32: 都道府県支出金 | R32: 4562958 | Z32: 7.4 | AD32: - | AL32: - | AU32: ・計 | AX32: 市町村民税 | BG32: 99.4 | BM32: 98.3 | BR32: 99.3 | BX32: 98.1 | CF32: 一時借入金利子 | CR32: 623 | CZ32: 0 | DD32: 623 | DL32: 623 | DW32: 0
B33: 財産収入 | R33: 313367 | Z33: 0.5 | AD33: - | AL33: - | AX33: 純固定資産税 | BG33: 99.3 | BM33: 96.2 | BR33: 99.2 | BX33: 95.9 | CD33: その他の経費 | CR33: 21807183 | CZ33: 35.9 | DD33: 17820859 | DL33: 14137186 | DW33: 40
B34: 寄附金 | R34: 248611 | Z34: 0.4 | AD34: - | AL34: - | CD34: 物件費 | CR34: 7990706 | CZ34: 13.1 | DD34: 5881516 | DL34: 5251497 | DW34: 14.9
B35: 繰入金 | R35: 929560 | Z35: 1.5 | AD35: - | AL35: - | AQ35: 公営事業等への繰出 | BG35: 国民健康保険事業会計の状況 | CD35: 維持補修費 | CR35: 251286 | CZ35: 0.4 | DD35: 246479 | DL35: 242089 | DW35: 0.7
B36: 繰越金 | R36: 354716 | Z36: 0.6 | AD36: - | AL36: - | AQ36: 合計 | AZ36: 8995002 | BG36: 実質収支 | BV36: 91931 | CD36: 補助費等 | CR36: 5941124 | CZ36: 9.8 | DD36: 5553293 | DL36: 3242147 | DW36: 9.2
B37: 諸収入 | R37: 1236898 | Z37: 2 | AD37: 2623 | AL37: 0 | AQ37: 病院 | AZ37: 1393831 | BG37: 再差引収支 | BV37: 29488 | CD37: うち一部事務組合負担金 | CR37: 1221490 | CZ37: 2 | DD37: 1221490 | DL37: 1217070 | DW37: 3.4
B38: 地方債 | R38: 1570233 | Z38: 2.6 | AD38: - | AL38: - | AQ38: 下水道 | AZ38: 995140 | BG38: 加入世帯数(世帯) | BV38: 17198 | CD38: 繰出金 | CR38: 6582294 | CZ38: 10.8 | DD38: 5482068 | DL38: 5401453 | DW38: 15.3
B39: うち減収補塡債(特例分) | R39: - | Z39: - | AD39: - | AL39: - | AQ39: 上水道 | AZ39: 23737 | BG39: 被保険者数(人) | BV39: 24684 | CD39: 積立金 | CR39: 1016252 | CZ39: 1.7 | DD39: 657462 | DL39: - | DW39: -
B40: うち臨時財政対策債 | R40: 153133 | Z40: 0.2 | AD40: - | AL40: - | AQ40: 工業用水道 | AZ40: - | BG40: 被保険者 1人当り | BM40: 保険税(料)収入額 | BV40: 108 | CD40: 投資・出資金・貸付金 | CR40: 25521 | CZ40: 0 | DD40: 41 | DL40: - | DW40: -
...

Sheet 各会計、関係団体の財政状況及び健全化判断比率
A2: (2)各会計、関係団体の財政状況及び健全化判断比率（市町村） | DJ2: 令和6年度 | DQ2: 兵庫県川西市
A4: 一般会計等の財政状況（単位：百万円） | BQ4: 地方公社・第三セクター等の経営状況及び地方公共団体の財政的支援の状況（単位：百万円）
A5: 会計名 | Q5: 歳入 | V5: 歳出 | AA5: 形式収支 | AF5: 実質収支 | AK5: 他会計等 からの 繰入金 | AP5: 地方債 現在高 | AU5: 備考 | BQ5: 地方公社・第三セクター等名 | CH5: 経常損益 | CM5: 純資産又は 正味財産 | CR5: 当該団体 からの 出資金 | CW5: 当該団体 からの 補助金 | DB5: 当該団体 からの 貸付金 | DG5: 当該団体からの債務保証に係る債務残高 | DL5: 当該団体からの損失補償に係る債務残高 | DQ5: 一般会計等 負担見込額 | DV5: 備考
A7: 1 | B7: 一般会計 | Q7: 60877 | V7: 60302 | AA7: 575 | AF7: 371 | AK7: 504 | AP7: 62019 | BQ7: 1 | BS7: 川西市土地開発公社 | CH7: 0 | CM7: 66 | CR7: 5 | CW7: - | DB7: - | DG7: 1823 | DL7: - | DQ7: -
A8: 2 | B8: 用地先行取得事業特別会計 | Q8: 938 | V8: 938 | AA8: 0 | AF8: - | AK8: 425 | AP8: 2537 | BQ8: 2 | BR8: ○ | BS8: 川西市まちづくり公社 | CH8: 22 | CM8: 316 | CR8: 2 | CW8: 683 | DB8: - | DG8: - | DL8: 5643 | DQ8: -
A9: 3 | BQ9: 3 | BR9: ○ | BS9: 川西都市開発 | CH9: 160 | CM9: 2116 | CR9: 200 | CW9: - | DB9: 1336 | DG9: - | DL9: 150 | DQ9: 15
A10: 4 | BQ10: 4
A11: 5 | BQ11: 5
A12: 6 | BQ12: 6
A13: 7 | BQ13: 7
A14: 8 | BQ14: 8
A15: 9 | BQ15: 9
A16: 10 | BQ16: 10
A17: 11 | BQ17: 11
A18: 12 | BQ18: 12
A19: 13 | BQ19: 13
A20: 14 | BQ20: 14
A21: 15 | BQ21: 15
A22: 16 | AZ22: 実質赤字額 | BQ22: 16
A23: 計 | B23: 一般会計等（純計） | Q23: 61362 | V23: 60787 | AA23: 575 | AF23: 371 | AP23: 64556 | AZ23: - | BQ23: 17
A24: ※一般会計等（純計）は、各会計の相互間の繰入・繰出等の重複を控除したものであり、各会計の合計と一致しない場合がある。 | BQ24: 18
A25: 公営企業会計等の財政状況（単位：百万円） | BQ25: 19
A26: 会計名 | Q26: 総収益 （歳入） | V26: 総費用 （歳出） | AA26: 純損益 （形式収支） | AF26: 資金剰余額 /不足額 （実質収支） | AK26: 他会計等 からの 繰入金 | AP26: 企業債 （地方債） 現在高 | AU26: 左のうち 一般会計等 繰入見込額 | AZ26: 資金不足 比率 | BE26: 備考 | BQ26: 20
BQ27: 21
A28: 1 | B28: 国民健康保険事業特別会計 | Q28: 14513 | V28: 14421 | AA28: 92 | AF28: 92 | AK28: 1158 | AP28: - | AU28: - | AZ28: - | BQ28: 22
A29: 2 | B29: 後期高齢者医療事業特別会計 | Q29: 4058 | V29: 3926 | AA29: 132 | AF29: 132 | AK29: 616 | AP29: - | AU29: - | AZ29: - | BQ29: 23
A30: 3 | B30: 介護保険事業特別会計 | Q30: 16422 | V30: 16178 | AA30: 244 | AF30: 244 | AK30: 2442 | AP30: - | AU30: - | AZ30: - | BQ30: 24
A31: 4 | B31: 水道事業会計 | Q31: 3282 | V31: 3023 | AA31: 259 | AF31: 4936 | AK31: 23 | AP31: 1937 | AU31: 2 | AZ31: - | BE31: 法適用企業 | BQ31: 25
A32: 5 | B32: 病院事業会計 | Q32: 1861 | V32: 1897 | AA32: -36 | AF32: 490 | AK32: 1394 | AP32: 18771 | AU32: 12496 | AZ32: - | BE32: 法適用企業 | BQ32: 26
A33: 6 | B33: 下水道事業会計 | Q33: 3572 | V33: 2973 | AA33: 599 | AF33: 2795 | AK33: 995 | AP33: 8973 | AU33: 5303 | AZ33: - | BE33: 法適用企業 | BQ33: 27
A34: 7 | BQ34: 28
A35: 8 | BQ35: 29
A36: 9 | BQ36: 30
A37: 10 | BQ37: 31
A38: 11 | BQ38: 32
A39: 12 | BQ39: 33
A40: 13 | BQ40: 34
A41: 14 | BQ41: 35
A42: 15 | BQ42: 36
A43: 16 | BQ43: 37
...

Sheet 財政比較分析表

Sheet 経常経費分析表（経常収支比率の分析）

Sheet 経常経費分析表（人件費・公債費・普通建設事業費の分析）
A5: 人件費及び人件費に準ずる費用の分析
AK6: 人件費及び人件費に準ずる費用
AO7: 当該団体決算額 （千円） | AQ7: 人口1人当たり決算額
AP8: 当該団体（円） | AQ8: 類似団体平均（円） | AR8: 対比（％）
AK9: 人件費 | AO9: 11815194 | AP9: 77267 | AQ9: 66742 | AR9: 15.8
AK10: 一部事務組合負担金（補助費等） | AO10: 8876 | AP10: 58 | AQ10: 1287 | AR10: -95.5
AK11: 公営企業（法適）等に対する繰出し（補助費等） | AO11: 3632 | AP11: 24 | AQ11: 1074 | AR11: -97.8
AK12: 公営企業（法適）等に対する繰出し（投資及び出資金・貸付金） | AO12: - | AP12: - | AQ12: 41 | AR12: -
AK13: 公営企業（法非適）等に対する繰出し（繰出金） | AO13: 349077 | AP13: 2283 | AQ13: 2303 | AR13: -0.9
AK14: 事業費支弁に係る職員の人件費（投資的経費） | AO14: 194152 | AP14: 1270 | AQ14: 1496 | AR14: -15.1
AK15: ▲退職金 | AO15: -789685 | AP15: -5164 | AQ15: -3858 | AR15: 33.9
AK16: 合計 | AO16: 11581246 | AP16: 75737 | AQ16: 69084 | AR16: 9.6
AK19: 参考
AO20: 当該団体 | AP20: 類似団体平均 | AQ20: 対比（差引）
AK21: 人口1,000人当たり職員数（人） | AO21: 6.87 | AP21: 6.14 | AQ21: 0.73
AK22: ラスパイレス指数 | AO22: 98.9 | AP22: 99.7 | AQ22: -0.8
A26: （注）人口については、各調査対象年度の1月1日現在の住民基本台帳に登載されている人口に基づいている。
A28: 公債費及び公債費に準ずる費用の分析
AK29: 公債費及び公債費に準ずる費用（実質公債費比率の構成要素）
AO30: 当該団体決算額 （千円） | AQ30: 人口1人当たり決算額
AP31: 当該団体（円） | AQ31: 類似団体平均（円） | AR31: 対比（％）
AK32: 元利償還金の額 （繰上償還額等を除く） | AO32: 5955280 | AP32: 38945 | AQ32: 26372 | AR32: 47.7
AK33: 積立不足額を考慮して算定した額 | AO33: - | AP33: - | AQ33: 3 | AR33: -
AK34: 満期一括償還地方債の一年当たりの元金償還金に相当するもの （年度割相当額） | AO34: 21163 | AP34: 138 | AQ34: 27 | AR34: 411.1
AK35: 公営企業に要する経費の財源とする地方債の償還の財源に 充てたと認められる繰入金 | AO35: 1338388 | AP35: 8753 | AQ35: 5235 | AR35: 67.2
AK36: 一部事務組合等の起こした地方債に充てたと認められる 補助金又は負担金 | AO36: - | AP36: - | AQ36: 476 | AR36: -
AK37: 公債費に準ずる債務負担行為に係るもの | AO37: 882899 | AP37: 5774 | AQ37: 969 | AR37: 495.9
AK38: 一時借入金利子 （同一団体における会計間の現金運用に係る利子は除く） | AO38: - | AP38: - | AQ38: - | AR38: -
AK39: ▲特定財源の額 | AO39: -2023437 | AP39: -13233 | AQ39: -7307 | AR39: 81.1
AK40: ▲地方債に係る元利償還金及び準元利償還金に要する経費として 普通交付税の額の算定に用いる基準財政需要額に算入された額 | AO40: -3982804 | AP40: -26046 | AQ40: -17667 | AR40: 47.4
AK41: 合計 | AO41: 2191489 | AP41: 14332 | AQ41: 8108 | AR41: 76.8
A47: （参考） 普通建設事業費の分析
AK48: 普通建設事業費
AM49: 当該団体決算額 （千円） | AN49: 人口１人当たり決算額
AN50: 当該団体(円) | AO50: 増減率(%)(A) | AP50: 類似団体平均(円) | AQ50: 増減率(%)(B) | AR50: (A)-(B)
AK51: R02 | AM51: 5227766 | AN51: 33468 | AO51: -14.8 | AP51: 39221 | AQ51: 4.2 | AR51: -19
AL52: うち単独分 | AM52: 2784411 | AN52: 17825 | AO52: -36.7 | AP52: 24821 | AQ52: -0.5 | AR52: -36.2
AK53: R03 | AM53: 5797230 | AN53: 37203 | AO53: 11.2 | AP53: 38566 | AQ53: -1.7 | AR53: 12.9
AL54: うち単独分 | AM54: 2624836 | AN54: 16845 | AO54: -5.5 | AP54: 24059 | AQ54: -3.1 | AR54: -2.4
AK55: R04 | AM55: 6413500 | AN55: 41351 | AO55: 11.1 | AP55: 35156 | AQ55: -8.8 | AR55: 19.9
...

Sheet 性質別歳出決算分析表（住民一人当たりのコスト）

Sheet 目的別歳出決算分析表（住民一人当たりのコスト）

Sheet 実質収支比率等に係る経年分析
J45: 標準財政規模比（％）
B46: 区分 | E46: 年度 | F46: R02 | G46: R03 | H46: R04 | I46: R05 | J46: R06
C47: 財政調整基金残高 | F47: 4.3 | G47: 4.38 | H47: 6.14 | I47: 6.1 | J47: 5.91
C48: 実質収支額 | F48: 2.38 | G48: 4.09 | H48: 1.63 | I48: 0.95 | J48: 1.08
C49: 実質単年度収支 | F49: 1.3 | G49: 2.08 | H49: ▲ 0.86 | I49: ▲ 0.61 | J49: 0.17

Sheet 連結実質赤字比率に係る赤字・黒字の構成分析
J32: 標準財政規模比（％）
B33: 会計 | E33: 年度 | F33: R02 | G33: R03 | H33: R04 | I33: R05 | J33: R06
C34: 水道事業会計 | F34: 14.95 | G34: 15.46 | H34: 15.73 | I34: 14.91 | J34: 14.41
C35: 下水道事業会計 | F35: 7.7 | G35: 7.31 | H35: 7.57 | I35: 7.67 | J35: 8.16
C36: 病院事業会計 | F36: ▲ 0.99 | G36: ▲ 0.38 | H36: 5.15 | I36: 0.26 | J36: 1.43
C37: 一般会計 | F37: 2.37 | G37: 4.08 | H37: 1.62 | I37: 0.95 | J37: 1.08
C38: 介護保険事業特別会計 | F38: 0.81 | G38: 0.94 | H38: 0.5 | I38: 0.23 | J38: 0.71
C39: 後期高齢者医療事業特別会計 | F39: 0.29 | G39: 0.29 | H39: 0.29 | I39: 0.31 | J39: 0.38
C40: 国民健康保険事業特別会計 | F40: 0.14 | G40: 0.27 | H40: 0.5 | I40: 0.28 | J40: 0.26
C41: 用地先行取得事業特別会計 | F41: 0 | G41: 0 | H41: 0 | I41: 0 | J41: 0
C42: その他会計（赤字） | F42: - | G42: - | H42: - | I42: - | J42: -
C43: その他会計（黒字） | F43: 0 | G43: 0 | H43: - | I43: - | J43: -

Sheet 実質公債費比率（分子）の構造
O43: （百万円）
B44: 分子の構造 | J44: 年度 | K44: R02 | L44: R03 | M44: R04 | N44: R05 | O44: R06
B45: 元利償還金等(A) | E45: 元利償還金 | K45: 5715 | L45: 6124 | M45: 6103 | N45: 6171 | O45: 5955
E46: 減債基金積立不足算定額※2 | K46: - | L46: - | M46: - | N46: - | O46: -
E47: 満期一括償還地方債に係る年度割相当額 | K47: 34 | L47: 28 | M47: 21 | N47: 21 | O47: 21
E48: 公営企業債の元利償還金に対する繰入金 | K48: 870 | L48: 856 | M48: 1055 | N48: 1225 | O48: 1338
E49: 組合等が起こした地方債の元利償還金に対する負担金等 | K49: 686 | L49: 634 | M49: 384 | N49: 130 | O49: -
E50: 債務負担行為に基づく支出額 | K50: 1056 | L50: 877 | M50: 878 | N50: 886 | O50: 883
E51: 一時借入金の利子 | K51: 0 | L51: 1 | M51: 1 | N51: 1 | O51: -
B52: 算入公債費等(B) | E52: 算入公債費等 | K52: 6117 | L52: 6422 | M52: 6162 | N52: 5925 | O52: 6005
B53: (A)－(B) | E53: 実質公債費比率の分子 | K53: 2244 | L53: 2098 | M53: 2280 | N53: 2509 | O53: 2192
B54: ※ 減債基金積立不足算定額=(C)×(１－(D)/(E))
B56: （参考） | O56: （百万円）
J57: 年度 | K57: R02 | L57: R03 | M57: R04 | N57: R05 | O57: R06
B58: 減債基金 積立状況等（注） | D58: 満期一括償還地方債に係る実質償還額又は理論償還額のいずれか少ない額(C) | K58: 0 | L58: 0 | M58: 0 | N58: 0 | O58: 0
D59: 前年度末減債基金残高(D) | K59: 3060 | L59: 3212 | M59: 3615 | N59: 3201 | O59: 4584
D60: 前年度末減債基金積立相当額(E) | K60: 110 | L60: 111 | M60: 106 | N60: 127 | O60: 148
D61: （注）減債基金のうち、実質公債費比率の算定に用いる満期一括償還地方債の償還の財源に係るもののみを記入。
D62: 減債基金積立金の年度を超えた一般会計又は特別会計への貸付額は控除して記入。

Sheet 将来負担比率（分子）の構造
M39: （百万円）
B40: 分子の構造 | H40: 年度 | I40: R02 | J40: R03 | K40: R04 | L40: R05 | M40: R06
B41: 将来負担額(A) | E41: 一般会計等に係る地方債の現在高 | I41: 73047 | J41: 72983 | K41: 72020 | L41: 68664 | M41: 64556
E42: 債務負担行為に基づく支出予定額 | I42: 12495 | J42: 11780 | K42: 11531 | L42: 10514 | M42: 9691
E43: 公営企業債等繰入見込額 | I43: 11180 | J43: 13042 | K43: 15925 | L43: 14775 | M43: 17801
E44: 組合等負担等見込額 | I44: 1126 | J44: 506 | K44: 129 | L44: - | M44: -
E45: 退職手当負担見込額 | I45: 7725 | J45: 7347 | K45: 7074 | L45: 6843 | M45: 6794
E46: 設立法人等の負債額等負担見込額 | I46: 117 | J46: 107 | K46: 65 | L46: 60 | M46: 112
E47: うち、健全化法施行規則附則第三条に係る負担見込額 | I47: - | J47: - | K47: - | L47: - | M47: -
E48: 連結実質赤字額 | I48: - | J48: - | K48: - | L48: - | M48: -
E49: 組合等連結実質赤字額負担見込額 | I49: - | J49: - | K49: - | L49: - | M49: -
B50: 充当可能財源等(B) | E50: 充当可能基金 | I50: 8747 | J50: 9788 | K50: 10033 | L50: 11622 | M50: 11816
E51: 充当可能特定歳入 | I51: 15885 | J51: 15341 | K51: 16087 | L51: 16184 | M51: 15941
E52: 基準財政需要額算入見込額 | I52: 52982 | J52: 54145 | K52: 54470 | L52: 51628 | M52: 49503
B53: (A)－(B) | E53: 将来負担比率の分子 | I53: 28075 | J53: 26491 | K53: 26154 | L53: 21422 | M53: 21694

Sheet 基金残高に係る経年分析
H53: （百万円）
B54: 区分 | E54: 年度 | F54: R04 | G54: R05 | H54: R06
C55: 財政調整基金 | F55: 2006 | G55: 2021 | H55: 2023
C56: 減債基金 | F56: 3201 | G56: 4584 | H56: 4564
C57: その他特定目的基金 | F57: 2615 | G57: 2807 | H57: 2979
C58: 公共施設等整備基金 | F58: 824 | G58: 897 | H58: 1059
C59: ふるさとづくり基金 | F59: 620 | G59: 725 | H59: 707
C60: 地域福祉基金 | F60: 347 | G60: 347 | H60: 347
C61: 社会福祉基金 | F61: 234 | G61: 247 | H61: 260
C62: 文化振興基金 | F62: 222 | G62: 227 | H62: 230
C63: 基金残高合計 | F63: 7821 | G63: 9413 | H63: 9566

Sheet 公会計指標分析・財政指標組合せ分析表
B41: 将来負担比率及び有形固定資産減価償却率の組合せによる分析
AN42: 分析欄
AN43: 将来負担比率は比率が低下し、有形固定資産減価償却率は施設の老朽化により比率が上昇した。両指標とも、類似団体と比較すると、高い水準である。 将来負担比率は、分子となる債務全体の負担額は減少したことに加え、分母となる税収入などの財源も増加し、1.8ポイント低下した。今後は将来負担額の低下により長期的には比率が減少する見込みとなっている。 一方、有形固定資産については老朽化が進んでいることから、将来負担比率の推移を加味しつつ、個別施設計画に基づき資産の更新に取り組むとともに、古い施設の再編や除却、売却にも取り組むなど、施設総量の適正化を図る。
AN49: ( 参考 ）
BP50: R02 | BX50: R03 | CF50: R04 | CN50: R05 | CV50: R06
AN51: 当該団体値 | BB51: 将来負担比率 | BP51: 101.4 | BX51: 91.2 | CF51: 91.6 | CN51: 73.4 | CV51: 71.6
BB53: 有形固定資産減価償却率 | BP53: 70.1 | BX53: 70.6 | CF53: 69.9 | CN53: 70.8 | CV53: 72.3
AN55: 類似団体内平均値 | BB55: 将来負担比率 | BP55: 7.1 | BX55: 5 | CF55: 0.1 | CN55: 0 | CV55: 1.8
BB57: 有形固定資産減価償却率 | BP57: 61 | BX57: 62.1 | CF57: 62.9 | CN57: 64.2 | CV57: 65
B63: 将来負担比率及び実質公債費比率の組合せによる分析
AN64: 分析欄
AN65: 当市の実質公債費比率は横ばい、将来負担比率は標準財政規模の増加によって減少傾向にある。 当市では、個別施設計画に基づく施設の更新を行いつつ、投資的事業を実施する基準として実質公債費比率が８％以下となることを目標として定めている。 令和７年度以降は、引き続き公共施設の更新事業などに取り組むこととしているが、将来負担比率及び実質公債費比率は緩やかに低下していくと見込んでいる。 引き続き資的事業の実施にあたっては、事業の必要性の判断や経費の精査を行った上で国の経済対策による財源を活用するなど、公債費が将来の財政運営を圧迫しないように努める。
AN71: ( 参考 ）
BP72: R02 | BX72: R03 | CF72: R04 | CN72: R05 | CV72: R06
AN73: 当該団体値 | BB73: 将来負担比率 | BP73: 101.4 | BX73: 91.2 | CF73: 91.6 | CN73: 73.4 | CV73: 71.6
BB75: 実質公債費比率 | BP75: 9.3 | BX75: 8.3 | CF75: 7.8 | CN75: 7.9 | CV75: 7.9
AN77: 類似団体内平均値 | BB77: 将来負担比率 | BP77: 7.1 | BX77: 5 | CF77: 0.1 | CN77: 0 | CV77: 1.8
BB79: 実質公債費比率 | BP79: 3.4 | BX79: 3.6 | CF79: 3.6 | CN79: 3.7 | CV79: 3.8

Sheet 施設類型別ストック情報分析表①

Sheet 施設類型別ストック情報分析表②

Sheet データシート
D2: 当該団体(円) | F2: 類似団体内平均(円)
A3: R02 | D3: 33468 | F3: 39221
D4: 17825 | F4: 24821
A5: R03 | D5: 37203 | F5: 38566
D6: 16845 | F6: 24059
A7: R04 | D7: 41351 | F7: 35156
D8: 26438 | F8: 22430
A9: R05 | D9: 23388 | F9: 37029
D10: 16983 | F10: 23232
A11: R06 | D11: 19087 | F11: 44805
D12: 12418 | F12: 29857
D13: 30899 | F13: 38955
D14: 18102 | F14: 24880
A17: 実質収支比率等に係る経年分析
B18: =実質収支比率等に係る経年分析!F$46 -> R02 | C18: =実質収支比率等に係る経年分析!G$46 -> R03 | D18: =実質収支比率等に係る経年分析!H$46 -> R04 | E18: =実質収支比率等に係る経年分析!I$46 -> R05 | F18: =実質収支比率等に係る経年分析!J$46 -> R06
A19: 実質収支額 | B19: =ROUND(VALUE(SUBSTITUTE(実質収支比率等に係る経年分析!F$48,"▲","-")),2) -> 2.38 | C19: =ROUND(VALUE(SUBSTITUTE(実質収支比率等に係る経年分析!G$48,"▲","-")),2) -> 4.09 | D19: =ROUND(VALUE(SUBSTITUTE(実質収支比率等に係る経年分析!H$48,"▲","-")),2) -> 1.63 | E19: =ROUND(VALUE(SUBSTITUTE(実質収支比率等に係る経年分析!I$48,"▲","-")),2) -> 0.95 | F19: =ROUND(VALUE(SUBSTITUTE(実質収支比率等に係る経年分析!J$48,"▲","-")),2) -> 1.08
A20: 財政調整基金残高 | B20: =ROUND(VALUE(SUBSTITUTE(実質収支比率等に係る経年分析!F$47,"▲","-")),2) -> 4.3 | C20: =ROUND(VALUE(SUBSTITUTE(実質収支比率等に係る経年分析!G$47,"▲","-")),2) -> 4.38 | D20: =ROUND(VALUE(SUBSTITUTE(実質収支比率等に係る経年分析!H$47,"▲","-")),2) -> 6.14 | E20: =ROUND(VALUE(SUBSTITUTE(実質収支比率等に係る経年分析!I$47,"▲","-")),2) -> 6.1 | F20: =ROUND(VALUE(SUBSTITUTE(実質収支比率等に係る経年分析!J$47,"▲","-")),2) -> 5.91
A21: 実質単年度収支 | B21: =IF(ISNUMBER(VALUE(SUBSTITUTE(実質収支比率等に係る経年分析!F$49,"▲","-"))),ROUND(VALUE(SUBSTITUTE(実質収支比率等に係る経年分析!F$49,"▲","-")),2),NA()) -> 1.3 | C21: =IF(ISNUMBER(VALUE(SUBSTITUTE(実質収支比率等に係る経年分析!G$49,"▲","-"))),ROUND(VALUE(SUBSTITUTE(実質収支比率等に係る経年分析!G$49,"▲","-")),2),NA()) -> 2.08 | D21: =IF(ISNUMBER(VALUE(SUBSTITUTE(実質収支比率等に係る経年分析!H$49,"▲","-"))),ROUND(VALUE(SUBSTITUTE(実質収支比率等に係る経年分析!H$49,"▲","-")),2),NA()) -> -0.86 | E21: =IF(ISNUMBER(VALUE(SUBSTITUTE(実質収支比率等に係る経年分析!I$49,"▲","-"))),ROUND(VALUE(SUBSTITUTE(実質収支比率等に係る経年分析!I$49,"▲","-")),2),NA()) -> -0.61 | F21: =IF(ISNUMBER(VALUE(SUBSTITUTE(実質収支比率等に係る経年分析!J$49,"▲","-"))),ROUND(VALUE(SUBSTITUTE(実質収支比率等に係る経年分析!J$49,"▲","-")),2),NA()) -> 0.17
A24: 連結実質赤字比率に係る赤字・黒字の構成分析
B25: =連結実質赤字比率に係る赤字・黒字の構成分析!F$33 -> R02 | D25: =連結実質赤字比率に係る赤字・黒字の構成分析!G$33 -> R03 | F25: =連結実質赤字比率に係る赤字・黒字の構成分析!H$33 -> R04 | H25: =連結実質赤字比率に係る赤字・黒字の構成分析!I$33 -> R05 | J25: =連結実質赤字比率に係る赤字・黒字の構成分析!J$33 -> R06
B26: 赤字額 | C26: 黒字額 | D26: 赤字額 | E26: 黒字額 | F26: 赤字額 | G26: 黒字額 | H26: 赤字額 | I26: 黒字額 | J26: 赤字額 | K26: 黒字額
A27: =IF(連結実質赤字比率に係る赤字・黒字の構成分析!C$43="",NA(),連結実質赤字比率に係る赤字・黒字の構成分析!C$43) -> その他会計（黒字） | B27: =IF(ROUND(VALUE(SUBSTITUTE(連結実質赤字比率に係る赤字・黒字の構成分析!F$43,"▲","-")),2)<0,ABS(ROUND(VALUE(SUBSTITUTE(連結実質赤字比率に係る赤字・黒字の構成分析!F$43,"▲","-")),2)),NA()) -> #N/A | C27: =IF(ROUND(VALUE(SUBSTITUTE(連結実質赤字比率に係る赤字・黒字の構成分析!F$43,"▲","-")),2)>=0,ABS(ROUND(VALUE(SUBSTITUTE(連結実質赤字比率に係る赤字・黒字の構成分析!F$43,"▲","-")),2)),NA()) -> 0 | D27: =IF(ROUND(VALUE(SUBSTITUTE(連結実質赤字比率に係る赤字・黒字の構成分析!G$43,"▲","-")),2)<0,ABS(ROUND(VALUE(SUBSTITUTE(連結実質赤字比率に係る赤字・黒字の構成分析!G$43,"▲","-")),2)),NA()) -> #N/A | E27: =IF(ROUND(VALUE(SUBSTITUTE(連結実質赤字比率に係る赤字・黒字の構成分析!G$43,"▲","-")),2)>=0,ABS(ROUND(VALUE(SUBSTITUTE(連結実質赤字比率に係る赤字・黒字の構成分析!G$43,"▲","-")),2)),NA()) -> 0 | F27: =IF(ROUND(VALUE(SUBSTITUTE(連結実質赤字比率に係る赤字・黒字の構成分析!H$43,"▲","-")),2)<0,ABS(ROUND(VALUE(SUBSTITUTE(連結実質赤字比率に係る赤字・黒字の構成分析!H$43,"▲","-")),2)),NA()) -> #VALUE! | G27: =IF(ROUND(VALUE(SUBSTITUTE(連結実質赤字比率に係る赤字・黒字の構成分析!H$43,"▲","-")),2)>=0,ABS(ROUND(VALUE(SUBSTITUTE(連結実質赤字比率に係る赤字・黒字の構成分析!H$43,"▲","-")),2)),NA()) -> #VALUE! | H27: =IF(ROUND(VALUE(SUBSTITUTE(連結実質赤字比率に係る赤字・黒字の構成分析!I$43,"▲","-")),2)<0,ABS(ROUND(VALUE(SUBSTITUTE(連結実質赤字比率に係る赤字・黒字の構成分析!I$43,"▲","-")),2)),NA()) -> #VALUE! | I27: =IF(ROUND(VALUE(SUBSTITUTE(連結実質赤字比率に係る赤字・黒字の構成分析!I$43,"▲","-")),2)>=0,ABS(ROUND(VALUE(SUBSTITUTE(連結実質赤字比率に係る赤字・黒字の構成分析!I$43,"▲","-")),2)),NA()) -> #VALUE! | J27: =IF(ROUND(VALUE(SUBSTITUTE(連結実質赤字比率に係る赤字・黒字の構成分析!J$43,"▲","-")),2)<0,ABS(ROUND(VALUE(SUBSTITUTE(連結実質赤字比率に係る赤字・黒字の構成分析!J$43,"▲","-")),2)),NA()) -> #VALUE! | K27: =IF(ROUND(VALUE(SUBSTITUTE(連結実質赤字比率に係る赤字・黒字の構成分析!J$43,"▲","-")),2)>=0,ABS(ROUND(VALUE(SUBSTITUTE(連結実質赤字比率に係る赤字・黒字の構成分析!J$43,"▲","-")),2)),NA()) -> #VALUE!
A28: =IF(連結実質赤字比率に係る赤字・黒字の構成分析!C$42="",NA(),連結実質赤字比率に係る赤字・黒字の構成分析!C$42) -> その他会計（赤字） | B28: =IF(ROUND(VALUE(SUBSTITUTE(連結実質赤字比率に係る赤字・黒字の構成分析!F$42,"▲","-")),2)<0,ABS(ROUND(VALUE(SUBSTITUTE(連結実質赤字比率に係る赤字・黒字の構成分析!F$42,"▲","-")),2)),NA()) -> #VALUE! | C28: =IF(ROUND(VALUE(SUBSTITUTE(連結実質赤字比率に係る赤字・黒字の構成分析!F$42,"▲","-")),2)>=0,ABS(ROUND(VALUE(SUBSTITUTE(連結実質赤字比率に係る赤字・黒字の構成分析!F$42,"▲","-")),2)),NA()) -> #VALUE! | D28: =IF(ROUND(VALUE(SUBSTITUTE(連結実質赤字比率に係る赤字・黒字の構成分析!G$42,"▲","-")),2)<0,ABS(ROUND(VALUE(SUBSTITUTE(連結実質赤字比率に係る赤字・黒字の構成分析!G$42,"▲","-")),2)),NA()) -> #VALUE! | E28: =IF(ROUND(VALUE(SUBSTITUTE(連結実質赤字比率に係る赤字・黒字の構成分析!G$42,"▲","-")),2)>=0,ABS(ROUND(VALUE(SUBSTITUTE(連結実質赤字比率に係る赤字・黒字の構成分析!G$42,"▲","-")),2)),NA()) -> #VALUE! | F28: =IF(ROUND(VALUE(SUBSTITUTE(連結実質赤字比率に係る赤字・黒字の構成分析!H$42,"▲","-")),2)<0,ABS(ROUND(VALUE(SUBSTITUTE(連結実質赤字比率に係る赤字・黒字の構成分析!H$42,"▲","-")),2)),NA()) -> #VALUE! | G28: =IF(ROUND(VALUE(SUBSTITUTE(連結実質赤字比率に係る赤字・黒字の構成分析!H$42,"▲","-")),2)>=0,ABS(ROUND(VALUE(SUBSTITUTE(連結実質赤字比率に係る赤字・黒字の構成分析!H$42,"▲","-")),2)),NA()) -> #VALUE! | H28: =IF(ROUND(VALUE(SUBSTITUTE(連結実質赤字比率に係る赤字・黒字の構成分析!I$42,"▲","-")),2)<0,ABS(ROUND(VALUE(SUBSTITUTE(連結実質赤字比率に係る赤字・黒字の構成分析!I$42,"▲","-")),2)),NA()) -> #VALUE! | I28: =IF(ROUND(VALUE(SUBSTITUTE(連結実質赤字比率に係る赤字・黒字の構成分析!I$42,"▲","-")),2)>=0,ABS(ROUND(VALUE(SUBSTITUTE(連結実質赤字比率に係る赤字・黒字の構成分析!I$42,"▲","-")),2)),NA()) -> #VALUE! | J28: =IF(ROUND(VALUE(SUBSTITUTE(連結実質赤字比率に係る赤字・黒字の構成分析!J$42,"▲","-")),2)<0,ABS(ROUND(VALUE(SUBSTITUTE(連結実質赤字比率に係る赤字・黒字の構成分析!J$42,"▲","-")),2)),NA()) -> #VALUE! | K28: =IF(ROUND(VALUE(SUBSTITUTE(連結実質赤字比率に係る赤字・黒字の構成分析!J$42,"▲","-")),2)>=0,ABS(ROUND(VALUE(SUBSTITUTE(連結実質赤字比率に係る赤字・黒字の構成分析!J$42,"▲","-")),2)),NA()) -> #VALUE!
A29: =IF(連結実質赤字比率に係る赤字・黒字の構成分析!C$41="",NA(),連結実質赤字比率に係る赤字・黒字の構成分析!C$41) -> 用地先行取得事業特別会計 | B29: =IF(ROUND(VALUE(SUBSTITUTE(連結実質赤字比率に係る赤字・黒字の構成分析!F$41,"▲","-")),2)<0,ABS(ROUND(VALUE(SUBSTITUTE(連結実質赤字比率に係る赤字・黒字の構成分析!F$41,"▲","-")),2)),NA()) -> #N/A | C29: =IF(ROUND(VALUE(SUBSTITUTE(連結実質赤字比率に係る赤字・黒字の構成分析!F$41,"▲","-")),2)>=0,ABS(ROUND(VALUE(SUBSTITUTE(連結実質赤字比率に係る赤字・黒字の構成分析!F$41,"▲","-")),2)),NA()) -> 0 | D29: =IF(ROUND(VALUE(SUBSTITUTE(連結実質赤字比率に係る赤字・黒字の構成分析!G$41,"▲","-")),2)<0,ABS(ROUND(VALUE(SUBSTITUTE(連結実質赤字比率に係る赤字・黒字の構成分析!G$41,"▲","-")),2)),NA()) -> #N/A | E29: =IF(ROUND(VALUE(SUBSTITUTE(連結実質赤字比率に係る赤字・黒字の構成分析!G$41,"▲","-")),2)>=0,ABS(ROUND(VALUE(SUBSTITUTE(連結実質赤字比率に係る赤字・黒字の構成分析!G$41,"▲","-")),2)),NA()) -> 0 | F29: =IF(ROUND(VALUE(SUBSTITUTE(連結実質赤字比率に係る赤字・黒字の構成分析!H$41,"▲","-")),2)<0,ABS(ROUND(VALUE(SUBSTITUTE(連結実質赤字比率に係る赤字・黒字の構成分析!H$41,"▲","-")),2)),NA()) -> #N/A | G29: =IF(ROUND(VALUE(SUBSTITUTE(連結実質赤字比率に係る赤字・黒字の構成分析!H$41,"▲","-")),2)>=0,ABS(ROUND(VALUE(SUBSTITUTE(連結実質赤字比率に係る赤字・黒字の構成分析!H$41,"▲","-")),2)),NA()) -> 0 | H29: =IF(ROUND(VALUE(SUBSTITUTE(連結実質赤字比率に係る赤字・黒字の構成分析!I$41,"▲","-")),2)<0,ABS(ROUND(VALUE(SUBSTITUTE(連結実質赤字比率に係る赤字・黒字の構成分析!I$41,"▲","-")),2)),NA()) -> #N/A | I29: =IF(ROUND(VALUE(SUBSTITUTE(連結実質赤字比率に係る赤字・黒字の構成分析!I$41,"▲","-")),2)>=0,ABS(ROUND(VALUE(SUBSTITUTE(連結実質赤字比率に係る赤字・黒字の構成分析!I$41,"▲","-")),2)),NA()) -> 0 | J29: =IF(ROUND(VALUE(SUBSTITUTE(連結実質赤字比率に係る赤字・黒字の構成分析!J$41,"▲","-")),2)<0,ABS(ROUND(VALUE(SUBSTITUTE(連結実質赤字比率に係る赤字・黒字の構成分析!J$41,"▲","-")),2)),NA()) -> #N/A | K29: =IF(ROUND(VALUE(SUBSTITUTE(連結実質赤字比率に係る赤字・黒字の構成分析!J$41,"▲","-")),2)>=0,ABS(ROUND(VALUE(SUBSTITUTE(連結実質赤字比率に係る赤字・黒字の構成分析!J$41,"▲","-")),2)),NA()) -> 0
A30: =IF(連結実質赤字比率に係る赤字・黒字の構成分析!C$40="",NA(),連結実質赤字比率に係る赤字・黒字の構成分析!C$40) -> 国民健康保険事業特別会計 | B30: =IF(ROUND(VALUE(SUBSTITUTE(連結実質赤字比率に係る赤字・黒字の構成分析!F$40,"▲","-")),2)<0,ABS(ROUND(VALUE(SUBSTITUTE(連結実質赤字比率に係る赤字・黒字の構成分析!F$40,"▲","-")),2)),NA()) -> #N/A | C30: =IF(ROUND(VALUE(SUBSTITUTE(連結実質赤字比率に係る赤字・黒字の構成分析!F$40,"▲","-")),2)>=0,ABS(ROUND(VALUE(SUBSTITUTE(連結実質赤字比率に係る赤字・黒字の構成分析!F$40,"▲","-")),2)),NA()) -> 0.14 | D30: =IF(ROUND(VALUE(SUBSTITUTE(連結実質赤字比率に係る赤字・黒字の構成分析!G$40,"▲","-")),2)<0,ABS(ROUND(VALUE(SUBSTITUTE(連結実質赤字比率に係る赤字・黒字の構成分析!G$40,"▲","-")),2)),NA()) -> #N/A | E30: =IF(ROUND(VALUE(SUBSTITUTE(連結実質赤字比率に係る赤字・黒字の構成分析!G$40,"▲","-")),2)>=0,ABS(ROUND(VALUE(SUBSTITUTE(連結実質赤字比率に係る赤字・黒字の構成分析!G$40,"▲","-")),2)),NA()) -> 0.27 | F30: =IF(ROUND(VALUE(SUBSTITUTE(連結実質赤字比率に係る赤字・黒字の構成分析!H$40,"▲","-")),2)<0,ABS(ROUND(VALUE(SUBSTITUTE(連結実質赤字比率に係る赤字・黒字の構成分析!H$40,"▲","-")),2)),NA()) -> #N/A | G30: =IF(ROUND(VALUE(SUBSTITUTE(連結実質赤字比率に係る赤字・黒字の構成分析!H$40,"▲","-")),2)>=0,ABS(ROUND(VALUE(SUBSTITUTE(連結実質赤字比率に係る赤字・黒字の構成分析!H$40,"▲","-")),2)),NA()) -> 0.5 | H30: =IF(ROUND(VALUE(SUBSTITUTE(連結実質赤字比率に係る赤字・黒字の構成分析!I$40,"▲","-")),2)<0,ABS(ROUND(VALUE(SUBSTITUTE(連結実質赤字比率に係る赤字・黒字の構成分析!I$40,"▲","-")),2)),NA()) -> #N/A | I30: =IF(ROUND(VALUE(SUBSTITUTE(連結実質赤字比率に係る赤字・黒字の構成分析!I$40,"▲","-")),2)>=0,ABS(ROUND(VALUE(SUBSTITUTE(連結実質赤字比率に係る赤字・黒字の構成分析!I$40,"▲","-")),2)),NA()) -> 0.28 | J30: =IF(ROUND(VALUE(SUBSTITUTE(連結実質赤字比率に係る赤字・黒字の構成分析!J$40,"▲","-")),2)<0,ABS(ROUND(VALUE(SUBSTITUTE(連結実質赤字比率に係る赤字・黒字の構成分析!J$40,"▲","-")),2)),NA()) -> #N/A | K30: =IF(ROUND(VALUE(SUBSTITUTE(連結実質赤字比率に係る赤字・黒字の構成分析!J$40,"▲","-")),2)>=0,ABS(ROUND(VALUE(SUBSTITUTE(連結実質赤字比率に係る赤字・黒字の構成分析!J$40,"▲","-")),2)),NA()) -> 0.26
A31: =IF(連結実質赤字比率に係る赤字・黒字の構成分析!C$39="",NA(),連結実質赤字比率に係る赤字・黒字の構成分析!C$39) -> 後期高齢者医療事業特別会計 | B31: =IF(ROUND(VALUE(SUBSTITUTE(連結実質赤字比率に係る赤字・黒字の構成分析!F$39,"▲","-")),2)<0,ABS(ROUND(VALUE(SUBSTITUTE(連結実質赤字比率に係る赤字・黒字の構成分析!F$39,"▲","-")),2)),NA()) -> #N/A | C31: =IF(ROUND(VALUE(SUBSTITUTE(連結実質赤字比率に係る赤字・黒字の構成分析!F$39,"▲","-")),2)>=0,ABS(ROUND(VALUE(SUBSTITUTE(連結実質赤字比率に係る赤字・黒字の構成分析!F$39,"▲","-")),2)),NA()) -> 0.29 | D31: =IF(ROUND(VALUE(SUBSTITUTE(連結実質赤字比率に係る赤字・黒字の構成分析!G$39,"▲","-")),2)<0,ABS(ROUND(VALUE(SUBSTITUTE(連結実質赤字比率に係る赤字・黒字の構成分析!G$39,"▲","-")),2)),NA()) -> #N/A | E31: =IF(ROUND(VALUE(SUBSTITUTE(連結実質赤字比率に係る赤字・黒字の構成分析!G$39,"▲","-")),2)>=0,ABS(ROUND(VALUE(SUBSTITUTE(連結実質赤字比率に係る赤字・黒字の構成分析!G$39,"▲","-")),2)),NA()) -> 0.29 | F31: =IF(ROUND(VALUE(SUBSTITUTE(連結実質赤字比率に係る赤字・黒字の構成分析!H$39,"▲","-")),2)<0,ABS(ROUND(VALUE(SUBSTITUTE(連結実質赤字比率に係る赤字・黒字の構成分析!H$39,"▲","-")),2)),NA()) -> #N/A | G31: =IF(ROUND(VALUE(SUBSTITUTE(連結実質赤字比率に係る赤字・黒字の構成分析!H$39,"▲","-")),2)>=0,ABS(ROUND(VALUE(SUBSTITUTE(連結実質赤字比率に係る赤字・黒字の構成分析!H$39,"▲","-")),2)),NA()) -> 0.29 | H31: =IF(ROUND(VALUE(SUBSTITUTE(連結実質赤字比率に係る赤字・黒字の構成分析!I$39,"▲","-")),2)<0,ABS(ROUND(VALUE(SUBSTITUTE(連結実質赤字比率に係る赤字・黒字の構成分析!I$39,"▲","-")),2)),NA()) -> #N/A | I31: =IF(ROUND(VALUE(SUBSTITUTE(連結実質赤字比率に係る赤字・黒字の構成分析!I$39,"▲","-")),2)>=0,ABS(ROUND(VALUE(SUBSTITUTE(連結実質赤字比率に係る赤字・黒字の構成分析!I$39,"▲","-")),2)),NA()) -> 0.31 | J31: =IF(ROUND(VALUE(SUBSTITUTE(連結実質赤字比率に係る赤字・黒字の構成分析!J$39,"▲","-")),2)<0,ABS(ROUND(VALUE(SUBSTITUTE(連結実質赤字比率に係る赤字・黒字の構成分析!J$39,"▲","-")),2)),NA()) -> #N/A | K31: =IF(ROUND(VALUE(SUBSTITUTE(連結実質赤字比率に係る赤字・黒字の構成分析!J$39,"▲","-")),2)>=0,ABS(ROUND(VALUE(SUBSTITUTE(連結実質赤字比率に係る赤字・黒字の構成分析!J$39,"▲","-")),2)),NA()) -> 0.38
A32: =IF(連結実質赤字比率に係る赤字・黒字の構成分析!C$38="",NA(),連結実質赤字比率に係る赤字・黒字の構成分析!C$38) -> 介護保険事業特別会計 | B32: =IF(ROUND(VALUE(SUBSTITUTE(連結実質赤字比率に係る赤字・黒字の構成分析!F$38,"▲","-")),2)<0,ABS(ROUND(VALUE(SUBSTITUTE(連結実質赤字比率に係る赤字・黒字の構成分析!F$38,"▲","-")),2)),NA()) -> #N/A | C32: =IF(ROUND(VALUE(SUBSTITUTE(連結実質赤字比率に係る赤字・黒字の構成分析!F$38,"▲","-")),2)>=0,ABS(ROUND(VALUE(SUBSTITUTE(連結実質赤字比率に係る赤字・黒字の構成分析!F$38,"▲","-")),2)),NA()) -> 0.81 | D32: =IF(ROUND(VALUE(SUBSTITUTE(連結実質赤字比率に係る赤字・黒字の構成分析!G$38,"▲","-")),2)<0,ABS(ROUND(VALUE(SUBSTITUTE(連結実質赤字比率に係る赤字・黒字の構成分析!G$38,"▲","-")),2)),NA()) -> #N/A | E32: =IF(ROUND(VALUE(SUBSTITUTE(連結実質赤字比率に係る赤字・黒字の構成分析!G$38,"▲","-")),2)>=0,ABS(ROUND(VALUE(SUBSTITUTE(連結実質赤字比率に係る赤字・黒字の構成分析!G$38,"▲","-")),2)),NA()) -> 0.94 | F32: =IF(ROUND(VALUE(SUBSTITUTE(連結実質赤字比率に係る赤字・黒字の構成分析!H$38,"▲","-")),2)<0,ABS(ROUND(VALUE(SUBSTITUTE(連結実質赤字比率に係る赤字・黒字の構成分析!H$38,"▲","-")),2)),NA()) -> #N/A | G32: =IF(ROUND(VALUE(SUBSTITUTE(連結実質赤字比率に係る赤字・黒字の構成分析!H$38,"▲","-")),2)>=0,ABS(ROUND(VALUE(SUBSTITUTE(連結実質赤字比率に係る赤字・黒字の構成分析!H$38,"▲","-")),2)),NA()) -> 0.5 | H32: =IF(ROUND(VALUE(SUBSTITUTE(連結実質赤字比率に係る赤字・黒字の構成分析!I$38,"▲","-")),2)<0,ABS(ROUND(VALUE(SUBSTITUTE(連結実質赤字比率に係る赤字・黒字の構成分析!I$38,"▲","-")),2)),NA()) -> #N/A | I32: =IF(ROUND(VALUE(SUBSTITUTE(連結実質赤字比率に係る赤字・黒字の構成分析!I$38,"▲","-")),2)>=0,ABS(ROUND(VALUE(SUBSTITUTE(連結実質赤字比率に係る赤字・黒字の構成分析!I$38,"▲","-")),2)),NA()) -> 0.23 | J32: =IF(ROUND(VALUE(SUBSTITUTE(連結実質赤字比率に係る赤字・黒字の構成分析!J$38,"▲","-")),2)<0,ABS(ROUND(VALUE(SUBSTITUTE(連結実質赤字比率に係る赤字・黒字の構成分析!J$38,"▲","-")),2)),NA()) -> #N/A | K32: =IF(ROUND(VALUE(SUBSTITUTE(連結実質赤字比率に係る赤字・黒字の構成分析!J$38,"▲","-")),2)>=0,ABS(ROUND(VALUE(SUBSTITUTE(連結実質赤字比率に係る赤字・黒字の構成分析!J$38,"▲","-")),2)),NA()) -> 0.71
A33: =IF(連結実質赤字比率に係る赤字・黒字の構成分析!C$37="",NA(),連結実質赤字比率に係る赤字・黒字の構成分析!C$37) -> 一般会計 | B33: =IF(ROUND(VALUE(SUBSTITUTE(連結実質赤字比率に係る赤字・黒字の構成分析!F$37,"▲","-")),2)<0,ABS(ROUND(VALUE(SUBSTITUTE(連結実質赤字比率に係る赤字・黒字の構成分析!F$37,"▲","-")),2)),NA()) -> #N/A | C33: =IF(ROUND(VALUE(SUBSTITUTE(連結実質赤字比率に係る赤字・黒字の構成分析!F$37,"▲","-")),2)>=0,ABS(ROUND(VALUE(SUBSTITUTE(連結実質赤字比率に係る赤字・黒字の構成分析!F$37,"▲","-")),2)),NA()) -> 2.37 | D33: =IF(ROUND(VALUE(SUBSTITUTE(連結実質赤字比率に係る赤字・黒字の構成分析!G$37,"▲","-")),2)<0,ABS(ROUND(VALUE(SUBSTITUTE(連結実質赤字比率に係る赤字・黒字の構成分析!G$37,"▲","-")),2)),NA()) -> #N/A | E33: =IF(ROUND(VALUE(SUBSTITUTE(連結実質赤字比率に係る赤字・黒字の構成分析!G$37,"▲","-")),2)>=0,ABS(ROUND(VALUE(SUBSTITUTE(連結実質赤字比率に係る赤字・黒字の構成分析!G$37,"▲","-")),2)),NA()) -> 4.08 | F33: =IF(ROUND(VALUE(SUBSTITUTE(連結実質赤字比率に係る赤字・黒字の構成分析!H$37,"▲","-")),2)<0,ABS(ROUND(VALUE(SUBSTITUTE(連結実質赤字比率に係る赤字・黒字の構成分析!H$37,"▲","-")),2)),NA()) -> #N/A | G33: =IF(ROUND(VALUE(SUBSTITUTE(連結実質赤字比率に係る赤字・黒字の構成分析!H$37,"▲","-")),2)>=0,ABS(ROUND(VALUE(SUBSTITUTE(連結実質赤字比率に係る赤字・黒字の構成分析!H$37,"▲","-")),2)),NA()) -> 1.62 | H33: =IF(ROUND(VALUE(SUBSTITUTE(連結実質赤字比率に係る赤字・黒字の構成分析!I$37,"▲","-")),2)<0,ABS(ROUND(VALUE(SUBSTITUTE(連結実質赤字比率に係る赤字・黒字の構成分析!I$37,"▲","-")),2)),NA()) -> #N/A | I33: =IF(ROUND(VALUE(SUBSTITUTE(連結実質赤字比率に係る赤字・黒字の構成分析!I$37,"▲","-")),2)>=0,ABS(ROUND(VALUE(SUBSTITUTE(連結実質赤字比率に係る赤字・黒字の構成分析!I$37,"▲","-")),2)),NA()) -> 0.95 | J33: =IF(ROUND(VALUE(SUBSTITUTE(連結実質赤字比率に係る赤字・黒字の構成分析!J$37,"▲","-")),2)<0,ABS(ROUND(VALUE(SUBSTITUTE(連結実質赤字比率に係る赤字・黒字の構成分析!J$37,"▲","-")),2)),NA()) -> #N/A | K33: =IF(ROUND(VALUE(SUBSTITUTE(連結実質赤字比率に係る赤字・黒字の構成分析!J$37,"▲","-")),2)>=0,ABS(ROUND(VALUE(SUBSTITUTE(連結実質赤字比率に係る赤字・黒字の構成分析!J$37,"▲","-")),2)),NA()) -> 1.08
A34: =IF(連結実質赤字比率に係る赤字・黒字の構成分析!C$36="",NA(),連結実質赤字比率に係る赤字・黒字の構成分析!C$36) -> 病院事業会計 | B34: =IF(ROUND(VALUE(SUBSTITUTE(連結実質赤字比率に係る赤字・黒字の構成分析!F$36,"▲","-")),2)<0,ABS(ROUND(VALUE(SUBSTITUTE(連結実質赤字比率に係る赤字・黒字の構成分析!F$36,"▲","-")),2)),NA()) -> 0.99 | C34: =IF(ROUND(VALUE(SUBSTITUTE(連結実質赤字比率に係る赤字・黒字の構成分析!F$36,"▲","-")),2)>=0,ABS(ROUND(VALUE(SUBSTITUTE(連結実質赤字比率に係る赤字・黒字の構成分析!F$36,"▲","-")),2)),NA()) -> #N/A | D34: =IF(ROUND(VALUE(SUBSTITUTE(連結実質赤字比率に係る赤字・黒字の構成分析!G$36,"▲","-")),2)<0,ABS(ROUND(VALUE(SUBSTITUTE(連結実質赤字比率に係る赤字・黒字の構成分析!G$36,"▲","-")),2)),NA()) -> 0.38 | E34: =IF(ROUND(VALUE(SUBSTITUTE(連結実質赤字比率に係る赤字・黒字の構成分析!G$36,"▲","-")),2)>=0,ABS(ROUND(VALUE(SUBSTITUTE(連結実質赤字比率に係る赤字・黒字の構成分析!G$36,"▲","-")),2)),NA()) -> #N/A | F34: =IF(ROUND(VALUE(SUBSTITUTE(連結実質赤字比率に係る赤字・黒字の構成分析!H$36,"▲","-")),2)<0,ABS(ROUND(VALUE(SUBSTITUTE(連結実質赤字比率に係る赤字・黒字の構成分析!H$36,"▲","-")),2)),NA()) -> #N/A | G34: =IF(ROUND(VALUE(SUBSTITUTE(連結実質赤字比率に係る赤字・黒字の構成分析!H$36,"▲","-")),2)>=0,ABS(ROUND(VALUE(SUBSTITUTE(連結実質赤字比率に係る赤字・黒字の構成分析!H$36,"▲","-")),2)),NA()) -> 5.15 | H34: =IF(ROUND(VALUE(SUBSTITUTE(連結実質赤字比率に係る赤字・黒字の構成分析!I$36,"▲","-")),2)<0,ABS(ROUND(VALUE(SUBSTITUTE(連結実質赤字比率に係る赤字・黒字の構成分析!I$36,"▲","-")),2)),NA()) -> #N/A | I34: =IF(ROUND(VALUE(SUBSTITUTE(連結実質赤字比率に係る赤字・黒字の構成分析!I$36,"▲","-")),2)>=0,ABS(ROUND(VALUE(SUBSTITUTE(連結実質赤字比率に係る赤字・黒字の構成分析!I$36,"▲","-")),2)),NA()) -> 0.26 | J34: =IF(ROUND(VALUE(SUBSTITUTE(連結実質赤字比率に係る赤字・黒字の構成分析!J$36,"▲","-")),2)<0,ABS(ROUND(VALUE(SUBSTITUTE(連結実質赤字比率に係る赤字・黒字の構成分析!J$36,"▲","-")),2)),NA()) -> #N/A | K34: =IF(ROUND(VALUE(SUBSTITUTE(連結実質赤字比率に係る赤字・黒字の構成分析!J$36,"▲","-")),2)>=0,ABS(ROUND(VALUE(SUBSTITUTE(連結実質赤字比率に係る赤字・黒字の構成分析!J$36,"▲","-")),2)),NA()) -> 1.43
A35: =IF(連結実質赤字比率に係る赤字・黒字の構成分析!C$35="",NA(),連結実質赤字比率に係る赤字・黒字の構成分析!C$35) -> 下水道事業会計 | B35: =IF(ROUND(VALUE(SUBSTITUTE(連結実質赤字比率に係る赤字・黒字の構成分析!F$35,"▲","-")),2)<0,ABS(ROUND(VALUE(SUBSTITUTE(連結実質赤字比率に係る赤字・黒字の構成分析!F$35,"▲","-")),2)),NA()) -> #N/A | C35: =IF(ROUND(VALUE(SUBSTITUTE(連結実質赤字比率に係る赤字・黒字の構成分析!F$35,"▲","-")),2)>=0,ABS(ROUND(VALUE(SUBSTITUTE(連結実質赤字比率に係る赤字・黒字の構成分析!F$35,"▲","-")),2)),NA()) -> 7.7 | D35: =IF(ROUND(VALUE(SUBSTITUTE(連結実質赤字比率に係る赤字・黒字の構成分析!G$35,"▲","-")),2)<0,ABS(ROUND(VALUE(SUBSTITUTE(連結実質赤字比率に係る赤字・黒字の構成分析!G$35,"▲","-")),2)),NA()) -> #N/A | E35: =IF(ROUND(VALUE(SUBSTITUTE(連結実質赤字比率に係る赤字・黒字の構成分析!G$35,"▲","-")),2)>=0,ABS(ROUND(VALUE(SUBSTITUTE(連結実質赤字比率に係る赤字・黒字の構成分析!G$35,"▲","-")),2)),NA()) -> 7.31 | F35: =IF(ROUND(VALUE(SUBSTITUTE(連結実質赤字比率に係る赤字・黒字の構成分析!H$35,"▲","-")),2)<0,ABS(ROUND(VALUE(SUBSTITUTE(連結実質赤字比率に係る赤字・黒字の構成分析!H$35,"▲","-")),2)),NA()) -> #N/A | G35: =IF(ROUND(VALUE(SUBSTITUTE(連結実質赤字比率に係る赤字・黒字の構成分析!H$35,"▲","-")),2)>=0,ABS(ROUND(VALUE(SUBSTITUTE(連結実質赤字比率に係る赤字・黒字の構成分析!H$35,"▲","-")),2)),NA()) -> 7.57 | H35: =IF(ROUND(VALUE(SUBSTITUTE(連結実質赤字比率に係る赤字・黒字の構成分析!I$35,"▲","-")),2)<0,ABS(ROUND(VALUE(SUBSTITUTE(連結実質赤字比率に係る赤字・黒字の構成分析!I$35,"▲","-")),2)),NA()) -> #N/A | I35: =IF(ROUND(VALUE(SUBSTITUTE(連結実質赤字比率に係る赤字・黒字の構成分析!I$35,"▲","-")),2)>=0,ABS(ROUND(VALUE(SUBSTITUTE(連結実質赤字比率に係る赤字・黒字の構成分析!I$35,"▲","-")),2)),NA()) -> 7.67 | J35: =IF(ROUND(VALUE(SUBSTITUTE(連結実質赤字比率に係る赤字・黒字の構成分析!J$35,"▲","-")),2)<0,ABS(ROUND(VALUE(SUBSTITUTE(連結実質赤字比率に係る赤字・黒字の構成分析!J$35,"▲","-")),2)),NA()) -> #N/A | K35: =IF(ROUND(VALUE(SUBSTITUTE(連結実質赤字比率に係る赤字・黒字の構成分析!J$35,"▲","-")),2)>=0,ABS(ROUND(VALUE(SUBSTITUTE(連結実質赤字比率に係る赤字・黒字の構成分析!J$35,"▲","-")),2)),NA()) -> 8.16
A36: =IF(連結実質赤字比率に係る赤字・黒字の構成分析!C$34="",NA(),連結実質赤字比率に係る赤字・黒字の構成分析!C$34) -> 水道事業会計 | B36: =IF(ROUND(VALUE(SUBSTITUTE(連結実質赤字比率に係る赤字・黒字の構成分析!F$34,"▲","-")),2)<0,ABS(ROUND(VALUE(SUBSTITUTE(連結実質赤字比率に係る赤字・黒字の構成分析!F$34,"▲","-")),2)),NA()) -> #N/A | C36: =IF(ROUND(VALUE(SUBSTITUTE(連結実質赤字比率に係る赤字・黒字の構成分析!F$34,"▲","-")),2)>=0,ABS(ROUND(VALUE(SUBSTITUTE(連結実質赤字比率に係る赤字・黒字の構成分析!F$34,"▲","-")),2)),NA()) -> 14.95 | D36: =IF(ROUND(VALUE(SUBSTITUTE(連結実質赤字比率に係る赤字・黒字の構成分析!G$34,"▲","-")),2)<0,ABS(ROUND(VALUE(SUBSTITUTE(連結実質赤字比率に係る赤字・黒字の構成分析!G$34,"▲","-")),2)),NA()) -> #N/A | E36: =IF(ROUND(VALUE(SUBSTITUTE(連結実質赤字比率に係る赤字・黒字の構成分析!G$34,"▲","-")),2)>=0,ABS(ROUND(VALUE(SUBSTITUTE(連結実質赤字比率に係る赤字・黒字の構成分析!G$34,"▲","-")),2)),NA()) -> 15.46 | F36: =IF(ROUND(VALUE(SUBSTITUTE(連結実質赤字比率に係る赤字・黒字の構成分析!H$34,"▲","-")),2)<0,ABS(ROUND(VALUE(SUBSTITUTE(連結実質赤字比率に係る赤字・黒字の構成分析!H$34,"▲","-")),2)),NA()) -> #N/A | G36: =IF(ROUND(VALUE(SUBSTITUTE(連結実質赤字比率に係る赤字・黒字の構成分析!H$34,"▲","-")),2)>=0,ABS(ROUND(VALUE(SUBSTITUTE(連結実質赤字比率に係る赤字・黒字の構成分析!H$34,"▲","-")),2)),NA()) -> 15.73 | H36: =IF(ROUND(VALUE(SUBSTITUTE(連結実質赤字比率に係る赤字・黒字の構成分析!I$34,"▲","-")),2)<0,ABS(ROUND(VALUE(SUBSTITUTE(連結実質赤字比率に係る赤字・黒字の構成分析!I$34,"▲","-")),2)),NA()) -> #N/A | I36: =IF(ROUND(VALUE(SUBSTITUTE(連結実質赤字比率に係る赤字・黒字の構成分析!I$34,"▲","-")),2)>=0,ABS(ROUND(VALUE(SUBSTITUTE(連結実質赤字比率に係る赤字・黒字の構成分析!I$34,"▲","-")),2)),NA()) -> 14.91 | J36: =IF(ROUND(VALUE(SUBSTITUTE(連結実質赤字比率に係る赤字・黒字の構成分析!J$34,"▲","-")),2)<0,ABS(ROUND(VALUE(SUBSTITUTE(連結実質赤字比率に係る赤字・黒字の構成分析!J$34,"▲","-")),2)),NA()) -> #N/A | K36: =IF(ROUND(VALUE(SUBSTITUTE(連結実質赤字比率に係る赤字・黒字の構成分析!J$34,"▲","-")),2)>=0,ABS(ROUND(VALUE(SUBSTITUTE(連結実質赤字比率に係る赤字・黒字の構成分析!J$34,"▲","-")),2)),NA()) -> 14.41
A39: 実質公債費比率（分子）の構造
B40: ='実質公債費比率（分子）の構造'!K$44 -> R02 | E40: ='実質公債費比率（分子）の構造'!L$44 -> R03 | H40: ='実質公債費比率（分子）の構造'!M$44 -> R04 | K40: ='実質公債費比率（分子）の構造'!N$44 -> R05 | N40: ='実質公債費比率（分子）の構造'!O$44 -> R06
B41: 元利償還金等 | D41: 算入公債費等 | E41: 元利償還金等 | G41: 算入公債費等 | H41: 元利償還金等 | J41: 算入公債費等 | K41: 元利償還金等 | M41: 算入公債費等 | N41: 元利償還金等 | P41: 算入公債費等
A42: 算入公債費等 | D42: ='実質公債費比率（分子）の構造'!K$52 -> 6117 | G42: ='実質公債費比率（分子）の構造'!L$52 -> 6422 | J42: ='実質公債費比率（分子）の構造'!M$52 -> 6162 | M42: ='実質公債費比率（分子）の構造'!N$52 -> 5925 | P42: ='実質公債費比率（分子）の構造'!O$52 -> 6005
A43: 一時借入金の利子 | B43: ='実質公債費比率（分子）の構造'!K$51 -> 0 | E43: ='実質公債費比率（分子）の構造'!L$51 -> 1 | H43: ='実質公債費比率（分子）の構造'!M$51 -> 1 | K43: ='実質公債費比率（分子）の構造'!N$51 -> 1 | N43: ='実質公債費比率（分子）の構造'!O$51 -> -
A44: 債務負担行為に基づく支出額 | B44: ='実質公債費比率（分子）の構造'!K$50 -> 1056 | E44: ='実質公債費比率（分子）の構造'!L$50 -> 877 | H44: ='実質公債費比率（分子）の構造'!M$50 -> 878 | K44: ='実質公債費比率（分子）の構造'!N$50 -> 886 | N44: ='実質公債費比率（分子）の構造'!O$50 -> 883
A45: 組合等が起こした地方債の元利償還金に対する負担金等 | B45: ='実質公債費比率（分子）の構造'!K$49 -> 686 | E45: ='実質公債費比率（分子）の構造'!L$49 -> 634 | H45: ='実質公債費比率（分子）の構造'!M$49 -> 384 | K45: ='実質公債費比率（分子）の構造'!N$49 -> 130 | N45: ='実質公債費比率（分子）の構造'!O$49 -> -
A46: 公営企業債の元利償還金に対する繰入金 | B46: ='実質公債費比率（分子）の構造'!K$48 -> 870 | E46: ='実質公債費比率（分子）の構造'!L$48 -> 856 | H46: ='実質公債費比率（分子）の構造'!M$48 -> 1055 | K46: ='実質公債費比率（分子）の構造'!N$48 -> 1225 | N46: ='実質公債費比率（分子）の構造'!O$48 -> 1338
A47: 満期一括償還地方債に係る年度割相当額 | B47: ='実質公債費比率（分子）の構造'!K$47 -> 34 | E47: ='実質公債費比率（分子）の構造'!L$47 -> 28 | H47: ='実質公債費比率（分子）の構造'!M$47 -> 21 | K47: ='実質公債費比率（分子）の構造'!N$47 -> 21 | N47: ='実質公債費比率（分子）の構造'!O$47 -> 21
...
