Workbook

Sheet 総括表
B1: 令和6年度 財政状況資料集
B2: 総括表（市町村）
B3: 都道府県名 | L3: 兵庫県 | W3: 市町村類型 | AC3: Ⅰ－３ | AM3: 指定団体等の指定状況 | AY3: 区分 | BN3: 令和6年度(千円) | BV3: 令和5年度(千円) | CD3: 区分 | CT3: 令和6年度(千円･％) | DB3: 令和5年度(千円･％)
AY4: 歳入総額 | BN4: 14864682 | BV4: 14822691 | CD4: 実質収支比率 | CT4: 4.8 | DB4: 4.8
AM5: 財政健全化等 | AU5: × | AY5: 歳出総額 | BN5: 14247981 | BV5: 14343769 | CD5: 経常収支比率 | CT5: 93.9 | DB5: 98.9
B6: 市町村名 | L6: 相生市 | W6: 地方交付税種地 | AC6: 1-2 | AM6: 財源超過 | AU6: × | AY6: 歳入歳出差引 | BN6: 616701 | BV6: 478922 | CD6: (※1) | CT6: 94.2 | DB6: 99.7
AM7: 首都 | AU7: × | AY7: 翌年度に繰越すべき財源 | BN7: 199893 | BV7: 71273 | CD7: 標準財政規模 | CT7: 8647404 | DB7: 8495964
AM8: 近畿 | AU8: ○ | AY8: 実質収支 | BN8: 416808 | BV8: 407649 | CD8: 財政力指数 | CT8: 0.53 | DB8: 0.52
B9: 人口 | L9: 令和2年国調(人) | R9: 28355 | W9: 産業構造 (※5) | AM9: 中部 | AU9: × | AY9: 単年度収支 | BN9: 9159 | BV9: -21960 | CD9: 公債費負担比率 | CT9: 11.1 | DB9: 11.5
L10: 平成27年国調(人) | R10: 30129 | AM10: 過疎 | AU10: × | AY10: 積立金 | BN10: 333220 | BV10: 334921 | CD10: 健全化判断比率
L11: 増減率 (％) | R11: -5.9 | AM11: 山振 | AU11: × | AY11: 繰上償還金 | BN11: 0 | BV11: 0 | CD11: 実質赤字比率 | CT11: - | DB11: -
B12: 住民基本台帳人口 (※7) | L12: 令07.01.01(人) | R12: 27058 | W12: 区分 | AC12: 令和2年国調 | AH12: 平成27年国調 | AM12: 低開発 | AU12: × | AY12: 積立金取崩し額 | BN12: 20729 | BV12: 685343 | CD12: 連結実質赤字比率 | CT12: - | DB12: -
M13: うち日本人(人) | R13: 26430 | W13: 第1次 | AC13: 293 | AH13: 272 | AM13: 指数表選定 | AU13: ○ | AY13: 実質単年度収支 | BN13: 321650 | BV13: -372382 | CD13: 実質公債費比率 | CT13: 10 | DB13: 11.1
L14: 令06.01.01(人) | R14: 27468 | AC14: 2.4 | AH14: 2.1 | CD14: 将来負担比率 | CT14: 49.4 | DB14: 62.2
M15: うち日本人(人) | R15: 26915 | W15: 第2次 | AC15: 3839 | AH15: 4165 | AY15: 基準財政収入額 | BN15: 4217987 | BV15: 3864346 | CD15: 資金不足比率 (※4)
L16: 増減率 (％) | R16: -1.5 | AC16: 31.9 | AH16: 32.7 | AY16: 基準財政需要額 | BN16: 7485652 | BV16: 7393871
M17: うち日本人(％) | R17: -1.8 | W17: 第3次 | AC17: 7915 | AH17: 8289 | AY17: 標準税収入額等 | BN17: 5381204 | BV17: 4906148
B18: 面積 (k㎡) | L18: 90.4 | AC18: 65.7 | AH18: 65.1 | AY18: 経常経費充当一般財源等 | BN18: 8394052 | BV18: 8436706
B19: 人口密度 (人/k㎡) | L19: 314 | AY19: 歳入一般財源等 | BN19: 10818305 | BV19: 11065300
B20: 世帯数 (世帯) | L20: 11806
B21: 職員の状況 (※8)
B22: 特別職等 | E22: 区分 | L22: 定数 | Q22: 1人あたり平均 給料月額(百円) | W22: 一般職員等(※6) | Z22: 区分 | AH22: 職員数 (人) | AM22: 給料月額 (百円) | AS22: 1人あたり平均 給料月額(百円) | AY22: 地方債現在高 | BN22: 10111753 | BV22: 10490416
AY23: うち公的資金 | BN23: 8048123 | BV23: 8868906
E24: 市区町村長 | L24: 1 | Q24: 8200 | Z24: 一般職員 | AH24: 203 | AM24: 604534 | AS24: 2978 | AY24: 地方債現在高（臨時財政対策債除き） | BN24: 5242240 | BV24: 5140775
E25: 副市区町村長 | L25: 1 | Q25: 7180 | Z25: うち消防職員 | AH25: - | AM25: - | AS25: - | AY25: 債務負担行為額（支出予定額） | BN25: 554758 | BV25: 674502
E26: 教育長 | L26: 1 | Q26: 6370 | Z26: うち技能労務職員 | AH26: 35 | AM26: 84210 | AS26: 2406 | AY26: 収益事業収入 | BN26: - | BV26: -
E27: 議会議長 | L27: 1 | Q27: 4950 | Z27: 教育公務員 | AH27: 21 | AM27: 72760 | AS27: 3465 | AY27: 土地開発基金現在高 | BN27: - | BV27: -
E28: 議会副議長 | L28: 1 | Q28: 4240 | Z28: 臨時職員 | AH28: 1 | AM28: * | AS28: * | AY28: 積立金 現在高 | BC28: 財政調整基金 | BN28: 1734811 | BV28: 1422320
E29: 議会議員 | L29: 12 | Q29: 3860 | Z29: 合計 | AH29: 225 | AM29: 679055 | AS29: 3018 | BC29: 減債基金 | BN29: 4741 | BV29: 4729
W30: ラスパイレス指数 | AH30: 98.6 | BC30: その他特定目的基金 | BN30: 1413599 | BV30: 1346969
C32: 一般会計等の一覧 | U32: 事業会計の一覧 | AM32: 公営企業（法適）の一覧 | BE32: 公営企業（法非適）の一覧 | BW32: 関係する一部事務組合等一覧 | CO32: 地方公社・第三セクター等一覧
C33: 項番 | E33: 会計名 | U33: 項番 | W33: 会計名 | AM33: 項番 | AO33: 会計名 | BE33: 項番 | BG33: 会計名 | BW33: 項番 | BY33: 組合等名 | CO33: 項番 | CQ33: 団体名 | DG33: (※3)
C34: =IF(E34="","",1) -> 1 | E34: =IF('各会計、関係団体の財政状況及び健全化判断比率'!B7="","",'各会計、関係団体の財政状況及び健全化判断比率'!B7) -> 一般会計 | U34: =IF(W34="","",MAX(C34:D43)+1) -> 3 | W34: =IF('各会計、関係団体の財政状況及び健全化判断比率'!B28="","",'各会計、関係団体の財政状況及び健全化判断比率'!B28) -> 国民健康保険特別会計 | AM34: =IF(AO34="","",MAX(C34:D43,U34:V43)+1) -> 6 | AO34: =IF('各会計、関係団体の財政状況及び健全化判断比率'!B31="","",'各会計、関係団体の財政状況及び健全化判断比率'!B31) -> 病院事業会計 | BE34: =IF(BG34="","",MAX(C34:D43,U34:V43,AM34:AN43)+1) | BW34: =IF(BY34="","",MAX(C34:D43,U34:V43,AM34:AN43,BE34:BF43)+1) -> 8 | BY34: =IF('各会計、関係団体の財政状況及び健全化判断比率'!B68="","",'各会計、関係団体の財政状況及び健全化判断比率'!B68) -> 安室ダム水道用水供給企業団 | CO34: =IF(CQ34="","",MAX(C34:D43,U34:V43,AM34:AN43,BE34:BF43,BW34:BX43)+1) -> 13 | CQ34: =IF('各会計、関係団体の財政状況及び健全化判断比率'!BS7="","",'各会計、関係団体の財政状況及び健全化判断比率'!BS7) -> あいおいアクアポリス | DG34: =IF('各会計、関係団体の財政状況及び健全化判断比率'!BR7="","",'各会計、関係団体の財政状況及び健全化判断比率'!BR7)
C35: =IF(E35="","",C34+1) -> 2 | E35: =IF('各会計、関係団体の財政状況及び健全化判断比率'!B8="","",'各会計、関係団体の財政状況及び健全化判断比率'!B8) -> 看護専門学校特別会計 | U35: =IF(W35="","",U34+1) -> 4 | W35: =IF('各会計、関係団体の財政状況及び健全化判断比率'!B29="","",'各会計、関係団体の財政状況及び健全化判断比率'!B29) -> 介護保険特別会計 | AM35: =IF(AO35="","",AM34+1) -> 7 | AO35: =IF('各会計、関係団体の財政状況及び健全化判断比率'!B32="","",'各会計、関係団体の財政状況及び健全化判断比率'!B32) -> 下水道事業会計 | BE35: =IF(BG35="","",BE34+1) | BW35: =IF(BY35="","",BW34+1) -> 9 | BY35: =IF('各会計、関係団体の財政状況及び健全化判断比率'!B69="","",'各会計、関係団体の財政状況及び健全化判断比率'!B69) -> 西播磨水道企業団 | CO35: =IF(CQ35="","",CO34+1) | CQ35: =IF('各会計、関係団体の財政状況及び健全化判断比率'!BS8="","",'各会計、関係団体の財政状況及び健全化判断比率'!BS8) | DG35: =IF('各会計、関係団体の財政状況及び健全化判断比率'!BR8="","",'各会計、関係団体の財政状況及び健全化判断比率'!BR8)
C36: =IF(E36="","",C35+1) | E36: =IF('各会計、関係団体の財政状況及び健全化判断比率'!B9="","",'各会計、関係団体の財政状況及び健全化判断比率'!B9) | U36: =IF(W36="","",U35+1) -> 5 | W36: =IF('各会計、関係団体の財政状況及び健全化判断比率'!B30="","",'各会計、関係団体の財政状況及び健全化判断比率'!B30) -> 後期高齢者医療保険特別会計 | AM36: =IF(AO36="","",AM35+1) | BE36: =IF(BG36="","",BE35+1) | BW36: =IF(BY36="","",BW35+1) -> 10 | BY36: =IF('各会計、関係団体の財政状況及び健全化判断比率'!B70="","",'各会計、関係団体の財政状況及び健全化判断比率'!B70) -> 西はりま消防組合 | CO36: =IF(CQ36="","",CO35+1) | CQ36: =IF('各会計、関係団体の財政状況及び健全化判断比率'!BS9="","",'各会計、関係団体の財政状況及び健全化判断比率'!BS9) | DG36: =IF('各会計、関係団体の財政状況及び健全化判断比率'!BR9="","",'各会計、関係団体の財政状況及び健全化判断比率'!BR9)
C37: =IF(E37="","",C36+1) | E37: =IF('各会計、関係団体の財政状況及び健全化判断比率'!B10="","",'各会計、関係団体の財政状況及び健全化判断比率'!B10) | U37: =IF(W37="","",U36+1) | AM37: =IF(AO37="","",AM36+1) | BE37: =IF(BG37="","",BE36+1) | BW37: =IF(BY37="","",BW36+1) -> 11 | BY37: =IF('各会計、関係団体の財政状況及び健全化判断比率'!B71="","",'各会計、関係団体の財政状況及び健全化判断比率'!B71) -> 兵庫県後期高齢者医療広域連合（一般会計） | CO37: =IF(CQ37="","",CO36+1) | CQ37: =IF('各会計、関係団体の財政状況及び健全化判断比率'!BS10="","",'各会計、関係団体の財政状況及び健全化判断比率'!BS10) | DG37: =IF('各会計、関係団体の財政状況及び健全化判断比率'!BR10="","",'各会計、関係団体の財政状況及び健全化判断比率'!BR10)
C38: =IF(E38="","",C37+1) | E38: =IF('各会計、関係団体の財政状況及び健全化判断比率'!B11="","",'各会計、関係団体の財政状況及び健全化判断比率'!B11) | U38: =IF(W38="","",U37+1) | AM38: =IF(AO38="","",AM37+1) | BE38: =IF(BG38="","",BE37+1) | BW38: =IF(BY38="","",BW37+1) -> 12 | BY38: =IF('各会計、関係団体の財政状況及び健全化判断比率'!B72="","",'各会計、関係団体の財政状況及び健全化判断比率'!B72) -> 兵庫県後期高齢者医療広域連合（特別会計） | CO38: =IF(CQ38="","",CO37+1) | CQ38: =IF('各会計、関係団体の財政状況及び健全化判断比率'!BS11="","",'各会計、関係団体の財政状況及び健全化判断比率'!BS11) | DG38: =IF('各会計、関係団体の財政状況及び健全化判断比率'!BR11="","",'各会計、関係団体の財政状況及び健全化判断比率'!BR11)
C39: =IF(E39="","",C38+1) | E39: =IF('各会計、関係団体の財政状況及び健全化判断比率'!B12="","",'各会計、関係団体の財政状況及び健全化判断比率'!B12) | U39: =IF(W39="","",U38+1) | AM39: =IF(AO39="","",AM38+1) | BE39: =IF(BG39="","",BE38+1) | BW39: =IF(BY39="","",BW38+1) | BY39: =IF('各会計、関係団体の財政状況及び健全化判断比率'!B73="","",'各会計、関係団体の財政状況及び健全化判断比率'!B73) | CO39: =IF(CQ39="","",CO38+1) | CQ39: =IF('各会計、関係団体の財政状況及び健全化判断比率'!BS12="","",'各会計、関係団体の財政状況及び健全化判断比率'!BS12) | DG39: =IF('各会計、関係団体の財政状況及び健全化判断比率'!BR12="","",'各会計、関係団体の財政状況及び健全化判断比率'!BR12)
C40: =IF(E40="","",C39+1) | E40: =IF('各会計、関係団体の財政状況及び健全化判断比率'!B13="","",'各会計、関係団体の財政状況及び健全化判断比率'!B13) | U40: =IF(W40="","",U39+1) | AM40: =IF(AO40="","",AM39+1) | BE40: =IF(BG40="","",BE39+1) | BW40: =IF(BY40="","",BW39+1) | BY40: =IF('各会計、関係団体の財政状況及び健全化判断比率'!B74="","",'各会計、関係団体の財政状況及び健全化判断比率'!B74) | CO40: =IF(CQ40="","",CO39+1) | CQ40: =IF('各会計、関係団体の財政状況及び健全化判断比率'!BS13="","",'各会計、関係団体の財政状況及び健全化判断比率'!BS13) | DG40: =IF('各会計、関係団体の財政状況及び健全化判断比率'!BR13="","",'各会計、関係団体の財政状況及び健全化判断比率'!BR13)
C41: =IF(E41="","",C40+1) | E41: =IF('各会計、関係団体の財政状況及び健全化判断比率'!B14="","",'各会計、関係団体の財政状況及び健全化判断比率'!B14) | U41: =IF(W41="","",U40+1) | AM41: =IF(AO41="","",AM40+1) | BE41: =IF(BG41="","",BE40+1) | BW41: =IF(BY41="","",BW40+1) | BY41: =IF('各会計、関係団体の財政状況及び健全化判断比率'!B75="","",'各会計、関係団体の財政状況及び健全化判断比率'!B75) | CO41: =IF(CQ41="","",CO40+1) | CQ41: =IF('各会計、関係団体の財政状況及び健全化判断比率'!BS14="","",'各会計、関係団体の財政状況及び健全化判断比率'!BS14) | DG41: =IF('各会計、関係団体の財政状況及び健全化判断比率'!BR14="","",'各会計、関係団体の財政状況及び健全化判断比率'!BR14)
...

Sheet 普通会計の状況
DH1: 令和6年度 | DP1: 兵庫県相生市
B2: (1) 普通会計の状況（市町村）
B3: 歳入の状況（単位 千円・％） | AP3: 地方税の状況（単位 千円・％） | CD3: 歳出の状況（単位 千円・％）
B4: 区分 | R4: 決算額 | Z4: 構成比 | AD4: 経常一般財源等 | AL4: 構成比 | AP4: 区分 | BG4: 収入済額 | BO4: 構成比 | BS4: 超過課税分 | CD4: 目的別歳出の状況（単位 千円・％）
B5: 地方税 | R5: 4757464 | Z5: 32 | AD5: 4486318 | AL5: 50.3 | AP5: 普通税 | BG5: 4486318 | BO5: 94.3 | BS5: 56189 | CD5: 区分 | CR5: 決算額 (A) | CZ5: 構成比 | DD5: (A)のうち普通建設事業費 | DQ5: (A)のうち充当一般財源等
B6: 地方譲与税 | R6: 101887 | Z6: 0.7 | AD6: 101887 | AL6: 1.1 | AP6: 法定普通税 | BG6: 4486318 | BO6: 94.3 | BS6: 56189 | CD6: 議会費 | CR6: 156439 | CZ6: 1.1 | DD6: - | DQ6: 156439
B7: 利子割交付金 | R7: 2535 | Z7: 0 | AD7: 2535 | AL7: 0 | AP7: 市町村民税 | BG7: 1532333 | BO7: 32.2 | BS7: 56189 | CD7: 総務費 | CR7: 1827690 | CZ7: 12.8 | DD7: 13021 | DQ7: 1569668
B8: 配当割交付金 | R8: 45144 | Z8: 0.3 | AD8: 45144 | AL8: 0.5 | AP8: 個人均等割 | BG8: 40806 | BO8: 0.9 | BS8: - | CD8: 民生費 | CR8: 5341766 | CZ8: 37.5 | DD8: 20367 | DQ8: 2953304
B9: 株式等譲渡所得割交付金 | R9: 59397 | Z9: 0.4 | AD9: 59397 | AL9: 0.7 | AP9: 所得割 | BG9: 1162123 | BO9: 24.4 | BS9: - | CD9: 衛生費 | CR9: 1605759 | CZ9: 11.3 | DD9: 572414 | DQ9: 965924
B10: 分離課税所得割交付金 | R10: - | Z10: - | AD10: - | AL10: - | AP10: 法人均等割 | BG10: 76903 | BO10: 1.6 | BS10: - | CD10: 労働費 | CR10: 27069 | CZ10: 0.2 | DD10: - | DQ10: 18475
B11: 地方消費税交付金 | R11: 695326 | Z11: 4.7 | AD11: 695326 | AL11: 7.8 | AP11: 法人税割 | BG11: 252501 | BO11: 5.3 | BS11: 56189 | CD11: 農林水産業費 | CR11: 378063 | CZ11: 2.7 | DD11: 62073 | DQ11: 292572
B12: ゴルフ場利用税交付金 | R12: 15292 | Z12: 0.1 | AD12: 15292 | AL12: 0.2 | AP12: 固定資産税 | BG12: 2650803 | BO12: 55.7 | BS12: - | CD12: 商工費 | CR12: 122576 | CZ12: 0.9 | DD12: 26874 | DQ12: 82173
B13: 自動車取得税交付金 | R13: - | Z13: - | AD13: - | AL13: - | AP13: うち純固定資産税 | BG13: 2644222 | BO13: 55.6 | BS13: - | CD13: 土木費 | CR13: 1541796 | CZ13: 10.8 | DD13: 374243 | DQ13: 1236860
B14: 軽油引取税交付金 | R14: - | Z14: - | AD14: - | AL14: - | AP14: 軽自動車税 | BG14: 97018 | BO14: 2 | BS14: - | CD14: 消防費 | CR14: 528748 | CZ14: 3.7 | DD14: 74124 | DQ14: 454727
B15: 自動車税環境性能割交付金 | R15: 22057 | Z15: 0.1 | AD15: 22057 | AL15: 0.2 | AP15: 市町村たばこ税 | BG15: 206164 | BO15: 4.3 | BS15: - | CD15: 教育費 | CR15: 1499643 | CZ15: 10.5 | DD15: 195579 | DQ15: 1271309
B16: 法人事業税交付金 | R16: 64073 | Z16: 0.4 | AD16: 64073 | AL16: 0.7 | AP16: 鉱産税 | BG16: - | BO16: - | BS16: - | CD16: 災害復旧費 | CR16: 8091 | CZ16: 0.1 | DD16: - | DQ16: 3591
B17: 地方特例交付金等 | R17: 143340 | Z17: 1 | AD17: 143340 | AL17: 1.6 | AP17: 特別土地保有税 | BG17: - | BO17: - | BS17: - | CD17: 公債費 | CR17: 1210341 | CZ17: 8.5 | DD17: - | DQ17: 1196562
B18: 住宅借入金等特別税額控除減収補塡特例交付金 | R18: 23108 | Z18: 0.2 | AD18: 23108 | AL18: 0.3 | AP18: 法定外普通税 | BG18: - | BO18: - | BS18: - | CD18: 諸支出金 | CR18: - | CZ18: - | DD18: - | DQ18: -
B19: 定額減税減収補塡特例交付金 | R19: 114351 | Z19: 0.8 | AD19: 114351 | AL19: 1.3 | AP19: 目的税 | BG19: 271146 | BO19: 5.7 | BS19: - | CD19: 前年度繰上充用金 | CR19: - | CZ19: - | DD19: - | DQ19: -
B20: 新型コロナウイルス感染症対策地方税減収補塡特別交付金 | R20: 5881 | Z20: 0 | AD20: 5881 | AL20: 0.1 | AP20: 法定目的税 | BG20: 271146 | BO20: 5.7 | BS20: - | CD20: 歳出合計 | CR20: 14247981 | CZ20: 100 | DD20: 1338695 | DQ20: 10201604
B21: 地方交付税 | R21: 3637161 | Z21: 24.5 | AD21: 3239014 | AL21: 36.3 | AP21: 入湯税 | BG21: - | BO21: - | BS21: -
B22: 普通交付税 | R22: 3239014 | Z22: 21.8 | AD22: 3239014 | AL22: 36.3 | AP22: 事業所税 | BG22: - | BO22: - | BS22: - | CD22: 性質別歳出の状況（単位 千円・％）
B23: 特別交付税 | R23: 398147 | Z23: 2.7 | AD23: - | AL23: - | AP23: 都市計画税 | BG23: 271146 | BO23: 5.7 | BS23: - | CD23: 区分 | CR23: 決算額 | CZ23: 構成比 | DD23: 充当一般財源等 | DL23: 経常経費充当一般財源等 | DW23: 経常収支比率
B24: 震災復興特別交付税 | R24: - | Z24: - | AD24: - | AL24: - | AP24: 水利地益税等 | BG24: - | BO24: - | BS24: - | CD24: 義務的経費計 | CR24: 6887699 | CZ24: 48.3 | DD24: 4718676 | DL24: 4171642 | DW24: 46.7
B25: (一般財源計) | R25: 9543676 | Z25: 64.2 | AD25: 8874383 | AL25: 99.5 | AP25: 法定外目的税 | BG25: - | BO25: - | BS25: - | CD25: 人件費 | CR25: 2304564 | CZ25: 16.2 | DD25: 2148897 | DL25: 2070520 | DW25: 23.2
B26: 交通安全対策特別交付金 | R26: 3151 | Z26: 0 | AD26: 3151 | AL26: 0 | AP26: 旧法による税 | BG26: - | BO26: - | BS26: - | CD26: うち職員給 | CR26: 1315874 | CZ26: 9.2 | DD26: 1315874 | DL26: - | DW26: -
B27: 分担金・負担金 | R27: 45865 | Z27: 0.3 | AD27: - | AL27: - | AP27: 合計 | BG27: 4757464 | BO27: 100 | BS27: 56189 | CD27: 扶助費 | CR27: 3372794 | CZ27: 23.7 | DD27: 1373217 | DL27: 904560 | DW27: 10.1
B28: 使用料 | R28: 209446 | Z28: 1.4 | AD28: 37300 | AL28: 0.4 | CD28: 公債費 | CR28: 1210341 | CZ28: 8.5 | DD28: 1196562 | DL28: 1196562 | DW28: 13.4
B29: 手数料 | R29: 86937 | Z29: 0.6 | AD29: - | AL29: - | CD29: 内訳 | CF29: 元利償還金 | CR29: 1210341 | CZ29: 8.5 | DD29: 1196562 | DL29: 1196562 | DW29: 13.4
B30: 国庫支出金 | R30: 2285313 | Z30: 15.4 | AD30: - | AL30: - | AP30: 区分 | BG30: 令和6年度 | BR30: 令和5年度 | CF30: うち元金 | CR30: 1170949 | CZ30: 8.2 | DD30: 1157170 | DL30: 1157170 | DW30: 12.9
B31: 国有提供交付金(特別区財調交付金) | R31: - | Z31: - | AD31: - | AL31: - | AP31: 徴収率 (％) | AT31: 現年 | AX31: 合計 | BG31: 99.4 | BM31: 97.8 | BR31: 99.3 | BX31: 97.6 | CF31: うち利子 | CR31: 39392 | CZ31: 0.3 | DD31: 39392 | DL31: 39392 | DW31: 0.4
B32: 都道府県支出金 | R32: 935394 | Z32: 6.3 | AD32: - | AL32: - | AU32: ・計 | AX32: 市町村民税 | BG32: 99.3 | BM32: 97 | BR32: 99.3 | BX32: 96.9 | CF32: 一時借入金利子 | CR32: - | CZ32: - | DD32: - | DL32: - | DW32: -
B33: 財産収入 | R33: 38470 | Z33: 0.3 | AD33: - | AL33: - | AX33: 純固定資産税 | BG33: 99.4 | BM33: 98.2 | BR33: 99.3 | BX33: 97.9 | CD33: その他の経費 | CR33: 6013496 | CZ33: 42.2 | DD33: 5091692 | DL33: 4222410 | DW33: 47.2
B34: 寄附金 | R34: 92952 | Z34: 0.6 | AD34: - | AL34: - | CD34: 物件費 | CR34: 1889980 | CZ34: 13.3 | DD34: 1508977 | DL34: 1329605 | DW34: 14.9
B35: 繰入金 | R35: 148412 | Z35: 1 | AD35: - | AL35: - | AQ35: 公営事業等への繰出 | BG35: 国民健康保険事業会計の状況 | CD35: 維持補修費 | CR35: 101729 | CZ35: 0.7 | DD35: 89544 | DL35: 88693 | DW35: 1
B36: 繰越金 | R36: 478922 | Z36: 3.2 | AD36: - | AL36: - | AQ36: 合計 | AZ36: 2529674 | BG36: 実質収支 | BV36: 20129 | CD36: 補助費等 | CR36: 2128849 | CZ36: 14.9 | DD36: 1962530 | DL36: 1766046 | DW36: 19.7
B37: 諸収入 | R37: 203858 | Z37: 1.4 | AD37: - | AL37: - | AQ37: 下水道 | AZ37: 1045184 | BG37: 再差引収支 | BV37: -35398 | CD37: うち一部事務組合負担金 | CR37: 385580 | CZ37: 2.7 | DD37: 385580 | DL37: 385580 | DW37: 4.3
B38: 地方債 | R38: 792286 | Z38: 5.3 | AD38: - | AL38: - | AQ38: 病院 | AZ38: 106370 | BG38: 加入世帯数(世帯) | BV38: 3420 | CD38: 繰出金 | CR38: 1361546 | CZ38: 9.6 | DD38: 1110295 | DL38: 1038066 | DW38: 11.6
B39: うち減収補塡債(特例分) | R39: - | Z39: - | AD39: - | AL39: - | AQ39: 上水道 | AZ39: 16574 | BG39: 被保険者数(人) | BV39: 4950 | CD39: 積立金 | CR39: 519501 | CZ39: 3.6 | DD39: 412455 | DL39: - | DW39: -
B40: うち臨時財政対策債 | R40: 27186 | Z40: 0.2 | AD40: - | AL40: - | AQ40: 工業用水道 | AZ40: - | BG40: 被保険者 1人当り | BM40: 保険税(料)収入額 | BV40: 93 | CD40: 投資・出資金・貸付金 | CR40: 11891 | CZ40: 0.1 | DD40: 7891 | DL40: - | DW40: -
...

Sheet 各会計、関係団体の財政状況及び健全化判断比率
A2: (2)各会計、関係団体の財政状況及び健全化判断比率（市町村） | DJ2: 令和6年度 | DQ2: 兵庫県相生市
A4: 一般会計等の財政状況（単位：百万円） | BQ4: 地方公社・第三セクター等の経営状況及び地方公共団体の財政的支援の状況（単位：百万円）
A5: 会計名 | Q5: 歳入 | V5: 歳出 | AA5: 形式収支 | AF5: 実質収支 | AK5: 他会計等 からの 繰入金 | AP5: 地方債 現在高 | AU5: 備考 | BQ5: 地方公社・第三セクター等名 | CH5: 経常損益 | CM5: 純資産又は 正味財産 | CR5: 当該団体 からの 出資金 | CW5: 当該団体 からの 補助金 | DB5: 当該団体 からの 貸付金 | DG5: 当該団体からの債務保証に係る債務残高 | DL5: 当該団体からの損失補償に係る債務残高 | DQ5: 一般会計等 負担見込額 | DV5: 備考
A7: 1 | B7: 一般会計 | Q7: 14410 | V7: 13881 | AA7: 528 | AF7: 417 | AK7: 148 | AP7: 9576 | BQ7: 1 | BS7: あいおいアクアポリス | CH7: -1 | CM7: 68 | CR7: 6 | CW7: 0 | DB7: 0 | DG7: 0 | DL7: 0 | DQ7: 0
A8: 2 | B8: 看護専門学校特別会計 | Q8: 745 | V8: 656 | AA8: 88 | AF8: - | AK8: 277 | AP8: 536 | BQ8: 2
A9: 3 | BQ9: 3
A10: 4 | BQ10: 4
A11: 5 | BQ11: 5
A12: 6 | BQ12: 6
A13: 7 | BQ13: 7
A14: 8 | BQ14: 8
A15: 9 | BQ15: 9
A16: 10 | BQ16: 10
A17: 11 | BQ17: 11
A18: 12 | BQ18: 12
A19: 13 | BQ19: 13
A20: 14 | BQ20: 14
A21: 15 | BQ21: 15
A22: 16 | AZ22: 実質赤字額 | BQ22: 16
A23: 計 | B23: 一般会計等（純計） | AF23: 417 | AZ23: - | BQ23: 17
A24: ※一般会計等（純計）は、各会計の相互間の繰入・繰出等の重複を控除したものであり、各会計の合計と一致しない場合がある。 | BQ24: 18
A25: 公営企業会計等の財政状況（単位：百万円） | BQ25: 19
A26: 会計名 | Q26: 総収益 （歳入） | V26: 総費用 （歳出） | AA26: 純損益 （形式収支） | AF26: 資金剰余額 /不足額 （実質収支） | AK26: 他会計等 からの 繰入金 | AP26: 企業債 （地方債） 現在高 | AU26: 左のうち 一般会計等 繰入見込額 | AZ26: 資金不足 比率 | BE26: 備考 | BQ26: 20
BQ27: 21
A28: 1 | B28: 国民健康保険特別会計 | Q28: 2990 | V28: 2970 | AA28: 20 | AF28: 20 | AK28: 280 | AP28: 0 | AU28: 0 | AZ28: - | BQ28: 22
A29: 2 | B29: 介護保険特別会計 | Q29: 3018 | V29: 2967 | AA29: 51 | AF29: 51 | AK29: 450 | AP29: 0 | AU29: 0 | AZ29: - | BQ29: 23
A30: 3 | B30: 後期高齢者医療保険特別会計 | Q30: 628 | V30: 628 | AA30: 0 | AF30: 0 | AK30: 12 | AP30: 0 | AU30: 0 | AZ30: - | BQ30: 24
A31: 4 | B31: 病院事業会計 | Q31: 639 | V31: 667 | AA31: -28 | AF31: 33 | AK31: 98 | AP31: 214 | AU31: 120 | AZ31: - | BE31: 法適用企業 | BQ31: 25
A32: 5 | B32: 下水道事業会計 | Q32: 1705 | V32: 2118 | AA32: -413 | AF32: 369 | AK32: 778 | AP32: 12124 | AU32: 10633 | AZ32: - | BE32: 法適用企業 | BQ32: 26
A33: 6 | BQ33: 27
A34: 7 | BQ34: 28
A35: 8 | BQ35: 29
A36: 9 | BQ36: 30
A37: 10 | BQ37: 31
A38: 11 | BQ38: 32
A39: 12 | BQ39: 33
A40: 13 | BQ40: 34
A41: 14 | BQ41: 35
A42: 15 | BQ42: 36
A43: 16 | BQ43: 37
...

Sheet 財政比較分析表

Sheet 経常経費分析表（経常収支比率の分析）

Sheet 経常経費分析表（人件費・公債費・普通建設事業費の分析）
A5: 人件費及び人件費に準ずる費用の分析
AK6: 人件費及び人件費に準ずる費用
AO7: 当該団体決算額 （千円） | AQ7: 人口1人当たり決算額
AP8: 当該団体（円） | AQ8: 類似団体平均（円） | AR8: 対比（％）
AK9: 人件費 | AO9: 2304564 | AP9: 85171 | AQ9: 99044 | AR9: -14
AK10: 一部事務組合負担金（補助費等） | AO10: 328265 | AP10: 12132 | AQ10: 12597 | AR10: -3.7
AK11: 公営企業（法適）等に対する繰出し（補助費等） | AO11: 50411 | AP11: 1863 | AQ11: 1194 | AR11: 56
AK12: 公営企業（法適）等に対する繰出し（投資及び出資金・貸付金） | AO12: - | AP12: - | AQ12: 18 | AR12: -
AK13: 公営企業（法非適）等に対する繰出し（繰出金） | AO13: 66627 | AP13: 2462 | AQ13: 3890 | AR13: -36.7
AK14: 事業費支弁に係る職員の人件費（投資的経費） | AO14: 35425 | AP14: 1309 | AQ14: 1837 | AR14: -28.7
AK15: ▲退職金 | AO15: -103164 | AP15: -3813 | AQ15: -6318 | AR15: -39.6
AK16: 合計 | AO16: 2682128 | AP16: 99125 | AQ16: 112262 | AR16: -11.7
AK19: 参考
AO20: 当該団体 | AP20: 類似団体平均 | AQ20: 対比（差引）
AK21: 人口1,000人当たり職員数（人） | AO21: 8.32 | AP21: 9.26 | AQ21: -0.94
AK22: ラスパイレス指数 | AO22: 98.6 | AP22: 97.3 | AQ22: 1.3
A26: （注）人口については、各調査対象年度の1月1日現在の住民基本台帳に登載されている人口に基づいている。
A28: 公債費及び公債費に準ずる費用の分析
AK29: 公債費及び公債費に準ずる費用（実質公債費比率の構成要素）
AO30: 当該団体決算額 （千円） | AQ30: 人口1人当たり決算額
AP31: 当該団体（円） | AQ31: 類似団体平均（円） | AR31: 対比（％）
AK32: 元利償還金の額 （繰上償還額等を除く） | AO32: 1210341 | AP32: 44731 | AQ32: 60713 | AR32: -26.3
AK33: 積立不足額を考慮して算定した額 | AO33: - | AP33: - | AQ33: - | AR33: -
AK34: 満期一括償還地方債の一年当たりの元金償還金に相当するもの （年度割相当額） | AO34: - | AP34: - | AQ34: - | AR34: -
AK35: 公営企業に要する経費の財源とする地方債の償還の財源に 充てたと認められる繰入金 | AO35: 973716 | AP35: 35986 | AQ35: 14168 | AR35: 154
AK36: 一部事務組合等の起こした地方債に充てたと認められる 補助金又は負担金 | AO36: 6374 | AP36: 236 | AQ36: 2586 | AR36: -90.9
AK37: 公債費に準ずる債務負担行為に係るもの | AO37: - | AP37: - | AQ37: 189 | AR37: -
AK38: 一時借入金利子 （同一団体における会計間の現金運用に係る利子は除く） | AO38: - | AP38: - | AQ38: 8 | AR38: -
AK39: ▲特定財源の額 | AO39: -286494 | AP39: -10588 | AQ39: -5399 | AR39: 96.1
AK40: ▲地方債に係る元利償還金及び準元利償還金に要する経費として 普通交付税の額の算定に用いる基準財政需要額に算入された額 | AO40: -1236355 | AP40: -45693 | AQ40: -49527 | AR40: -7.7
AK41: 合計 | AO41: 667582 | AP41: 24672 | AQ41: 22738 | AR41: 8.5
A47: （参考） 普通建設事業費の分析
AK48: 普通建設事業費
AM49: 当該団体決算額 （千円） | AN49: 人口１人当たり決算額
AN50: 当該団体(円) | AO50: 増減率(%)(A) | AP50: 類似団体平均(円) | AQ50: 増減率(%)(B) | AR50: (A)-(B)
AK51: R02 | AM51: 879009 | AN51: 30517 | AO51: -25.9 | AP51: 76347 | AQ51: 2.4 | AR51: -28.3
AL52: うち単独分 | AM52: 553046 | AN52: 19200 | AO52: 8.1 | AP52: 41762 | AQ52: 0.5 | AR52: 7.6
AK53: R03 | AM53: 915241 | AN53: 32215 | AO53: 5.6 | AP53: 71279 | AQ53: -6.6 | AR53: 12.2
AL54: うち単独分 | AM54: 712388 | AN54: 25075 | AO54: 30.6 | AP54: 36731 | AQ54: -12 | AR54: 42.6
AK55: R04 | AM55: 937827 | AN55: 33525 | AO55: 4.1 | AP55: 74994 | AQ55: 5.2 | AR55: -1.1
...

Sheet 性質別歳出決算分析表（住民一人当たりのコスト）

Sheet 目的別歳出決算分析表（住民一人当たりのコスト）

Sheet 実質収支比率等に係る経年分析
J45: 標準財政規模比（％）
B46: 区分 | E46: 年度 | F46: R02 | G46: R03 | H46: R04 | I46: R05 | J46: R06
C47: 財政調整基金残高 | F47: 17.65 | G47: 21.61 | H47: 21.14 | I47: 16.74 | J47: 20.06
C48: 実質収支額 | F48: 4.46 | G48: 5.37 | H48: 5.12 | I48: 4.8 | J48: 4.82
C49: 実質単年度収支 | F49: ▲ 0.81 | G49: 5.81 | H49: ▲ 1.67 | I49: ▲ 4.38 | J49: 3.72

Sheet 連結実質赤字比率に係る赤字・黒字の構成分析
J32: 標準財政規模比（％）
B33: 会計 | E33: 年度 | F33: R02 | G33: R03 | H33: R04 | I33: R05 | J33: R06
C34: 一般会計 | F34: 4.46 | G34: 5.35 | H34: 5.12 | I34: 4.79 | J34: 4.82
C35: 下水道事業会計 | F35: 0.6 | G35: 1.76 | H35: 3.58 | I35: 4.2 | J35: 4.27
C36: 介護保険特別会計 | F36: 0.54 | G36: 0.74 | H36: 0.54 | I36: 0.56 | J36: 0.59
C37: 病院事業会計 | F37: 0.86 | G37: 0.77 | H37: 0.58 | I37: 0.54 | J37: 0.38
C38: 国民健康保険特別会計 | F38: 0.91 | G38: 1.03 | H38: 0.49 | I38: 0.27 | J38: 0.23
C39: 後期高齢者医療保険特別会計 | F39: 0.02 | G39: 0.02 | H39: 0 | I39: 0.13 | J39: 0
C40: 看護専門学校特別会計 | F40: 0 | G40: 0.01 | H40: 0 | I40: 0 | J40: 0
C42: その他会計（赤字） | F42: - | G42: - | H42: - | I42: - | J42: -
C43: その他会計（黒字） | F43: - | G43: - | H43: - | I43: - | J43: -

Sheet 実質公債費比率（分子）の構造
O43: （百万円）
B44: 分子の構造 | J44: 年度 | K44: R02 | L44: R03 | M44: R04 | N44: R05 | O44: R06
B45: 元利償還金等(A) | E45: 元利償還金 | K45: 1576 | L45: 1487 | M45: 1364 | N45: 1288 | O45: 1210
E46: 減債基金積立不足算定額※2 | K46: - | L46: - | M46: - | N46: - | O46: -
E47: 満期一括償還地方債に係る年度割相当額 | K47: - | L47: - | M47: - | N47: - | O47: -
E48: 公営企業債の元利償還金に対する繰入金 | K48: 1168 | L48: 1070 | M48: 1030 | N48: 1093 | O48: 974
E49: 組合等が起こした地方債の元利償還金に対する負担金等 | K49: 10 | L49: 8 | M49: 7 | N49: 7 | O49: 6
E50: 債務負担行為に基づく支出額 | K50: - | L50: - | M50: - | N50: - | O50: -
E51: 一時借入金の利子 | K51: - | L51: - | M51: - | N51: - | O51: -
B52: 算入公債費等(B) | E52: 算入公債費等 | K52: 1728 | L52: 1677 | M52: 1642 | N52: 1646 | O52: 1522
B53: (A)－(B) | E53: 実質公債費比率の分子 | K53: 1026 | L53: 888 | M53: 759 | N53: 742 | O53: 668
B54: ※ 減債基金積立不足算定額=(C)×(１－(D)/(E))
B56: （参考） | O56: （百万円）
J57: 年度 | K57: R02 | L57: R03 | M57: R04 | N57: R05 | O57: R06
B58: 減債基金 積立状況等（注） | D58: 満期一括償還地方債に係る実質償還額又は理論償還額のいずれか少ない額(C)
D59: 前年度末減債基金残高(D)
D60: 前年度末減債基金積立相当額(E)
D61: （注）減債基金のうち、実質公債費比率の算定に用いる満期一括償還地方債の償還の財源に係るもののみを記入。
D62: 減債基金積立金の年度を超えた一般会計又は特別会計への貸付額は控除して記入。

Sheet 将来負担比率（分子）の構造
M39: （百万円）
B40: 分子の構造 | H40: 年度 | I40: R02 | J40: R03 | K40: R04 | L40: R05 | M40: R06
B41: 将来負担額(A) | E41: 一般会計等に係る地方債の現在高 | I41: 12693 | J41: 12107 | K41: 11251 | L41: 10490 | M41: 10112
E42: 債務負担行為に基づく支出予定額 | I42: - | J42: - | K42: - | L42: - | M42: -
E43: 公営企業債等繰入見込額 | I43: 14645 | J43: 13610 | K43: 13240 | L43: 13107 | M43: 12517
E44: 組合等負担等見込額 | I44: 84 | J44: 69 | K44: 56 | L44: 44 | M44: 38
E45: 退職手当負担見込額 | I45: 1289 | J45: 1373 | K45: 1247 | L45: 1297 | M45: 1315
E46: 設立法人等の負債額等負担見込額 | I46: - | J46: - | K46: - | L46: - | M46: -
E47: うち、健全化法施行規則附則第三条に係る負担見込額 | I47: - | J47: - | K47: - | L47: - | M47: -
E48: 連結実質赤字額 | I48: - | J48: - | K48: - | L48: - | M48: -
E49: 組合等連結実質赤字額負担見込額 | I49: - | J49: - | K49: - | L49: - | M49: -
B50: 充当可能財源等(B) | E50: 充当可能基金 | I50: 3273 | J50: 3727 | K50: 3722 | L50: 3411 | M50: 3726
E51: 充当可能特定歳入 | I51: 2402 | J51: 2301 | K51: 2352 | L51: 2314 | M51: 2371
E52: 基準財政需要額算入見込額 | I52: 17389 | J52: 16284 | K52: 15701 | L52: 14799 | M52: 14218
B53: (A)－(B) | E53: 将来負担比率の分子 | I53: 5647 | J53: 4846 | K53: 4018 | L53: 4415 | M53: 3668

Sheet 基金残高に係る経年分析
H53: （百万円）
B54: 区分 | E54: 年度 | F54: R04 | G54: R05 | H54: R06
C55: 財政調整基金 | F55: 1773 | G55: 1422 | H55: 1735
C56: 減債基金 | F56: 5 | G56: 5 | H56: 5
C57: その他特定目的基金 | F57: 1287 | G57: 1347 | H57: 1414
C58: 庁舎建設基金 | F58: 500 | G58: 555 | H58: 607
C59: しあわせ基金 | F59: 240 | G59: 231 | H59: 219
C60: 職員退職手当基金 | F60: 170 | G60: 157 | H60: 183
C61: ふるさと応援基金 | F61: 153 | G61: 178 | H61: 173
C62: 市営墓園基金 | F62: 109 | G62: 110 | H62: 113
C63: 基金残高合計 | F63: 3065 | G63: 2774 | H63: 3153

Sheet データシート
D2: 当該団体(円) | F2: 類似団体内平均(円)
A3: R02 | D3: 30517 | F3: 76347
D4: 19200 | F4: 41762
A5: R03 | D5: 32215 | F5: 71279
D6: 25075 | F6: 36731
A7: R04 | D7: 33525 | F7: 74994
D8: 20424 | F8: 36188
A9: R05 | D9: 39749 | F9: 71849
D10: 25000 | F10: 36144
A11: R06 | D11: 49475 | F11: 82962
D12: 40187 | F12: 42835
D13: 37096 | F13: 75486
D14: 25977 | F14: 38732
A17: 実質収支比率等に係る経年分析
B18: =実質収支比率等に係る経年分析!F$46 -> R02 | C18: =実質収支比率等に係る経年分析!G$46 -> R03 | D18: =実質収支比率等に係る経年分析!H$46 -> R04 | E18: =実質収支比率等に係る経年分析!I$46 -> R05 | F18: =実質収支比率等に係る経年分析!J$46 -> R06
A19: 実質収支額 | B19: =ROUND(VALUE(SUBSTITUTE(実質収支比率等に係る経年分析!F$48,"▲","-")),2) -> 4.46 | C19: =ROUND(VALUE(SUBSTITUTE(実質収支比率等に係る経年分析!G$48,"▲","-")),2) -> 5.37 | D19: =ROUND(VALUE(SUBSTITUTE(実質収支比率等に係る経年分析!H$48,"▲","-")),2) -> 5.12 | E19: =ROUND(VALUE(SUBSTITUTE(実質収支比率等に係る経年分析!I$48,"▲","-")),2) -> 4.8 | F19: =ROUND(VALUE(SUBSTITUTE(実質収支比率等に係る経年分析!J$48,"▲","-")),2) -> 4.82
A20: 財政調整基金残高 | B20: =ROUND(VALUE(SUBSTITUTE(実質収支比率等に係る経年分析!F$47,"▲","-")),2) -> 17.65 | C20: =ROUND(VALUE(SUBSTITUTE(実質収支比率等に係る経年分析!G$47,"▲","-")),2) -> 21.61 | D20: =ROUND(VALUE(SUBSTITUTE(実質収支比率等に係る経年分析!H$47,"▲","-")),2) -> 21.14 | E20: =ROUND(VALUE(SUBSTITUTE(実質収支比率等に係る経年分析!I$47,"▲","-")),2) -> 16.74 | F20: =ROUND(VALUE(SUBSTITUTE(実質収支比率等に係る経年分析!J$47,"▲","-")),2) -> 20.06
A21: 実質単年度収支 | B21: =IF(ISNUMBER(VALUE(SUBSTITUTE(実質収支比率等に係る経年分析!F$49,"▲","-"))),ROUND(VALUE(SUBSTITUTE(実質収支比率等に係る経年分析!F$49,"▲","-")),2),NA()) -> -0.81 | C21: =IF(ISNUMBER(VALUE(SUBSTITUTE(実質収支比率等に係る経年分析!G$49,"▲","-"))),ROUND(VALUE(SUBSTITUTE(実質収支比率等に係る経年分析!G$49,"▲","-")),2),NA()) -> 5.81 | D21: =IF(ISNUMBER(VALUE(SUBSTITUTE(実質収支比率等に係る経年分析!H$49,"▲","-"))),ROUND(VALUE(SUBSTITUTE(実質収支比率等に係る経年分析!H$49,"▲","-")),2),NA()) -> -1.67 | E21: =IF(ISNUMBER(VALUE(SUBSTITUTE(実質収支比率等に係る経年分析!I$49,"▲","-"))),ROUND(VALUE(SUBSTITUTE(実質収支比率等に係る経年分析!I$49,"▲","-")),2),NA()) -> -4.38 | F21: =IF(ISNUMBER(VALUE(SUBSTITUTE(実質収支比率等に係る経年分析!J$49,"▲","-"))),ROUND(VALUE(SUBSTITUTE(実質収支比率等に係る経年分析!J$49,"▲","-")),2),NA()) -> 3.72
A24: 連結実質赤字比率に係る赤字・黒字の構成分析
B25: =連結実質赤字比率に係る赤字・黒字の構成分析!F$33 -> R02 | D25: =連結実質赤字比率に係る赤字・黒字の構成分析!G$33 -> R03 | F25: =連結実質赤字比率に係る赤字・黒字の構成分析!H$33 -> R04 | H25: =連結実質赤字比率に係る赤字・黒字の構成分析!I$33 -> R05 | J25: =連結実質赤字比率に係る赤字・黒字の構成分析!J$33 -> R06
B26: 赤字額 | C26: 黒字額 | D26: 赤字額 | E26: 黒字額 | F26: 赤字額 | G26: 黒字額 | H26: 赤字額 | I26: 黒字額 | J26: 赤字額 | K26: 黒字額
A27: =IF(連結実質赤字比率に係る赤字・黒字の構成分析!C$43="",NA(),連結実質赤字比率に係る赤字・黒字の構成分析!C$43) -> その他会計（黒字） | B27: =IF(ROUND(VALUE(SUBSTITUTE(連結実質赤字比率に係る赤字・黒字の構成分析!F$43,"▲","-")),2)<0,ABS(ROUND(VALUE(SUBSTITUTE(連結実質赤字比率に係る赤字・黒字の構成分析!F$43,"▲","-")),2)),NA()) -> #VALUE! | C27: =IF(ROUND(VALUE(SUBSTITUTE(連結実質赤字比率に係る赤字・黒字の構成分析!F$43,"▲","-")),2)>=0,ABS(ROUND(VALUE(SUBSTITUTE(連結実質赤字比率に係る赤字・黒字の構成分析!F$43,"▲","-")),2)),NA()) -> #VALUE! | D27: =IF(ROUND(VALUE(SUBSTITUTE(連結実質赤字比率に係る赤字・黒字の構成分析!G$43,"▲","-")),2)<0,ABS(ROUND(VALUE(SUBSTITUTE(連結実質赤字比率に係る赤字・黒字の構成分析!G$43,"▲","-")),2)),NA()) -> #VALUE! | E27: =IF(ROUND(VALUE(SUBSTITUTE(連結実質赤字比率に係る赤字・黒字の構成分析!G$43,"▲","-")),2)>=0,ABS(ROUND(VALUE(SUBSTITUTE(連結実質赤字比率に係る赤字・黒字の構成分析!G$43,"▲","-")),2)),NA()) -> #VALUE! | F27: =IF(ROUND(VALUE(SUBSTITUTE(連結実質赤字比率に係る赤字・黒字の構成分析!H$43,"▲","-")),2)<0,ABS(ROUND(VALUE(SUBSTITUTE(連結実質赤字比率に係る赤字・黒字の構成分析!H$43,"▲","-")),2)),NA()) -> #VALUE! | G27: =IF(ROUND(VALUE(SUBSTITUTE(連結実質赤字比率に係る赤字・黒字の構成分析!H$43,"▲","-")),2)>=0,ABS(ROUND(VALUE(SUBSTITUTE(連結実質赤字比率に係る赤字・黒字の構成分析!H$43,"▲","-")),2)),NA()) -> #VALUE! | H27: =IF(ROUND(VALUE(SUBSTITUTE(連結実質赤字比率に係る赤字・黒字の構成分析!I$43,"▲","-")),2)<0,ABS(ROUND(VALUE(SUBSTITUTE(連結実質赤字比率に係る赤字・黒字の構成分析!I$43,"▲","-")),2)),NA()) -> #VALUE! | I27: =IF(ROUND(VALUE(SUBSTITUTE(連結実質赤字比率に係る赤字・黒字の構成分析!I$43,"▲","-")),2)>=0,ABS(ROUND(VALUE(SUBSTITUTE(連結実質赤字比率に係る赤字・黒字の構成分析!I$43,"▲","-")),2)),NA()) -> #VALUE! | J27: =IF(ROUND(VALUE(SUBSTITUTE(連結実質赤字比率に係る赤字・黒字の構成分析!J$43,"▲","-")),2)<0,ABS(ROUND(VALUE(SUBSTITUTE(連結実質赤字比率に係る赤字・黒字の構成分析!J$43,"▲","-")),2)),NA()) -> #VALUE! | K27: =IF(ROUND(VALUE(SUBSTITUTE(連結実質赤字比率に係る赤字・黒字の構成分析!J$43,"▲","-")),2)>=0,ABS(ROUND(VALUE(SUBSTITUTE(連結実質赤字比率に係る赤字・黒字の構成分析!J$43,"▲","-")),2)),NA()) -> #VALUE!
A28: =IF(連結実質赤字比率に係る赤字・黒字の構成分析!C$42="",NA(),連結実質赤字比率に係る赤字・黒字の構成分析!C$42) -> その他会計（赤字） | B28: =IF(ROUND(VALUE(SUBSTITUTE(連結実質赤字比率に係る赤字・黒字の構成分析!F$42,"▲","-")),2)<0,ABS(ROUND(VALUE(SUBSTITUTE(連結実質赤字比率に係る赤字・黒字の構成分析!F$42,"▲","-")),2)),NA()) -> #VALUE! | C28: =IF(ROUND(VALUE(SUBSTITUTE(連結実質赤字比率に係る赤字・黒字の構成分析!F$42,"▲","-")),2)>=0,ABS(ROUND(VALUE(SUBSTITUTE(連結実質赤字比率に係る赤字・黒字の構成分析!F$42,"▲","-")),2)),NA()) -> #VALUE! | D28: =IF(ROUND(VALUE(SUBSTITUTE(連結実質赤字比率に係る赤字・黒字の構成分析!G$42,"▲","-")),2)<0,ABS(ROUND(VALUE(SUBSTITUTE(連結実質赤字比率に係る赤字・黒字の構成分析!G$42,"▲","-")),2)),NA()) -> #VALUE! | E28: =IF(ROUND(VALUE(SUBSTITUTE(連結実質赤字比率に係る赤字・黒字の構成分析!G$42,"▲","-")),2)>=0,ABS(ROUND(VALUE(SUBSTITUTE(連結実質赤字比率に係る赤字・黒字の構成分析!G$42,"▲","-")),2)),NA()) -> #VALUE! | F28: =IF(ROUND(VALUE(SUBSTITUTE(連結実質赤字比率に係る赤字・黒字の構成分析!H$42,"▲","-")),2)<0,ABS(ROUND(VALUE(SUBSTITUTE(連結実質赤字比率に係る赤字・黒字の構成分析!H$42,"▲","-")),2)),NA()) -> #VALUE! | G28: =IF(ROUND(VALUE(SUBSTITUTE(連結実質赤字比率に係る赤字・黒字の構成分析!H$42,"▲","-")),2)>=0,ABS(ROUND(VALUE(SUBSTITUTE(連結実質赤字比率に係る赤字・黒字の構成分析!H$42,"▲","-")),2)),NA()) -> #VALUE! | H28: =IF(ROUND(VALUE(SUBSTITUTE(連結実質赤字比率に係る赤字・黒字の構成分析!I$42,"▲","-")),2)<0,ABS(ROUND(VALUE(SUBSTITUTE(連結実質赤字比率に係る赤字・黒字の構成分析!I$42,"▲","-")),2)),NA()) -> #VALUE! | I28: =IF(ROUND(VALUE(SUBSTITUTE(連結実質赤字比率に係る赤字・黒字の構成分析!I$42,"▲","-")),2)>=0,ABS(ROUND(VALUE(SUBSTITUTE(連結実質赤字比率に係る赤字・黒字の構成分析!I$42,"▲","-")),2)),NA()) -> #VALUE! | J28: =IF(ROUND(VALUE(SUBSTITUTE(連結実質赤字比率に係る赤字・黒字の構成分析!J$42,"▲","-")),2)<0,ABS(ROUND(VALUE(SUBSTITUTE(連結実質赤字比率に係る赤字・黒字の構成分析!J$42,"▲","-")),2)),NA()) -> #VALUE! | K28: =IF(ROUND(VALUE(SUBSTITUTE(連結実質赤字比率に係る赤字・黒字の構成分析!J$42,"▲","-")),2)>=0,ABS(ROUND(VALUE(SUBSTITUTE(連結実質赤字比率に係る赤字・黒字の構成分析!J$42,"▲","-")),2)),NA()) -> #VALUE!
A29: =IF(連結実質赤字比率に係る赤字・黒字の構成分析!C$41="",NA(),連結実質赤字比率に係る赤字・黒字の構成分析!C$41) -> #N/A | B29: =IF(ROUND(VALUE(SUBSTITUTE(連結実質赤字比率に係る赤字・黒字の構成分析!F$41,"▲","-")),2)<0,ABS(ROUND(VALUE(SUBSTITUTE(連結実質赤字比率に係る赤字・黒字の構成分析!F$41,"▲","-")),2)),NA()) -> #VALUE! | C29: =IF(ROUND(VALUE(SUBSTITUTE(連結実質赤字比率に係る赤字・黒字の構成分析!F$41,"▲","-")),2)>=0,ABS(ROUND(VALUE(SUBSTITUTE(連結実質赤字比率に係る赤字・黒字の構成分析!F$41,"▲","-")),2)),NA()) -> #VALUE! | D29: =IF(ROUND(VALUE(SUBSTITUTE(連結実質赤字比率に係る赤字・黒字の構成分析!G$41,"▲","-")),2)<0,ABS(ROUND(VALUE(SUBSTITUTE(連結実質赤字比率に係る赤字・黒字の構成分析!G$41,"▲","-")),2)),NA()) -> #VALUE! | E29: =IF(ROUND(VALUE(SUBSTITUTE(連結実質赤字比率に係る赤字・黒字の構成分析!G$41,"▲","-")),2)>=0,ABS(ROUND(VALUE(SUBSTITUTE(連結実質赤字比率に係る赤字・黒字の構成分析!G$41,"▲","-")),2)),NA()) -> #VALUE! | F29: =IF(ROUND(VALUE(SUBSTITUTE(連結実質赤字比率に係る赤字・黒字の構成分析!H$41,"▲","-")),2)<0,ABS(ROUND(VALUE(SUBSTITUTE(連結実質赤字比率に係る赤字・黒字の構成分析!H$41,"▲","-")),2)),NA()) -> #VALUE! | G29: =IF(ROUND(VALUE(SUBSTITUTE(連結実質赤字比率に係る赤字・黒字の構成分析!H$41,"▲","-")),2)>=0,ABS(ROUND(VALUE(SUBSTITUTE(連結実質赤字比率に係る赤字・黒字の構成分析!H$41,"▲","-")),2)),NA()) -> #VALUE! | H29: =IF(ROUND(VALUE(SUBSTITUTE(連結実質赤字比率に係る赤字・黒字の構成分析!I$41,"▲","-")),2)<0,ABS(ROUND(VALUE(SUBSTITUTE(連結実質赤字比率に係る赤字・黒字の構成分析!I$41,"▲","-")),2)),NA()) -> #VALUE! | I29: =IF(ROUND(VALUE(SUBSTITUTE(連結実質赤字比率に係る赤字・黒字の構成分析!I$41,"▲","-")),2)>=0,ABS(ROUND(VALUE(SUBSTITUTE(連結実質赤字比率に係る赤字・黒字の構成分析!I$41,"▲","-")),2)),NA()) -> #VALUE! | J29: =IF(ROUND(VALUE(SUBSTITUTE(連結実質赤字比率に係る赤字・黒字の構成分析!J$41,"▲","-")),2)<0,ABS(ROUND(VALUE(SUBSTITUTE(連結実質赤字比率に係る赤字・黒字の構成分析!J$41,"▲","-")),2)),NA()) -> #VALUE! | K29: =IF(ROUND(VALUE(SUBSTITUTE(連結実質赤字比率に係る赤字・黒字の構成分析!J$41,"▲","-")),2)>=0,ABS(ROUND(VALUE(SUBSTITUTE(連結実質赤字比率に係る赤字・黒字の構成分析!J$41,"▲","-")),2)),NA()) -> #VALUE!
A30: =IF(連結実質赤字比率に係る赤字・黒字の構成分析!C$40="",NA(),連結実質赤字比率に係る赤字・黒字の構成分析!C$40) -> 看護専門学校特別会計 | B30: =IF(ROUND(VALUE(SUBSTITUTE(連結実質赤字比率に係る赤字・黒字の構成分析!F$40,"▲","-")),2)<0,ABS(ROUND(VALUE(SUBSTITUTE(連結実質赤字比率に係る赤字・黒字の構成分析!F$40,"▲","-")),2)),NA()) -> #N/A | C30: =IF(ROUND(VALUE(SUBSTITUTE(連結実質赤字比率に係る赤字・黒字の構成分析!F$40,"▲","-")),2)>=0,ABS(ROUND(VALUE(SUBSTITUTE(連結実質赤字比率に係る赤字・黒字の構成分析!F$40,"▲","-")),2)),NA()) -> 0 | D30: =IF(ROUND(VALUE(SUBSTITUTE(連結実質赤字比率に係る赤字・黒字の構成分析!G$40,"▲","-")),2)<0,ABS(ROUND(VALUE(SUBSTITUTE(連結実質赤字比率に係る赤字・黒字の構成分析!G$40,"▲","-")),2)),NA()) -> #N/A | E30: =IF(ROUND(VALUE(SUBSTITUTE(連結実質赤字比率に係る赤字・黒字の構成分析!G$40,"▲","-")),2)>=0,ABS(ROUND(VALUE(SUBSTITUTE(連結実質赤字比率に係る赤字・黒字の構成分析!G$40,"▲","-")),2)),NA()) -> 0.01 | F30: =IF(ROUND(VALUE(SUBSTITUTE(連結実質赤字比率に係る赤字・黒字の構成分析!H$40,"▲","-")),2)<0,ABS(ROUND(VALUE(SUBSTITUTE(連結実質赤字比率に係る赤字・黒字の構成分析!H$40,"▲","-")),2)),NA()) -> #N/A | G30: =IF(ROUND(VALUE(SUBSTITUTE(連結実質赤字比率に係る赤字・黒字の構成分析!H$40,"▲","-")),2)>=0,ABS(ROUND(VALUE(SUBSTITUTE(連結実質赤字比率に係る赤字・黒字の構成分析!H$40,"▲","-")),2)),NA()) -> 0 | H30: =IF(ROUND(VALUE(SUBSTITUTE(連結実質赤字比率に係る赤字・黒字の構成分析!I$40,"▲","-")),2)<0,ABS(ROUND(VALUE(SUBSTITUTE(連結実質赤字比率に係る赤字・黒字の構成分析!I$40,"▲","-")),2)),NA()) -> #N/A | I30: =IF(ROUND(VALUE(SUBSTITUTE(連結実質赤字比率に係る赤字・黒字の構成分析!I$40,"▲","-")),2)>=0,ABS(ROUND(VALUE(SUBSTITUTE(連結実質赤字比率に係る赤字・黒字の構成分析!I$40,"▲","-")),2)),NA()) -> 0 | J30: =IF(ROUND(VALUE(SUBSTITUTE(連結実質赤字比率に係る赤字・黒字の構成分析!J$40,"▲","-")),2)<0,ABS(ROUND(VALUE(SUBSTITUTE(連結実質赤字比率に係る赤字・黒字の構成分析!J$40,"▲","-")),2)),NA()) -> #N/A | K30: =IF(ROUND(VALUE(SUBSTITUTE(連結実質赤字比率に係る赤字・黒字の構成分析!J$40,"▲","-")),2)>=0,ABS(ROUND(VALUE(SUBSTITUTE(連結実質赤字比率に係る赤字・黒字の構成分析!J$40,"▲","-")),2)),NA()) -> 0
A31: =IF(連結実質赤字比率に係る赤字・黒字の構成分析!C$39="",NA(),連結実質赤字比率に係る赤字・黒字の構成分析!C$39) -> 後期高齢者医療保険特別会計 | B31: =IF(ROUND(VALUE(SUBSTITUTE(連結実質赤字比率に係る赤字・黒字の構成分析!F$39,"▲","-")),2)<0,ABS(ROUND(VALUE(SUBSTITUTE(連結実質赤字比率に係る赤字・黒字の構成分析!F$39,"▲","-")),2)),NA()) -> #N/A | C31: =IF(ROUND(VALUE(SUBSTITUTE(連結実質赤字比率に係る赤字・黒字の構成分析!F$39,"▲","-")),2)>=0,ABS(ROUND(VALUE(SUBSTITUTE(連結実質赤字比率に係る赤字・黒字の構成分析!F$39,"▲","-")),2)),NA()) -> 0.02 | D31: =IF(ROUND(VALUE(SUBSTITUTE(連結実質赤字比率に係る赤字・黒字の構成分析!G$39,"▲","-")),2)<0,ABS(ROUND(VALUE(SUBSTITUTE(連結実質赤字比率に係る赤字・黒字の構成分析!G$39,"▲","-")),2)),NA()) -> #N/A | E31: =IF(ROUND(VALUE(SUBSTITUTE(連結実質赤字比率に係る赤字・黒字の構成分析!G$39,"▲","-")),2)>=0,ABS(ROUND(VALUE(SUBSTITUTE(連結実質赤字比率に係る赤字・黒字の構成分析!G$39,"▲","-")),2)),NA()) -> 0.02 | F31: =IF(ROUND(VALUE(SUBSTITUTE(連結実質赤字比率に係る赤字・黒字の構成分析!H$39,"▲","-")),2)<0,ABS(ROUND(VALUE(SUBSTITUTE(連結実質赤字比率に係る赤字・黒字の構成分析!H$39,"▲","-")),2)),NA()) -> #N/A | G31: =IF(ROUND(VALUE(SUBSTITUTE(連結実質赤字比率に係る赤字・黒字の構成分析!H$39,"▲","-")),2)>=0,ABS(ROUND(VALUE(SUBSTITUTE(連結実質赤字比率に係る赤字・黒字の構成分析!H$39,"▲","-")),2)),NA()) -> 0 | H31: =IF(ROUND(VALUE(SUBSTITUTE(連結実質赤字比率に係る赤字・黒字の構成分析!I$39,"▲","-")),2)<0,ABS(ROUND(VALUE(SUBSTITUTE(連結実質赤字比率に係る赤字・黒字の構成分析!I$39,"▲","-")),2)),NA()) -> #N/A | I31: =IF(ROUND(VALUE(SUBSTITUTE(連結実質赤字比率に係る赤字・黒字の構成分析!I$39,"▲","-")),2)>=0,ABS(ROUND(VALUE(SUBSTITUTE(連結実質赤字比率に係る赤字・黒字の構成分析!I$39,"▲","-")),2)),NA()) -> 0.13 | J31: =IF(ROUND(VALUE(SUBSTITUTE(連結実質赤字比率に係る赤字・黒字の構成分析!J$39,"▲","-")),2)<0,ABS(ROUND(VALUE(SUBSTITUTE(連結実質赤字比率に係る赤字・黒字の構成分析!J$39,"▲","-")),2)),NA()) -> #N/A | K31: =IF(ROUND(VALUE(SUBSTITUTE(連結実質赤字比率に係る赤字・黒字の構成分析!J$39,"▲","-")),2)>=0,ABS(ROUND(VALUE(SUBSTITUTE(連結実質赤字比率に係る赤字・黒字の構成分析!J$39,"▲","-")),2)),NA()) -> 0
A32: =IF(連結実質赤字比率に係る赤字・黒字の構成分析!C$38="",NA(),連結実質赤字比率に係る赤字・黒字の構成分析!C$38) -> 国民健康保険特別会計 | B32: =IF(ROUND(VALUE(SUBSTITUTE(連結実質赤字比率に係る赤字・黒字の構成分析!F$38,"▲","-")),2)<0,ABS(ROUND(VALUE(SUBSTITUTE(連結実質赤字比率に係る赤字・黒字の構成分析!F$38,"▲","-")),2)),NA()) -> #N/A | C32: =IF(ROUND(VALUE(SUBSTITUTE(連結実質赤字比率に係る赤字・黒字の構成分析!F$38,"▲","-")),2)>=0,ABS(ROUND(VALUE(SUBSTITUTE(連結実質赤字比率に係る赤字・黒字の構成分析!F$38,"▲","-")),2)),NA()) -> 0.91 | D32: =IF(ROUND(VALUE(SUBSTITUTE(連結実質赤字比率に係る赤字・黒字の構成分析!G$38,"▲","-")),2)<0,ABS(ROUND(VALUE(SUBSTITUTE(連結実質赤字比率に係る赤字・黒字の構成分析!G$38,"▲","-")),2)),NA()) -> #N/A | E32: =IF(ROUND(VALUE(SUBSTITUTE(連結実質赤字比率に係る赤字・黒字の構成分析!G$38,"▲","-")),2)>=0,ABS(ROUND(VALUE(SUBSTITUTE(連結実質赤字比率に係る赤字・黒字の構成分析!G$38,"▲","-")),2)),NA()) -> 1.03 | F32: =IF(ROUND(VALUE(SUBSTITUTE(連結実質赤字比率に係る赤字・黒字の構成分析!H$38,"▲","-")),2)<0,ABS(ROUND(VALUE(SUBSTITUTE(連結実質赤字比率に係る赤字・黒字の構成分析!H$38,"▲","-")),2)),NA()) -> #N/A | G32: =IF(ROUND(VALUE(SUBSTITUTE(連結実質赤字比率に係る赤字・黒字の構成分析!H$38,"▲","-")),2)>=0,ABS(ROUND(VALUE(SUBSTITUTE(連結実質赤字比率に係る赤字・黒字の構成分析!H$38,"▲","-")),2)),NA()) -> 0.49 | H32: =IF(ROUND(VALUE(SUBSTITUTE(連結実質赤字比率に係る赤字・黒字の構成分析!I$38,"▲","-")),2)<0,ABS(ROUND(VALUE(SUBSTITUTE(連結実質赤字比率に係る赤字・黒字の構成分析!I$38,"▲","-")),2)),NA()) -> #N/A | I32: =IF(ROUND(VALUE(SUBSTITUTE(連結実質赤字比率に係る赤字・黒字の構成分析!I$38,"▲","-")),2)>=0,ABS(ROUND(VALUE(SUBSTITUTE(連結実質赤字比率に係る赤字・黒字の構成分析!I$38,"▲","-")),2)),NA()) -> 0.27 | J32: =IF(ROUND(VALUE(SUBSTITUTE(連結実質赤字比率に係る赤字・黒字の構成分析!J$38,"▲","-")),2)<0,ABS(ROUND(VALUE(SUBSTITUTE(連結実質赤字比率に係る赤字・黒字の構成分析!J$38,"▲","-")),2)),NA()) -> #N/A | K32: =IF(ROUND(VALUE(SUBSTITUTE(連結実質赤字比率に係る赤字・黒字の構成分析!J$38,"▲","-")),2)>=0,ABS(ROUND(VALUE(SUBSTITUTE(連結実質赤字比率に係る赤字・黒字の構成分析!J$38,"▲","-")),2)),NA()) -> 0.23
A33: =IF(連結実質赤字比率に係る赤字・黒字の構成分析!C$37="",NA(),連結実質赤字比率に係る赤字・黒字の構成分析!C$37) -> 病院事業会計 | B33: =IF(ROUND(VALUE(SUBSTITUTE(連結実質赤字比率に係る赤字・黒字の構成分析!F$37,"▲","-")),2)<0,ABS(ROUND(VALUE(SUBSTITUTE(連結実質赤字比率に係る赤字・黒字の構成分析!F$37,"▲","-")),2)),NA()) -> #N/A | C33: =IF(ROUND(VALUE(SUBSTITUTE(連結実質赤字比率に係る赤字・黒字の構成分析!F$37,"▲","-")),2)>=0,ABS(ROUND(VALUE(SUBSTITUTE(連結実質赤字比率に係る赤字・黒字の構成分析!F$37,"▲","-")),2)),NA()) -> 0.86 | D33: =IF(ROUND(VALUE(SUBSTITUTE(連結実質赤字比率に係る赤字・黒字の構成分析!G$37,"▲","-")),2)<0,ABS(ROUND(VALUE(SUBSTITUTE(連結実質赤字比率に係る赤字・黒字の構成分析!G$37,"▲","-")),2)),NA()) -> #N/A | E33: =IF(ROUND(VALUE(SUBSTITUTE(連結実質赤字比率に係る赤字・黒字の構成分析!G$37,"▲","-")),2)>=0,ABS(ROUND(VALUE(SUBSTITUTE(連結実質赤字比率に係る赤字・黒字の構成分析!G$37,"▲","-")),2)),NA()) -> 0.77 | F33: =IF(ROUND(VALUE(SUBSTITUTE(連結実質赤字比率に係る赤字・黒字の構成分析!H$37,"▲","-")),2)<0,ABS(ROUND(VALUE(SUBSTITUTE(連結実質赤字比率に係る赤字・黒字の構成分析!H$37,"▲","-")),2)),NA()) -> #N/A | G33: =IF(ROUND(VALUE(SUBSTITUTE(連結実質赤字比率に係る赤字・黒字の構成分析!H$37,"▲","-")),2)>=0,ABS(ROUND(VALUE(SUBSTITUTE(連結実質赤字比率に係る赤字・黒字の構成分析!H$37,"▲","-")),2)),NA()) -> 0.58 | H33: =IF(ROUND(VALUE(SUBSTITUTE(連結実質赤字比率に係る赤字・黒字の構成分析!I$37,"▲","-")),2)<0,ABS(ROUND(VALUE(SUBSTITUTE(連結実質赤字比率に係る赤字・黒字の構成分析!I$37,"▲","-")),2)),NA()) -> #N/A | I33: =IF(ROUND(VALUE(SUBSTITUTE(連結実質赤字比率に係る赤字・黒字の構成分析!I$37,"▲","-")),2)>=0,ABS(ROUND(VALUE(SUBSTITUTE(連結実質赤字比率に係る赤字・黒字の構成分析!I$37,"▲","-")),2)),NA()) -> 0.54 | J33: =IF(ROUND(VALUE(SUBSTITUTE(連結実質赤字比率に係る赤字・黒字の構成分析!J$37,"▲","-")),2)<0,ABS(ROUND(VALUE(SUBSTITUTE(連結実質赤字比率に係る赤字・黒字の構成分析!J$37,"▲","-")),2)),NA()) -> #N/A | K33: =IF(ROUND(VALUE(SUBSTITUTE(連結実質赤字比率に係る赤字・黒字の構成分析!J$37,"▲","-")),2)>=0,ABS(ROUND(VALUE(SUBSTITUTE(連結実質赤字比率に係る赤字・黒字の構成分析!J$37,"▲","-")),2)),NA()) -> 0.38
A34: =IF(連結実質赤字比率に係る赤字・黒字の構成分析!C$36="",NA(),連結実質赤字比率に係る赤字・黒字の構成分析!C$36) -> 介護保険特別会計 | B34: =IF(ROUND(VALUE(SUBSTITUTE(連結実質赤字比率に係る赤字・黒字の構成分析!F$36,"▲","-")),2)<0,ABS(ROUND(VALUE(SUBSTITUTE(連結実質赤字比率に係る赤字・黒字の構成分析!F$36,"▲","-")),2)),NA()) -> #N/A | C34: =IF(ROUND(VALUE(SUBSTITUTE(連結実質赤字比率に係る赤字・黒字の構成分析!F$36,"▲","-")),2)>=0,ABS(ROUND(VALUE(SUBSTITUTE(連結実質赤字比率に係る赤字・黒字の構成分析!F$36,"▲","-")),2)),NA()) -> 0.54 | D34: =IF(ROUND(VALUE(SUBSTITUTE(連結実質赤字比率に係る赤字・黒字の構成分析!G$36,"▲","-")),2)<0,ABS(ROUND(VALUE(SUBSTITUTE(連結実質赤字比率に係る赤字・黒字の構成分析!G$36,"▲","-")),2)),NA()) -> #N/A | E34: =IF(ROUND(VALUE(SUBSTITUTE(連結実質赤字比率に係る赤字・黒字の構成分析!G$36,"▲","-")),2)>=0,ABS(ROUND(VALUE(SUBSTITUTE(連結実質赤字比率に係る赤字・黒字の構成分析!G$36,"▲","-")),2)),NA()) -> 0.74 | F34: =IF(ROUND(VALUE(SUBSTITUTE(連結実質赤字比率に係る赤字・黒字の構成分析!H$36,"▲","-")),2)<0,ABS(ROUND(VALUE(SUBSTITUTE(連結実質赤字比率に係る赤字・黒字の構成分析!H$36,"▲","-")),2)),NA()) -> #N/A | G34: =IF(ROUND(VALUE(SUBSTITUTE(連結実質赤字比率に係る赤字・黒字の構成分析!H$36,"▲","-")),2)>=0,ABS(ROUND(VALUE(SUBSTITUTE(連結実質赤字比率に係る赤字・黒字の構成分析!H$36,"▲","-")),2)),NA()) -> 0.54 | H34: =IF(ROUND(VALUE(SUBSTITUTE(連結実質赤字比率に係る赤字・黒字の構成分析!I$36,"▲","-")),2)<0,ABS(ROUND(VALUE(SUBSTITUTE(連結実質赤字比率に係る赤字・黒字の構成分析!I$36,"▲","-")),2)),NA()) -> #N/A | I34: =IF(ROUND(VALUE(SUBSTITUTE(連結実質赤字比率に係る赤字・黒字の構成分析!I$36,"▲","-")),2)>=0,ABS(ROUND(VALUE(SUBSTITUTE(連結実質赤字比率に係る赤字・黒字の構成分析!I$36,"▲","-")),2)),NA()) -> 0.56 | J34: =IF(ROUND(VALUE(SUBSTITUTE(連結実質赤字比率に係る赤字・黒字の構成分析!J$36,"▲","-")),2)<0,ABS(ROUND(VALUE(SUBSTITUTE(連結実質赤字比率に係る赤字・黒字の構成分析!J$36,"▲","-")),2)),NA()) -> #N/A | K34: =IF(ROUND(VALUE(SUBSTITUTE(連結実質赤字比率に係る赤字・黒字の構成分析!J$36,"▲","-")),2)>=0,ABS(ROUND(VALUE(SUBSTITUTE(連結実質赤字比率に係る赤字・黒字の構成分析!J$36,"▲","-")),2)),NA()) -> 0.59
A35: =IF(連結実質赤字比率に係る赤字・黒字の構成分析!C$35="",NA(),連結実質赤字比率に係る赤字・黒字の構成分析!C$35) -> 下水道事業会計 | B35: =IF(ROUND(VALUE(SUBSTITUTE(連結実質赤字比率に係る赤字・黒字の構成分析!F$35,"▲","-")),2)<0,ABS(ROUND(VALUE(SUBSTITUTE(連結実質赤字比率に係る赤字・黒字の構成分析!F$35,"▲","-")),2)),NA()) -> #N/A | C35: =IF(ROUND(VALUE(SUBSTITUTE(連結実質赤字比率に係る赤字・黒字の構成分析!F$35,"▲","-")),2)>=0,ABS(ROUND(VALUE(SUBSTITUTE(連結実質赤字比率に係る赤字・黒字の構成分析!F$35,"▲","-")),2)),NA()) -> 0.6 | D35: =IF(ROUND(VALUE(SUBSTITUTE(連結実質赤字比率に係る赤字・黒字の構成分析!G$35,"▲","-")),2)<0,ABS(ROUND(VALUE(SUBSTITUTE(連結実質赤字比率に係る赤字・黒字の構成分析!G$35,"▲","-")),2)),NA()) -> #N/A | E35: =IF(ROUND(VALUE(SUBSTITUTE(連結実質赤字比率に係る赤字・黒字の構成分析!G$35,"▲","-")),2)>=0,ABS(ROUND(VALUE(SUBSTITUTE(連結実質赤字比率に係る赤字・黒字の構成分析!G$35,"▲","-")),2)),NA()) -> 1.76 | F35: =IF(ROUND(VALUE(SUBSTITUTE(連結実質赤字比率に係る赤字・黒字の構成分析!H$35,"▲","-")),2)<0,ABS(ROUND(VALUE(SUBSTITUTE(連結実質赤字比率に係る赤字・黒字の構成分析!H$35,"▲","-")),2)),NA()) -> #N/A | G35: =IF(ROUND(VALUE(SUBSTITUTE(連結実質赤字比率に係る赤字・黒字の構成分析!H$35,"▲","-")),2)>=0,ABS(ROUND(VALUE(SUBSTITUTE(連結実質赤字比率に係る赤字・黒字の構成分析!H$35,"▲","-")),2)),NA()) -> 3.58 | H35: =IF(ROUND(VALUE(SUBSTITUTE(連結実質赤字比率に係る赤字・黒字の構成分析!I$35,"▲","-")),2)<0,ABS(ROUND(VALUE(SUBSTITUTE(連結実質赤字比率に係る赤字・黒字の構成分析!I$35,"▲","-")),2)),NA()) -> #N/A | I35: =IF(ROUND(VALUE(SUBSTITUTE(連結実質赤字比率に係る赤字・黒字の構成分析!I$35,"▲","-")),2)>=0,ABS(ROUND(VALUE(SUBSTITUTE(連結実質赤字比率に係る赤字・黒字の構成分析!I$35,"▲","-")),2)),NA()) -> 4.2 | J35: =IF(ROUND(VALUE(SUBSTITUTE(連結実質赤字比率に係る赤字・黒字の構成分析!J$35,"▲","-")),2)<0,ABS(ROUND(VALUE(SUBSTITUTE(連結実質赤字比率に係る赤字・黒字の構成分析!J$35,"▲","-")),2)),NA()) -> #N/A | K35: =IF(ROUND(VALUE(SUBSTITUTE(連結実質赤字比率に係る赤字・黒字の構成分析!J$35,"▲","-")),2)>=0,ABS(ROUND(VALUE(SUBSTITUTE(連結実質赤字比率に係る赤字・黒字の構成分析!J$35,"▲","-")),2)),NA()) -> 4.27
A36: =IF(連結実質赤字比率に係る赤字・黒字の構成分析!C$34="",NA(),連結実質赤字比率に係る赤字・黒字の構成分析!C$34) -> 一般会計 | B36: =IF(ROUND(VALUE(SUBSTITUTE(連結実質赤字比率に係る赤字・黒字の構成分析!F$34,"▲","-")),2)<0,ABS(ROUND(VALUE(SUBSTITUTE(連結実質赤字比率に係る赤字・黒字の構成分析!F$34,"▲","-")),2)),NA()) -> #N/A | C36: =IF(ROUND(VALUE(SUBSTITUTE(連結実質赤字比率に係る赤字・黒字の構成分析!F$34,"▲","-")),2)>=0,ABS(ROUND(VALUE(SUBSTITUTE(連結実質赤字比率に係る赤字・黒字の構成分析!F$34,"▲","-")),2)),NA()) -> 4.46 | D36: =IF(ROUND(VALUE(SUBSTITUTE(連結実質赤字比率に係る赤字・黒字の構成分析!G$34,"▲","-")),2)<0,ABS(ROUND(VALUE(SUBSTITUTE(連結実質赤字比率に係る赤字・黒字の構成分析!G$34,"▲","-")),2)),NA()) -> #N/A | E36: =IF(ROUND(VALUE(SUBSTITUTE(連結実質赤字比率に係る赤字・黒字の構成分析!G$34,"▲","-")),2)>=0,ABS(ROUND(VALUE(SUBSTITUTE(連結実質赤字比率に係る赤字・黒字の構成分析!G$34,"▲","-")),2)),NA()) -> 5.35 | F36: =IF(ROUND(VALUE(SUBSTITUTE(連結実質赤字比率に係る赤字・黒字の構成分析!H$34,"▲","-")),2)<0,ABS(ROUND(VALUE(SUBSTITUTE(連結実質赤字比率に係る赤字・黒字の構成分析!H$34,"▲","-")),2)),NA()) -> #N/A | G36: =IF(ROUND(VALUE(SUBSTITUTE(連結実質赤字比率に係る赤字・黒字の構成分析!H$34,"▲","-")),2)>=0,ABS(ROUND(VALUE(SUBSTITUTE(連結実質赤字比率に係る赤字・黒字の構成分析!H$34,"▲","-")),2)),NA()) -> 5.12 | H36: =IF(ROUND(VALUE(SUBSTITUTE(連結実質赤字比率に係る赤字・黒字の構成分析!I$34,"▲","-")),2)<0,ABS(ROUND(VALUE(SUBSTITUTE(連結実質赤字比率に係る赤字・黒字の構成分析!I$34,"▲","-")),2)),NA()) -> #N/A | I36: =IF(ROUND(VALUE(SUBSTITUTE(連結実質赤字比率に係る赤字・黒字の構成分析!I$34,"▲","-")),2)>=0,ABS(ROUND(VALUE(SUBSTITUTE(連結実質赤字比率に係る赤字・黒字の構成分析!I$34,"▲","-")),2)),NA()) -> 4.79 | J36: =IF(ROUND(VALUE(SUBSTITUTE(連結実質赤字比率に係る赤字・黒字の構成分析!J$34,"▲","-")),2)<0,ABS(ROUND(VALUE(SUBSTITUTE(連結実質赤字比率に係る赤字・黒字の構成分析!J$34,"▲","-")),2)),NA()) -> #N/A | K36: =IF(ROUND(VALUE(SUBSTITUTE(連結実質赤字比率に係る赤字・黒字の構成分析!J$34,"▲","-")),2)>=0,ABS(ROUND(VALUE(SUBSTITUTE(連結実質赤字比率に係る赤字・黒字の構成分析!J$34,"▲","-")),2)),NA()) -> 4.82
A39: 実質公債費比率（分子）の構造
B40: ='実質公債費比率（分子）の構造'!K$44 -> R02 | E40: ='実質公債費比率（分子）の構造'!L$44 -> R03 | H40: ='実質公債費比率（分子）の構造'!M$44 -> R04 | K40: ='実質公債費比率（分子）の構造'!N$44 -> R05 | N40: ='実質公債費比率（分子）の構造'!O$44 -> R06
B41: 元利償還金等 | D41: 算入公債費等 | E41: 元利償還金等 | G41: 算入公債費等 | H41: 元利償還金等 | J41: 算入公債費等 | K41: 元利償還金等 | M41: 算入公債費等 | N41: 元利償還金等 | P41: 算入公債費等
A42: 算入公債費等 | D42: ='実質公債費比率（分子）の構造'!K$52 -> 1728 | G42: ='実質公債費比率（分子）の構造'!L$52 -> 1677 | J42: ='実質公債費比率（分子）の構造'!M$52 -> 1642 | M42: ='実質公債費比率（分子）の構造'!N$52 -> 1646 | P42: ='実質公債費比率（分子）の構造'!O$52 -> 1522
A43: 一時借入金の利子 | B43: ='実質公債費比率（分子）の構造'!K$51 -> - | E43: ='実質公債費比率（分子）の構造'!L$51 -> - | H43: ='実質公債費比率（分子）の構造'!M$51 -> - | K43: ='実質公債費比率（分子）の構造'!N$51 -> - | N43: ='実質公債費比率（分子）の構造'!O$51 -> -
A44: 債務負担行為に基づく支出額 | B44: ='実質公債費比率（分子）の構造'!K$50 -> - | E44: ='実質公債費比率（分子）の構造'!L$50 -> - | H44: ='実質公債費比率（分子）の構造'!M$50 -> - | K44: ='実質公債費比率（分子）の構造'!N$50 -> - | N44: ='実質公債費比率（分子）の構造'!O$50 -> -
A45: 組合等が起こした地方債の元利償還金に対する負担金等 | B45: ='実質公債費比率（分子）の構造'!K$49 -> 10 | E45: ='実質公債費比率（分子）の構造'!L$49 -> 8 | H45: ='実質公債費比率（分子）の構造'!M$49 -> 7 | K45: ='実質公債費比率（分子）の構造'!N$49 -> 7 | N45: ='実質公債費比率（分子）の構造'!O$49 -> 6
A46: 公営企業債の元利償還金に対する繰入金 | B46: ='実質公債費比率（分子）の構造'!K$48 -> 1168 | E46: ='実質公債費比率（分子）の構造'!L$48 -> 1070 | H46: ='実質公債費比率（分子）の構造'!M$48 -> 1030 | K46: ='実質公債費比率（分子）の構造'!N$48 -> 1093 | N46: ='実質公債費比率（分子）の構造'!O$48 -> 974
A47: 満期一括償還地方債に係る年度割相当額 | B47: ='実質公債費比率（分子）の構造'!K$47 -> - | E47: ='実質公債費比率（分子）の構造'!L$47 -> - | H47: ='実質公債費比率（分子）の構造'!M$47 -> - | K47: ='実質公債費比率（分子）の構造'!N$47 -> - | N47: ='実質公債費比率（分子）の構造'!O$47 -> -
...

Sheet 公会計指標分析・財政指標組合せ分析表
B41: 将来負担比率及び有形固定資産減価償却率の組合せによる分析
AN42: 分析欄
AN43: 将来負担比率、有形固定資産減価償却率とも類似団体より高い水準である。これは、類似団体と比較して、過去に実施した事業のために借入れた市債残高が多額であり、さらに公共施設の老朽化が進行していることを意味する。しかしながら、行財政健全化計画のもと、市債の発行抑制を行い、将来負担比率は減少傾向にある。 公共施設の老朽化対策については、公共施設等総合管理計画に基づき、各施設の更新や長寿命化を図り、数値の改善に努める。
AN49: ( 参考 ）
BP50: R02 | BX50: R03 | CF50: R04 | CN50: R05 | CV50: R06
AN51: 当該団体値 | BB51: 将来負担比率 | BP51: 82.4 | BX51: 66.7 | CF51: 57.3 | CN51: 62.2 | CV51: 49.4
BB53: 有形固定資産減価償却率 | BP53: 66.3 | BX53: 68.1 | CF53: 69 | CN53: 70.7 | CV53: 71.9
AN55: 類似団体内平均値 | BB55: 将来負担比率 | BP55: 37.3 | BX55: 23 | CF55: 15.9 | CN55: 13 | CV55: 12.6
BB57: 有形固定資産減価償却率 | BP57: 62 | BX57: 62.8 | CF57: 64 | CN57: 64.7 | CV57: 65.8
B63: 将来負担比率及び実質公債費比率の組合せによる分析
AN64: 分析欄
AN65: 将来負担比率、実質公債費比率とも類似団体より高い水準である。これは平成25年度から平成27年度にかけて行った文化会館建設事業の財源として借入れた市債やその償還にかかる公債費の増加が主因である。 現在は、行財政健全化計画のもと、投資的経費の平準化等による市債の発行抑制を行い、数値は改善している。
AN71: ( 参考 ）
BP72: R02 | BX72: R03 | CF72: R04 | CN72: R05 | CV72: R06
AN73: 当該団体値 | BB73: 将来負担比率 | BP73: 82.4 | BX73: 66.7 | CF73: 57.3 | CN73: 62.2 | CV73: 49.4
BB75: 実質公債費比率 | BP75: 14.5 | BX75: 14 | CF75: 12.6 | CN75: 11.1 | CV75: 10
AN77: 類似団体内平均値 | BB77: 将来負担比率 | BP77: 37.3 | BX77: 23 | CF77: 15.9 | CN77: 13 | CV77: 12.6
BB79: 実質公債費比率 | BP79: 8.6 | BX79: 8.2 | CF79: 8 | CN79: 8.2 | CV79: 8.2

Sheet 施設類型別ストック情報分析表①

Sheet 施設類型別ストック情報分析表②
